Back to Multiple platform build/check report for BioC 3.12
AB[C]DEFGHIJKLMNOPQRSTUVWXYZ

BUILD BIN report for ccrepe on merida1

This page was generated on 2021-01-22 11:57:53 -0500 (Fri, 22 Jan 2021).

TO THE DEVELOPERS/MAINTAINERS OF THE ccrepe PACKAGE: Please make sure to use the following settings in order to reproduce any error or warning you see on this page.
Package 246/1974HostnameOS / ArchINSTALLBUILDCHECKBUILD BIN
ccrepe 1.26.0
Emma Schwager ,Craig Bielski, George Weingart
Snapshot Date: 2021-01-21 14:42:12 -0500 (Thu, 21 Jan 2021)
URL: https://git.bioconductor.org/packages/ccrepe
Branch: RELEASE_3_12
Last Commit: 718ab4b
Last Changed Date: 2020-10-27 10:54:07 -0500 (Tue, 27 Oct 2020)
malbec1 Linux (Ubuntu 18.04.5 LTS) / x86_64  OK  OK  OK UNNEEDED, same version exists in internal repository
nebbiolo1 Linux (Ubuntu 20.04.1 LTS) / x86_64  OK  OK  OK 
tokay1 Windows Server 2012 R2 Standard / x64  OK  OK  OK  OK UNNEEDED, same version exists in internal repository
merida1 macOS 10.14.6 Mojave / x86_64  OK  OK  OK [ OK ]UNNEEDED, same version exists in internal repository

Summary

Package: ccrepe
Version: 1.26.0
Command: rm -rf ccrepe.buildbin-libdir && mkdir ccrepe.buildbin-libdir && /Users/biocbuild/BBS/utils/build-universal.sh ccrepe_1.26.0.tar.gz /Library/Frameworks/R.framework/Versions/Current/Resources/bin/R ccrepe.buildbin-libdir
StartedAt: 2021-01-22 07:14:51 -0500 (Fri, 22 Jan 2021)
EndedAt: 2021-01-22 07:15:57 -0500 (Fri, 22 Jan 2021)
EllapsedTime: 66.1 seconds
RetCode: 0
Status:  OK 
PackageFile: ccrepe_1.26.0.tgz
PackageFileSize: 348.4 KiB

Command output

##############################################################################
##############################################################################
###
### Running command:
###
###   rm -rf ccrepe.buildbin-libdir && mkdir ccrepe.buildbin-libdir && /Users/biocbuild/BBS/utils/build-universal.sh ccrepe_1.26.0.tar.gz /Library/Frameworks/R.framework/Versions/Current/Resources/bin/R ccrepe.buildbin-libdir
###
##############################################################################
##############################################################################


>>>>>>> 
>>>>>>> INSTALLATION WITH 'R CMD INSTALL --preclean --no-multiarch --library=ccrepe.buildbin-libdir ccrepe_1.26.0.tar.gz'
>>>>>>> 

* installing *source* package ‘ccrepe’ ...
** using staged installation
** R
** inst
** byte-compile and prepare package for lazy loading
** help
*** installing help indices
** building package indices
** installing vignettes
** testing if installed package can be loaded from temporary location
** testing if installed package can be loaded from final location
** testing if installed package keeps a record of temporary installation path
* DONE (ccrepe)