Back to Multiple platform build/check report for BioC 3.12
[A]BCDEFGHIJKLMNOPQRSTUVWXYZ

INSTALL report for AlphaBeta on malbec1

This page was generated on 2020-08-06 11:46:06 -0400 (Thu, 06 Aug 2020).

TO THE DEVELOPERS/MAINTAINERS OF THE AlphaBeta PACKAGE: Please make sure to use the following settings in order to reproduce any error or warning you see on this page.
Package 43/1882HostnameOS / ArchINSTALLBUILDCHECKBUILD BIN
AlphaBeta 1.3.3
Yadollah Shahryary Dizaji
Snapshot Date: 2020-08-05 14:50:59 -0400 (Wed, 05 Aug 2020)
URL: https://git.bioconductor.org/packages/AlphaBeta
Branch: master
Last Commit: 3497a14
Last Changed Date: 2020-06-06 09:46:58 -0400 (Sat, 06 Jun 2020)
malbec1 Linux (Ubuntu 18.04.4 LTS) / x86_64 [ OK ] OK  OK UNNEEDED, same version exists in internal repository
tokay1 Windows Server 2012 R2 Standard / x64  OK  OK  OK  OK UNNEEDED, same version exists in internal repository
merida1 macOS 10.14.6 Mojave / x86_64  OK  OK  OK  OK UNNEEDED, same version exists in internal repository

Summary

Package: AlphaBeta
Version: 1.3.3
Command: /home/biocbuild/bbs-3.12-bioc/R/bin/R CMD INSTALL AlphaBeta
StartedAt: 2020-08-05 16:39:26 -0400 (Wed, 05 Aug 2020)
EndedAt: 2020-08-05 16:39:40 -0400 (Wed, 05 Aug 2020)
EllapsedTime: 14.5 seconds
RetCode: 0
Status:  OK 

Command output

##############################################################################
##############################################################################
###
### Running command:
###
###   /home/biocbuild/bbs-3.12-bioc/R/bin/R CMD INSTALL AlphaBeta
###
##############################################################################
##############################################################################


* installing to library ‘/home/biocbuild/bbs-3.12-bioc/R/library’
* installing *source* package ‘AlphaBeta’ ...
** using staged installation
** R
** inst
** byte-compile and prepare package for lazy loading
** help
*** installing help indices
** building package indices
** installing vignettes
** testing if installed package can be loaded from temporary location
** testing if installed package can be loaded from final location
** testing if installed package keeps a record of temporary installation path
* DONE (AlphaBeta)