Back to Multiple platform build/check report for BioC 3.12
[A]BCDEFGHIJKLMNOPQRSTUVWXYZ

INSTALL report for ArrayTV on tokay1

This page was generated on 2020-08-07 12:02:55 -0400 (Fri, 07 Aug 2020).

TO THE DEVELOPERS/MAINTAINERS OF THE ArrayTV PACKAGE: Please make sure to use the following settings in order to reproduce any error or warning you see on this page.
Package 81/1882HostnameOS / ArchINSTALLBUILDCHECKBUILD BIN
ArrayTV 1.27.1
Eitan Halper-Stromberg
Snapshot Date: 2020-08-06 14:50:46 -0400 (Thu, 06 Aug 2020)
URL: https://git.bioconductor.org/packages/ArrayTV
Branch: master
Last Commit: 2629952
Last Changed Date: 2020-06-08 09:58:02 -0400 (Mon, 08 Jun 2020)
malbec1 Linux (Ubuntu 18.04.4 LTS) / x86_64  OK  ERROR  skipped 
tokay1 Windows Server 2012 R2 Standard / x64 [ OK ] ERROR  skipped  skipped 
merida1 macOS 10.14.6 Mojave / x86_64  OK  ERROR  skipped  skipped 

Summary

Package: ArrayTV
Version: 1.27.1
Command: C:\cygwin\bin\curl.exe -O https://malbec1.bioconductor.org/BBS/3.12/bioc/src/contrib/ArrayTV_1.27.1.tar.gz && rm -rf ArrayTV.buildbin-libdir && mkdir ArrayTV.buildbin-libdir && C:\Users\biocbuild\bbs-3.12-bioc\R\bin\R.exe CMD INSTALL --merge-multiarch --build --library=ArrayTV.buildbin-libdir ArrayTV_1.27.1.tar.gz && C:\Users\biocbuild\bbs-3.12-bioc\R\bin\R.exe CMD INSTALL ArrayTV_1.27.1.zip && rm ArrayTV_1.27.1.tar.gz ArrayTV_1.27.1.zip
StartedAt: 2020-08-06 17:52:50 -0400 (Thu, 06 Aug 2020)
EndedAt: 2020-08-06 17:53:36 -0400 (Thu, 06 Aug 2020)
EllapsedTime: 46.2 seconds
RetCode: 0
Status:  OK  

Command output

##############################################################################
##############################################################################
###
### Running command:
###
###   C:\cygwin\bin\curl.exe -O https://malbec1.bioconductor.org/BBS/3.12/bioc/src/contrib/ArrayTV_1.27.1.tar.gz && rm -rf ArrayTV.buildbin-libdir && mkdir ArrayTV.buildbin-libdir && C:\Users\biocbuild\bbs-3.12-bioc\R\bin\R.exe CMD INSTALL --merge-multiarch --build --library=ArrayTV.buildbin-libdir ArrayTV_1.27.1.tar.gz && C:\Users\biocbuild\bbs-3.12-bioc\R\bin\R.exe CMD INSTALL ArrayTV_1.27.1.zip && rm ArrayTV_1.27.1.tar.gz ArrayTV_1.27.1.zip
###
##############################################################################
##############################################################################


  % Total    % Received % Xferd  Average Speed   Time    Time     Time  Current
                                 Dload  Upload   Total   Spent    Left  Speed

  0     0    0     0    0     0      0      0 --:--:-- --:--:-- --:--:--     0
100 2101k  100 2101k    0     0  32.8M      0 --:--:-- --:--:-- --:--:-- 34.7M

install for i386

* installing *source* package 'ArrayTV' ...
** using staged installation
** R
** inst
** byte-compile and prepare package for lazy loading
** help
*** installing help indices
  converting help for package 'ArrayTV'
    finding HTML links ... done
    ArrayTV-package                         html  
    gcCorrect-methods                       html  
    finding level-2 HTML links ... done

    gcCorrectMain                           html  
    methods-computeGC                       html  
** building package indices
** installing vignettes
** testing if installed package can be loaded from temporary location
Warning: Package 'ArrayTV' is deprecated and will be removed from Bioconductor
  version 3.13
** testing if installed package can be loaded from final location
Warning: Package 'ArrayTV' is deprecated and will be removed from Bioconductor
  version 3.13
** testing if installed package keeps a record of temporary installation path

install for x64

* installing *source* package 'ArrayTV' ...
** testing if installed package can be loaded
Warning: Package 'ArrayTV' is deprecated and will be removed from Bioconductor
  version 3.13
* MD5 sums
packaged installation of 'ArrayTV' as ArrayTV_1.27.1.zip
* DONE (ArrayTV)
* installing to library 'C:/Users/biocbuild/bbs-3.12-bioc/R/library'
package 'ArrayTV' successfully unpacked and MD5 sums checked