Back to Multiple platform build/check report for BioC 3.12
ABCDE[F]GHIJKLMNOPQRSTUVWXYZ

BUILD report for flowTrans on malbec1

This page was generated on 2021-04-22 12:27:37 -0400 (Thu, 22 Apr 2021).

To the developers/maintainers of the flowTrans package:
Please make sure to use the following settings in order to reproduce any error or warning you see on this page.
Package 636/1974HostnameOS / ArchINSTALLBUILDCHECKBUILD BIN
flowTrans 1.42.0  (landing page)
Greg Finak
Snapshot Date: 2021-04-21 14:50:06 -0400 (Wed, 21 Apr 2021)
URL: https://git.bioconductor.org/packages/flowTrans
Branch: RELEASE_3_12
Last Commit: b7efe1a
Last Changed Date: 2020-10-27 10:38:16 -0400 (Tue, 27 Oct 2020)
malbec1Linux (Ubuntu 18.04.5 LTS) / x86_64  OK    OK    OK  UNNEEDED, same version exists in internal repository
tokay1Windows Server 2012 R2 Standard / x64  OK    OK    OK    OK  UNNEEDED, same version exists in internal repository
merida1macOS 10.14.6 Mojave / x86_64  OK    OK    OK    OK  UNNEEDED, same version exists in internal repository

Summary

Package: flowTrans
Version: 1.42.0
Command: /home/biocbuild/bbs-3.12-bioc/R/bin/R CMD build --keep-empty-dirs --no-resave-data flowTrans
StartedAt: 2021-04-21 19:14:07 -0400 (Wed, 21 Apr 2021)
EndedAt: 2021-04-21 19:14:26 -0400 (Wed, 21 Apr 2021)
EllapsedTime: 18.4 seconds
RetCode: 0
Status:   OK  
PackageFile: flowTrans_1.42.0.tar.gz
PackageFileSize: 433 KiB

Command output

##############################################################################
##############################################################################
###
### Running command:
###
###   /home/biocbuild/bbs-3.12-bioc/R/bin/R CMD build --keep-empty-dirs --no-resave-data flowTrans
###
##############################################################################
##############################################################################


* checking for file ‘flowTrans/DESCRIPTION’ ... OK
* preparing ‘flowTrans’:
* checking DESCRIPTION meta-information ... OK
* installing the package to build vignettes
* creating vignettes ... OK
* checking for LF line-endings in source and make files and shell scripts
* checking for empty or unneeded directories
* building ‘flowTrans_1.42.0.tar.gz’