Back to Multiple platform build/check report for BioC 3.12
AB[C]DEFGHIJKLMNOPQRSTUVWXYZ

INSTALL report for cghMCR on tokay1

This page was generated on 2020-10-29 12:25:05 -0400 (Thu, 29 Oct 2020).

TO THE DEVELOPERS/MAINTAINERS OF THE cghMCR PACKAGE: Please make sure to use the following settings in order to reproduce any error or warning you see on this page.
Package 270/1974HostnameOS / ArchINSTALLBUILDCHECKBUILD BIN
cghMCR 1.48.0
J. Zhang
Snapshot Date: 2020-10-28 14:42:40 -0400 (Wed, 28 Oct 2020)
URL: https://git.bioconductor.org/packages/cghMCR
Branch: RELEASE_3_12
Last Commit: 5b6061f
Last Changed Date: 2020-10-27 10:28:30 -0400 (Tue, 27 Oct 2020)
malbec1 Linux (Ubuntu 18.04.4 LTS) / x86_64  OK  OK  WARNINGS UNNEEDED, same version exists in internal repository
nebbiolo1 Linux (Ubuntu 20.04.1 LTS) / x86_64  OK  OK  WARNINGS 
tokay1 Windows Server 2012 R2 Standard / x64 [ OK ] OK  WARNINGS  OK UNNEEDED, same version exists in internal repository
merida1 macOS 10.14.6 Mojave / x86_64  OK  OK  WARNINGS  OK UNNEEDED, same version exists in internal repository

Summary

Package: cghMCR
Version: 1.48.0
Command: C:\cygwin\bin\curl.exe -O https://malbec1.bioconductor.org/BBS/3.12/bioc/src/contrib/cghMCR_1.48.0.tar.gz && rm -rf cghMCR.buildbin-libdir && mkdir cghMCR.buildbin-libdir && C:\Users\biocbuild\bbs-3.12-bioc\R\bin\R.exe CMD INSTALL --merge-multiarch --build --library=cghMCR.buildbin-libdir cghMCR_1.48.0.tar.gz && C:\Users\biocbuild\bbs-3.12-bioc\R\bin\R.exe CMD INSTALL cghMCR_1.48.0.zip && rm cghMCR_1.48.0.tar.gz cghMCR_1.48.0.zip
StartedAt: 2020-10-28 18:22:24 -0400 (Wed, 28 Oct 2020)
EndedAt: 2020-10-28 18:24:01 -0400 (Wed, 28 Oct 2020)
EllapsedTime: 97.8 seconds
RetCode: 0
Status:  OK  

Command output

##############################################################################
##############################################################################
###
### Running command:
###
###   C:\cygwin\bin\curl.exe -O https://malbec1.bioconductor.org/BBS/3.12/bioc/src/contrib/cghMCR_1.48.0.tar.gz && rm -rf cghMCR.buildbin-libdir && mkdir cghMCR.buildbin-libdir && C:\Users\biocbuild\bbs-3.12-bioc\R\bin\R.exe CMD INSTALL --merge-multiarch --build --library=cghMCR.buildbin-libdir cghMCR_1.48.0.tar.gz && C:\Users\biocbuild\bbs-3.12-bioc\R\bin\R.exe CMD INSTALL cghMCR_1.48.0.zip && rm cghMCR_1.48.0.tar.gz cghMCR_1.48.0.zip
###
##############################################################################
##############################################################################


  % Total    % Received % Xferd  Average Speed   Time    Time     Time  Current
                                 Dload  Upload   Total   Spent    Left  Speed

  0     0    0     0    0     0      0      0 --:--:-- --:--:-- --:--:--     0
100 36.5M  100 36.5M    0     0  76.7M      0 --:--:-- --:--:-- --:--:-- 77.3M

install for i386

* installing *source* package 'cghMCR' ...
** using staged installation
** R
** data
** inst
** byte-compile and prepare package for lazy loading
** help
*** installing help indices
  converting help for package 'cghMCR'
    finding HTML links ... done
    SGOL-class                              html  
    cghMCR-class                            html  
    cghMCR                                  html  
    mergeMCRProbes                          html  
    methods                                 html  
    plot.DNAcopy                            html  
** building package indices
** installing vignettes
** testing if installed package can be loaded from temporary location
** testing if installed package can be loaded from final location
** testing if installed package keeps a record of temporary installation path

install for x64

* installing *source* package 'cghMCR' ...
** testing if installed package can be loaded
* MD5 sums
packaged installation of 'cghMCR' as cghMCR_1.48.0.zip
* DONE (cghMCR)
* installing to library 'C:/Users/biocbuild/bbs-3.12-bioc/R/library'
package 'cghMCR' successfully unpacked and MD5 sums checked