Back to Multiple platform build/check report for BioC 3.12
[A]BCDEFGHIJKLMNOPQRSTUVWXYZ

BUILD report for a4Reporting on tokay1

This page was generated on 2020-09-19 10:19:11 -0400 (Sat, 19 Sep 2020).

TO THE DEVELOPERS/MAINTAINERS OF THE a4Reporting PACKAGE: Please make sure to use the following settings in order to reproduce any error or warning you see on this page.
Package 6/1912HostnameOS / ArchINSTALLBUILDCHECKBUILD BIN
a4Reporting 1.37.0
Tobias Verbeke
Snapshot Date: 2020-09-18 14:43:25 -0400 (Fri, 18 Sep 2020)
URL: https://git.bioconductor.org/packages/a4Reporting
Branch: master
Last Commit: 3d068f3
Last Changed Date: 2020-04-27 14:25:28 -0400 (Mon, 27 Apr 2020)
malbec1 Linux (Ubuntu 18.04.4 LTS) / x86_64  OK  OK  WARNINGS UNNEEDED, same version exists in internal repository
nebbiolo1 Linux (Ubuntu 20.04.1 LTS) / x86_64  OK  OK  WARNINGS 
tokay1 Windows Server 2012 R2 Standard / x64  OK [ OK ] WARNINGS  OK UNNEEDED, same version exists in internal repository
riesling1 Windows Server 2019 Standard / x64  OK  OK  WARNINGS  OK 
merida1 macOS 10.14.6 Mojave / x86_64  OK  OK  WARNINGS  OK UNNEEDED, same version exists in internal repository

Summary

Package: a4Reporting
Version: 1.37.0
Command: chmod a+r a4Reporting -R && C:\Users\biocbuild\bbs-3.12-bioc\R\bin\R.exe CMD build --keep-empty-dirs --no-resave-data a4Reporting
StartedAt: 2020-09-18 19:48:52 -0400 (Fri, 18 Sep 2020)
EndedAt: 2020-09-18 19:49:09 -0400 (Fri, 18 Sep 2020)
EllapsedTime: 17.4 seconds
RetCode: 0
Status:  OK  
PackageFile: a4Reporting_1.37.0.tar.gz
PackageFileSize: 5.123 KiB

Command output

##############################################################################
##############################################################################
###
### Running command:
###
###   chmod a+r a4Reporting -R && C:\Users\biocbuild\bbs-3.12-bioc\R\bin\R.exe CMD build --keep-empty-dirs --no-resave-data a4Reporting
###
##############################################################################
##############################################################################


* checking for file 'a4Reporting/DESCRIPTION' ... OK
* preparing 'a4Reporting':
* checking DESCRIPTION meta-information ... OK
* checking for LF line-endings in source and make files and shell scripts
* checking for empty or unneeded directories
* building 'a4Reporting_1.37.0.tar.gz'