Back to Multiple platform build/check report for BioC 3.12
[A]BCDEFGHIJKLMNOPQRSTUVWXYZ

BUILD report for AIMS on tokay1

This page was generated on 2020-08-11 11:41:36 -0400 (Tue, 11 Aug 2020).

TO THE DEVELOPERS/MAINTAINERS OF THE AIMS PACKAGE: Please make sure to use the following settings in order to reproduce any error or warning you see on this page.
Package 39/1885HostnameOS / ArchINSTALLBUILDCHECKBUILD BIN
AIMS 1.21.0
Eric R Paquet
Snapshot Date: 2020-08-10 14:50:56 -0400 (Mon, 10 Aug 2020)
URL: https://git.bioconductor.org/packages/AIMS
Branch: master
Last Commit: 569ab3c
Last Changed Date: 2020-04-27 14:45:30 -0400 (Mon, 27 Apr 2020)
malbec1 Linux (Ubuntu 18.04.4 LTS) / x86_64  OK  OK  OK UNNEEDED, same version exists in internal repository
nebbiolo1 Linux (Ubuntu 20.04.1 LTS) / x86_64  OK  OK  NA 
tokay1 Windows Server 2012 R2 Standard / x64  OK [ OK ] OK  OK UNNEEDED, same version exists in internal repository
merida1 macOS 10.14.6 Mojave / x86_64  OK  OK  OK  OK UNNEEDED, same version exists in internal repository

Summary

Package: AIMS
Version: 1.21.0
Command: chmod a+r AIMS -R && C:\Users\biocbuild\bbs-3.12-bioc\R\bin\R.exe CMD build --keep-empty-dirs --no-resave-data AIMS
StartedAt: 2020-08-10 20:33:20 -0400 (Mon, 10 Aug 2020)
EndedAt: 2020-08-10 20:33:37 -0400 (Mon, 10 Aug 2020)
EllapsedTime: 16.4 seconds
RetCode: 0
Status:  OK  
PackageFile: AIMS_1.21.0.tar.gz
PackageFileSize: 558.2 KiB

Command output

##############################################################################
##############################################################################
###
### Running command:
###
###   chmod a+r AIMS -R && C:\Users\biocbuild\bbs-3.12-bioc\R\bin\R.exe CMD build --keep-empty-dirs --no-resave-data AIMS
###
##############################################################################
##############################################################################


* checking for file 'AIMS/DESCRIPTION' ... OK
* preparing 'AIMS':
* checking DESCRIPTION meta-information ... OK
* installing the package to build vignettes
* creating vignettes ... OK
* checking for LF line-endings in source and make files and shell scripts
* checking for empty or unneeded directories
* building 'AIMS_1.21.0.tar.gz'