Back to Multiple platform build/check report for BioC 3.12
ABCDEFGHIJKLMNOPQ[R]STUVWXYZ

BUILD report for rTRMui on merida1

This page was generated on 2021-04-22 12:36:51 -0400 (Thu, 22 Apr 2021).

To the developers/maintainers of the rTRMui package:
Please make sure to use the following settings in order to reproduce any error or warning you see on this page.
Package 1601/1974HostnameOS / ArchINSTALLBUILDCHECKBUILD BIN
rTRMui 1.28.0  (landing page)
Diego Diez
Snapshot Date: 2021-04-21 14:50:06 -0400 (Wed, 21 Apr 2021)
URL: https://git.bioconductor.org/packages/rTRMui
Branch: RELEASE_3_12
Last Commit: ea680aa
Last Changed Date: 2020-10-27 10:53:00 -0400 (Tue, 27 Oct 2020)
malbec1Linux (Ubuntu 18.04.5 LTS) / x86_64  OK    OK    OK  UNNEEDED, same version exists in internal repository
tokay1Windows Server 2012 R2 Standard / x64  OK    OK    OK    OK  UNNEEDED, same version exists in internal repository
merida1macOS 10.14.6 Mojave / x86_64  OK    OK    OK    OK  UNNEEDED, same version exists in internal repository

Summary

Package: rTRMui
Version: 1.28.0
Command: /Library/Frameworks/R.framework/Versions/Current/Resources/bin/R CMD build --keep-empty-dirs --no-resave-data rTRMui
StartedAt: 2021-04-21 21:53:14 -0400 (Wed, 21 Apr 2021)
EndedAt: 2021-04-21 21:54:30 -0400 (Wed, 21 Apr 2021)
EllapsedTime: 75.9 seconds
RetCode: 0
Status:   OK  
PackageFile: rTRMui_1.28.0.tar.gz
PackageFileSize: 1.067 MiB

Command output

##############################################################################
##############################################################################
###
### Running command:
###
###   /Library/Frameworks/R.framework/Versions/Current/Resources/bin/R CMD build --keep-empty-dirs --no-resave-data rTRMui
###
##############################################################################
##############################################################################


* checking for file ‘rTRMui/DESCRIPTION’ ... OK
* preparing ‘rTRMui’:
* checking DESCRIPTION meta-information ... OK
* installing the package to build vignettes
* creating vignettes ... OK
* checking for LF line-endings in source and make files and shell scripts
* checking for empty or unneeded directories
* building ‘rTRMui_1.28.0.tar.gz’