Back to Multiple platform build/check report for BioC 3.12
A[B]CDEFGHIJKLMNOPQRSTUVWXYZ

BUILD report for BADER on merida1

This page was generated on 2020-08-11 11:55:21 -0400 (Tue, 11 Aug 2020).

TO THE DEVELOPERS/MAINTAINERS OF THE BADER PACKAGE: Please make sure to use the following settings in order to reproduce any error or warning you see on this page.
Package 102/1885HostnameOS / ArchINSTALLBUILDCHECKBUILD BIN
BADER 1.27.0
Andreas Neudecker
Snapshot Date: 2020-08-10 14:50:56 -0400 (Mon, 10 Aug 2020)
URL: https://git.bioconductor.org/packages/BADER
Branch: master
Last Commit: 46df1d0
Last Changed Date: 2020-04-27 14:36:18 -0400 (Mon, 27 Apr 2020)
malbec1 Linux (Ubuntu 18.04.4 LTS) / x86_64  OK  OK  OK UNNEEDED, same version exists in internal repository
nebbiolo1 Linux (Ubuntu 20.04.1 LTS) / x86_64  OK  OK  NA 
tokay1 Windows Server 2012 R2 Standard / x64  OK  OK  OK  OK UNNEEDED, same version exists in internal repository
merida1 macOS 10.14.6 Mojave / x86_64  OK [ OK ] OK  OK UNNEEDED, same version exists in internal repository

Summary

Package: BADER
Version: 1.27.0
Command: /Library/Frameworks/R.framework/Versions/Current/Resources/bin/R CMD build --keep-empty-dirs --no-resave-data BADER
StartedAt: 2020-08-10 19:03:13 -0400 (Mon, 10 Aug 2020)
EndedAt: 2020-08-10 19:04:09 -0400 (Mon, 10 Aug 2020)
EllapsedTime: 56.4 seconds
RetCode: 0
Status:  OK 
PackageFile: BADER_1.27.0.tar.gz
PackageFileSize: 178.2 KiB

Command output

##############################################################################
##############################################################################
###
### Running command:
###
###   /Library/Frameworks/R.framework/Versions/Current/Resources/bin/R CMD build --keep-empty-dirs --no-resave-data BADER
###
##############################################################################
##############################################################################


* checking for file ‘BADER/DESCRIPTION’ ... OK
* preparing ‘BADER’:
* checking DESCRIPTION meta-information ... OK
* cleaning src
* installing the package to build vignettes
* creating vignettes ... OK
* cleaning src
* checking for LF line-endings in source and make files and shell scripts
* checking for empty or unneeded directories
* building ‘BADER_1.27.0.tar.gz’