Back to Multiple platform build/check report for BioC 3.12
[A]BCDEFGHIJKLMNOPQRSTUVWXYZ

BUILD report for ASSET on tokay1

This page was generated on 2020-08-09 12:02:52 -0400 (Sun, 09 Aug 2020).

TO THE DEVELOPERS/MAINTAINERS OF THE ASSET PACKAGE: Please make sure to use the following settings in order to reproduce any error or warning you see on this page.
Package 91/1882HostnameOS / ArchINSTALLBUILDCHECKBUILD BIN
ASSET 2.7.0
Samsiddhi Bhattacharjee
Snapshot Date: 2020-08-08 14:51:01 -0400 (Sat, 08 Aug 2020)
URL: https://git.bioconductor.org/packages/ASSET
Branch: master
Last Commit: 86da514
Last Changed Date: 2020-04-27 14:36:01 -0400 (Mon, 27 Apr 2020)
malbec1 Linux (Ubuntu 18.04.4 LTS) / x86_64  OK  OK  WARNINGS UNNEEDED, same version exists in internal repository
nebbiolo1 Linux (Ubuntu 20.04.1 LTS) / x86_64  OK  OK  WARNINGS 
tokay1 Windows Server 2012 R2 Standard / x64  OK [ OK ] WARNINGS  OK UNNEEDED, same version exists in internal repository
merida1 macOS 10.14.6 Mojave / x86_64  OK  OK  WARNINGS  OK UNNEEDED, same version exists in internal repository

Summary

Package: ASSET
Version: 2.7.0
Command: chmod a+r ASSET -R && C:\Users\biocbuild\bbs-3.12-bioc\R\bin\R.exe CMD build --keep-empty-dirs --no-resave-data ASSET
StartedAt: 2020-08-08 19:54:47 -0400 (Sat, 08 Aug 2020)
EndedAt: 2020-08-08 19:55:18 -0400 (Sat, 08 Aug 2020)
EllapsedTime: 31.0 seconds
RetCode: 0
Status:  OK  
PackageFile: ASSET_2.7.0.tar.gz
PackageFileSize: 230 KiB

Command output

##############################################################################
##############################################################################
###
### Running command:
###
###   chmod a+r ASSET -R && C:\Users\biocbuild\bbs-3.12-bioc\R\bin\R.exe CMD build --keep-empty-dirs --no-resave-data ASSET
###
##############################################################################
##############################################################################


* checking for file 'ASSET/DESCRIPTION' ... OK
* preparing 'ASSET':
* checking DESCRIPTION meta-information ... OK
* installing the package to build vignettes
* creating vignettes ... OK
* checking for LF line-endings in source and make files and shell scripts
* checking for empty or unneeded directories
* looking to see if a 'data/datalist' file should be added
* building 'ASSET_2.7.0.tar.gz'