Back to Multiple platform build/check report for BioC 3.12
[A]BCDEFGHIJKLMNOPQRSTUVWXYZ

BUILD BIN report for ArrayTools on merida1

This page was generated on 2020-08-13 11:49:03 -0400 (Thu, 13 Aug 2020).

TO THE DEVELOPERS/MAINTAINERS OF THE ArrayTools PACKAGE: Please make sure to use the following settings in order to reproduce any error or warning you see on this page.
Package 80/1885HostnameOS / ArchINSTALLBUILDCHECKBUILD BIN
ArrayTools 1.49.0
Arthur Li
Snapshot Date: 2020-08-12 14:52:00 -0400 (Wed, 12 Aug 2020)
URL: https://git.bioconductor.org/packages/ArrayTools
Branch: master
Last Commit: e7b0baa
Last Changed Date: 2020-04-27 14:18:01 -0400 (Mon, 27 Apr 2020)
malbec1 Linux (Ubuntu 18.04.4 LTS) / x86_64  OK  OK  OK UNNEEDED, same version exists in internal repository
nebbiolo1 Linux (Ubuntu 20.04.1 LTS) / x86_64  OK  OK  OK 
tokay1 Windows Server 2012 R2 Standard / x64  OK  OK  OK  OK UNNEEDED, same version exists in internal repository
merida1 macOS 10.14.6 Mojave / x86_64  OK  OK  OK [ OK ]UNNEEDED, same version exists in internal repository

Summary

Package: ArrayTools
Version: 1.49.0
Command: rm -rf ArrayTools.buildbin-libdir && mkdir ArrayTools.buildbin-libdir && /Users/biocbuild/BBS/utils/build-universal.sh ArrayTools_1.49.0.tar.gz /Library/Frameworks/R.framework/Versions/Current/Resources/bin/R ArrayTools.buildbin-libdir
StartedAt: 2020-08-13 06:31:11 -0400 (Thu, 13 Aug 2020)
EndedAt: 2020-08-13 06:32:07 -0400 (Thu, 13 Aug 2020)
EllapsedTime: 56.6 seconds
RetCode: 0
Status:  OK 
PackageFile: ArrayTools_1.49.0.tgz
PackageFileSize: 650.9 KiB

Command output

##############################################################################
##############################################################################
###
### Running command:
###
###   rm -rf ArrayTools.buildbin-libdir && mkdir ArrayTools.buildbin-libdir && /Users/biocbuild/BBS/utils/build-universal.sh ArrayTools_1.49.0.tar.gz /Library/Frameworks/R.framework/Versions/Current/Resources/bin/R ArrayTools.buildbin-libdir
###
##############################################################################
##############################################################################


>>>>>>> 
>>>>>>> INSTALLATION WITH 'R CMD INSTALL --preclean --no-multiarch --library=ArrayTools.buildbin-libdir ArrayTools_1.49.0.tar.gz'
>>>>>>> 

* installing *source* package ‘ArrayTools’ ...
** using staged installation
** R
** data
** inst
** byte-compile and prepare package for lazy loading
** help
*** installing help indices
** building package indices
** installing vignettes
** testing if installed package can be loaded from temporary location
** testing if installed package can be loaded from final location
** testing if installed package keeps a record of temporary installation path
* DONE (ArrayTools)