Back to Multiple platform build/check report for BioC 3.12
[A]BCDEFGHIJKLMNOPQRSTUVWXYZ

INSTALL report for a4Reporting on tokay1

This page was generated on 2020-08-10 12:13:25 -0400 (Mon, 10 Aug 2020).

TO THE DEVELOPERS/MAINTAINERS OF THE a4Reporting PACKAGE: Please make sure to use the following settings in order to reproduce any error or warning you see on this page.
Package 6/1882HostnameOS / ArchINSTALLBUILDCHECKBUILD BIN
a4Reporting 1.37.0
Tobias Verbeke
Snapshot Date: 2020-08-09 14:51:29 -0400 (Sun, 09 Aug 2020)
URL: https://git.bioconductor.org/packages/a4Reporting
Branch: master
Last Commit: 3d068f3
Last Changed Date: 2020-04-27 14:25:28 -0400 (Mon, 27 Apr 2020)
malbec1 Linux (Ubuntu 18.04.4 LTS) / x86_64  OK  OK  WARNINGS UNNEEDED, same version exists in internal repository
nebbiolo1 Linux (Ubuntu 20.04.1 LTS) / x86_64  OK  OK  WARNINGS 
tokay1 Windows Server 2012 R2 Standard / x64 [ OK ] OK  WARNINGS  OK UNNEEDED, same version exists in internal repository
merida1 macOS 10.14.6 Mojave / x86_64  OK  OK  WARNINGS  OK UNNEEDED, same version exists in internal repository

Summary

Package: a4Reporting
Version: 1.37.0
Command: C:\cygwin\bin\curl.exe -O https://malbec1.bioconductor.org/BBS/3.12/bioc/src/contrib/a4Reporting_1.37.0.tar.gz && rm -rf a4Reporting.buildbin-libdir && mkdir a4Reporting.buildbin-libdir && C:\Users\biocbuild\bbs-3.12-bioc\R\bin\R.exe CMD INSTALL --merge-multiarch --build --library=a4Reporting.buildbin-libdir a4Reporting_1.37.0.tar.gz && C:\Users\biocbuild\bbs-3.12-bioc\R\bin\R.exe CMD INSTALL a4Reporting_1.37.0.zip && rm a4Reporting_1.37.0.tar.gz a4Reporting_1.37.0.zip
StartedAt: 2020-08-09 16:56:59 -0400 (Sun, 09 Aug 2020)
EndedAt: 2020-08-09 16:57:34 -0400 (Sun, 09 Aug 2020)
EllapsedTime: 34.7 seconds
RetCode: 0
Status:  OK  

Command output

##############################################################################
##############################################################################
###
### Running command:
###
###   C:\cygwin\bin\curl.exe -O https://malbec1.bioconductor.org/BBS/3.12/bioc/src/contrib/a4Reporting_1.37.0.tar.gz && rm -rf a4Reporting.buildbin-libdir && mkdir a4Reporting.buildbin-libdir && C:\Users\biocbuild\bbs-3.12-bioc\R\bin\R.exe CMD INSTALL --merge-multiarch --build --library=a4Reporting.buildbin-libdir a4Reporting_1.37.0.tar.gz && C:\Users\biocbuild\bbs-3.12-bioc\R\bin\R.exe CMD INSTALL a4Reporting_1.37.0.zip && rm a4Reporting_1.37.0.tar.gz a4Reporting_1.37.0.zip
###
##############################################################################
##############################################################################


  % Total    % Received % Xferd  Average Speed   Time    Time     Time  Current
                                 Dload  Upload   Total   Spent    Left  Speed

  0     0    0     0    0     0      0      0 --:--:-- --:--:-- --:--:--     0
100  5252  100  5252    0     0   120k      0 --:--:-- --:--:-- --:--:--  131k

install for i386

* installing *source* package 'a4Reporting' ...
** using staged installation
** R
** inst
** byte-compile and prepare package for lazy loading
Warning message:
Package 'KEGG.db' is deprecated and will be removed from Bioconductor
  version 3.12 
** help
*** installing help indices
  converting help for package 'a4Reporting'
    finding HTML links ... done
    annotationTable-class                   html  
    annotationTable                         html  
    generateEntrezIdLinks                   html  
    generateGOIdLinks                       html  
    print.xtableAnnotationTable             html  
    xtable-methods                          html  
** building package indices
** testing if installed package can be loaded from temporary location
Warning: Package 'KEGG.db' is deprecated and will be removed from Bioconductor
  version 3.12
** testing if installed package can be loaded from final location
Warning: Package 'KEGG.db' is deprecated and will be removed from Bioconductor
  version 3.12
** testing if installed package keeps a record of temporary installation path

install for x64

* installing *source* package 'a4Reporting' ...
** testing if installed package can be loaded
Warning: Package 'KEGG.db' is deprecated and will be removed from Bioconductor
  version 3.12
* MD5 sums
packaged installation of 'a4Reporting' as a4Reporting_1.37.0.zip
* DONE (a4Reporting)
* installing to library 'C:/Users/biocbuild/bbs-3.12-bioc/R/library'
package 'a4Reporting' successfully unpacked and MD5 sums checked