Back to Multiple platform build/check report for BioC 3.12
AB[C]DEFGHIJKLMNOPQRSTUVWXYZ

INSTALL report for ChAMP on tokay1

This page was generated on 2020-08-13 11:37:48 -0400 (Thu, 13 Aug 2020).

TO THE DEVELOPERS/MAINTAINERS OF THE ChAMP PACKAGE: Please make sure to use the following settings in order to reproduce any error or warning you see on this page.
Package 261/1885HostnameOS / ArchINSTALLBUILDCHECKBUILD BIN
ChAMP 2.19.3
Yuan Tian
Snapshot Date: 2020-08-12 14:52:00 -0400 (Wed, 12 Aug 2020)
URL: https://git.bioconductor.org/packages/ChAMP
Branch: master
Last Commit: d524139
Last Changed Date: 2020-05-28 07:35:49 -0400 (Thu, 28 May 2020)
malbec1 Linux (Ubuntu 18.04.4 LTS) / x86_64  ERROR  ERROR  skipped 
nebbiolo1 Linux (Ubuntu 20.04.1 LTS) / x86_64  ERROR  ERROR  skipped 
tokay1 Windows Server 2012 R2 Standard / x64 [ ERROR ] ERROR  skipped  skipped 
merida1 macOS 10.14.6 Mojave / x86_64  ERROR  ERROR  skipped  skipped 

Summary

Package: ChAMP
Version: 2.19.3
Command: C:\cygwin\bin\curl.exe -O https://malbec1.bioconductor.org/BBS/3.12/bioc/src/contrib/ChAMP_2.19.3.tar.gz && rm -rf ChAMP.buildbin-libdir && mkdir ChAMP.buildbin-libdir && C:\Users\biocbuild\bbs-3.12-bioc\R\bin\R.exe CMD INSTALL --merge-multiarch --build --library=ChAMP.buildbin-libdir ChAMP_2.19.3.tar.gz && C:\Users\biocbuild\bbs-3.12-bioc\R\bin\R.exe CMD INSTALL ChAMP_2.19.3.zip && rm ChAMP_2.19.3.tar.gz ChAMP_2.19.3.zip
StartedAt: 2020-08-12 19:03:00 -0400 (Wed, 12 Aug 2020)
EndedAt: 2020-08-12 19:03:01 -0400 (Wed, 12 Aug 2020)
EllapsedTime: 1.6 seconds
RetCode: 1
Status:  ERROR  

Command output

##############################################################################
##############################################################################
###
### Running command:
###
###   C:\cygwin\bin\curl.exe -O https://malbec1.bioconductor.org/BBS/3.12/bioc/src/contrib/ChAMP_2.19.3.tar.gz && rm -rf ChAMP.buildbin-libdir && mkdir ChAMP.buildbin-libdir && C:\Users\biocbuild\bbs-3.12-bioc\R\bin\R.exe CMD INSTALL --merge-multiarch --build --library=ChAMP.buildbin-libdir ChAMP_2.19.3.tar.gz && C:\Users\biocbuild\bbs-3.12-bioc\R\bin\R.exe CMD INSTALL ChAMP_2.19.3.zip && rm ChAMP_2.19.3.tar.gz ChAMP_2.19.3.zip
###
##############################################################################
##############################################################################


  % Total    % Received % Xferd  Average Speed   Time    Time     Time  Current
                                 Dload  Upload   Total   Spent    Left  Speed

  0     0    0     0    0     0      0      0 --:--:-- --:--:-- --:--:--     0
  0 5947k    0     0    0     0      0      0 --:--:-- --:--:-- --:--:--     0
100 5947k  100 5947k    0     0  34.7M      0 --:--:-- --:--:-- --:--:-- 35.1M

install for i386

ERROR: dependency 'FEM' is not available for package 'ChAMP'
* removing 'C:/Users/biocbuild/bbs-3.12-bioc/meat/ChAMP.buildbin-libdir/ChAMP'