Back to Multiple platform build/check report for BioC 3.12
[A]BCDEFGHIJKLMNOPQRSTUVWXYZ

INSTALL report for affxparser on merida1

This page was generated on 2020-08-13 11:48:14 -0400 (Thu, 13 Aug 2020).

TO THE DEVELOPERS/MAINTAINERS OF THE affxparser PACKAGE: Please make sure to use the following settings in order to reproduce any error or warning you see on this page.
Package 22/1885HostnameOS / ArchINSTALLBUILDCHECKBUILD BIN
affxparser 1.61.0
Kasper Daniel Hansen
Snapshot Date: 2020-08-12 14:52:00 -0400 (Wed, 12 Aug 2020)
URL: https://git.bioconductor.org/packages/affxparser
Branch: master
Last Commit: d7640aa
Last Changed Date: 2020-04-27 14:12:07 -0400 (Mon, 27 Apr 2020)
malbec1 Linux (Ubuntu 18.04.4 LTS) / x86_64  OK  OK  WARNINGS UNNEEDED, same version exists in internal repository
nebbiolo1 Linux (Ubuntu 20.04.1 LTS) / x86_64  OK  OK  WARNINGS 
tokay1 Windows Server 2012 R2 Standard / x64  OK  OK  WARNINGS  OK UNNEEDED, same version exists in internal repository
merida1 macOS 10.14.6 Mojave / x86_64 [ OK ] OK  WARNINGS  OK UNNEEDED, same version exists in internal repository

Summary

Package: affxparser
Version: 1.61.0
Command: /Library/Frameworks/R.framework/Versions/Current/Resources/bin/R CMD INSTALL affxparser
StartedAt: 2020-08-12 16:02:01 -0400 (Wed, 12 Aug 2020)
EndedAt: 2020-08-12 16:04:06 -0400 (Wed, 12 Aug 2020)
EllapsedTime: 125.0 seconds
RetCode: 0
Status:  OK 

Command output

##############################################################################
##############################################################################
###
### Running command:
###
###   /Library/Frameworks/R.framework/Versions/Current/Resources/bin/R CMD INSTALL affxparser
###
##############################################################################
##############################################################################


* installing to library ‘/Library/Frameworks/R.framework/Versions/4.0/Resources/library’
* installing *source* package ‘affxparser’ ...
** using staged installation
** libs
rm -f fusion_sdk/calvin_files/data/src/CDFData.o fusion_sdk/calvin_files/data/src/CDFProbeGroupInformation.o fusion_sdk/calvin_files/data/src/CDFProbeInformation.o fusion_sdk/calvin_files/data/src/CDFProbeSetInformation.o fusion_sdk/calvin_files/data/src/CDFQCProbeInformation.o fusion_sdk/calvin_files/data/src/CDFQCProbeSetInformation.o fusion_sdk/calvin_files/data/src/CELData.o fusion_sdk/calvin_files/data/src/CHPBackgroundZone.o fusion_sdk/calvin_files/data/src/CHPData.o fusion_sdk/calvin_files/data/src/CHPExpressionEntry.o fusion_sdk/calvin_files/data/src/CHPMultiDataData.o fusion_sdk/calvin_files/data/src/CHPTilingData.o fusion_sdk/calvin_files/data/src/CHPQuantificationData.o fusion_sdk/calvin_files/data/src/CHPQuantificationDetectionData.o fusion_sdk/calvin_files/data/src/CHPGenotypeEntry.o fusion_sdk/calvin_files/data/src/CHPUniversalEntry.o fusion_sdk/calvin_files/data/src/ColumnInfo.o fusion_sdk/calvin_files/data/src/DataGroup.o fusion_sdk/calvin_files/data/src/DataGroupHeader.o fusion_sdk/calvin_files/data/src/DataSet.o fusion_sdk/calvin_files/data/src/DataSetHeader.o fusion_sdk/calvin_files/data/src/FileHeader.o fusion_sdk/calvin_files/data/src/GenericData.o fusion_sdk/calvin_files/data/src/GenericDataHeader.o fusion_sdk/calvin_files/exception/src/ExceptionBase.o fusion_sdk/calvin_files/fusion/src/CalvinAdapter/CalvinCELDataAdapter.o fusion_sdk/calvin_files/fusion/src/CalvinAdapter/CalvinCHPDataAdapter.o fusion_sdk/calvin_files/fusion/src/FusionBPMAPData.o fusion_sdk/calvin_files/fusion/src/FusionCDFData.o fusion_sdk/calvin_files/fusion/src/FusionCDFQCProbeSetNames.o fusion_sdk/calvin_files/fusion/src/FusionCELData.o fusion_sdk/calvin_files/fusion/src/FusionCHPData.o fusion_sdk/calvin_files/fusion/src/FusionProbeSetResults.o fusion_sdk/calvin_files/fusion/src/GCOSAdapter/GCOSCELDataAdapter.o fusion_sdk/calvin_files/fusion/src/GCOSAdapter/GCOSCHPDataAdapter.o fusion_sdk/calvin_files/fusion/src/FusionCHPLegacyData.o fusion_sdk/calvin_files/fusion/src/FusionCHPMultiDataAccessor.o fusion_sdk/calvin_files/fusion/src/FusionCHPMultiDataData.o fusion_sdk/calvin_files/fusion/src/FusionCHPTilingData.o fusion_sdk/calvin_files/fusion/src/FusionCHPGenericData.o fusion_sdk/calvin_files/fusion/src/FusionCHPQuantificationData.o fusion_sdk/calvin_files/fusion/src/FusionCHPQuantificationDetectionData.o fusion_sdk/calvin_files/parameter/src/ParameterNameValueType.o fusion_sdk/calvin_files/parsers/src/CDFFileReader.o fusion_sdk/calvin_files/parsers/src/CelFileReader.o fusion_sdk/calvin_files/parsers/src/CHPFileReader.o fusion_sdk/calvin_files/parsers/src/CHPMultiDataFileReader.o fusion_sdk/calvin_files/parsers/src/CHPTilingFileReader.o fusion_sdk/calvin_files/parsers/src/CHPQuantificationFileReader.o fusion_sdk/calvin_files/parsers/src/CHPQuantificationDetectionFileReader.o fusion_sdk/calvin_files/parsers/src/DataGroupHeaderReader.o fusion_sdk/calvin_files/parsers/src/DataGroupReader.o fusion_sdk/calvin_files/parsers/src/DataSetHeaderReader.o fusion_sdk/calvin_files/parsers/src/DataSetReader.o fusion_sdk/calvin_files/parsers/src/FileHeaderReader.o fusion_sdk/calvin_files/parsers/src/FileInput.o fusion_sdk/calvin_files/parsers/src/GenericDataHeaderReader.o fusion_sdk/calvin_files/parsers/src/GenericFileReader.o fusion_sdk/calvin_files/utils/src/AffymetrixGuid.o fusion_sdk/calvin_files/utils/src/DateTime.o fusion_sdk/calvin_files/utils/src/FileUtils.o fusion_sdk/calvin_files/utils/src/StringUtils.o fusion_sdk/calvin_files/utils/src/checksum.o fusion_sdk/file/BPMAPFileData.o fusion_sdk/file/BPMAPFileWriter.o fusion_sdk/file/CDFFileData.o fusion_sdk/file/CELFileData.o fusion_sdk/file/CHPFileData.o fusion_sdk/file/FileIO.o fusion_sdk/file/FileWriter.o fusion_sdk/file/TsvFile/ClfFile.o fusion_sdk/file/TsvFile/PgfFile.o fusion_sdk/file/TsvFile/TsvFile.o fusion_sdk/util/AffxByteArray.o fusion_sdk/util/AffxConv.o fusion_sdk/util/MsgStream.o fusion_sdk/util/Util.o fusion_sdk/util/Err.o fusion_sdk/util/Fs.o fusion_sdk/util/Verbose.o fusion_sdk/util/RowFile.o fusion_sdk/util/TableFile.o fusion_sdk/util/Convert.o R_affx_cel_parser.o R_affx_cdf_parser.o R_affx_cdf_extras.o R_affx_bpmap_parser.o R_affx_clf_pgf_parser.o R_affx_chp_parser.o
clang++ -mmacosx-version-min=10.13 -std=gnu++11 -I"/Library/Frameworks/R.framework/Resources/include" -DNDEBUG -I. -Ifusion_sdk/calvin_files/array/src -Ifusion_sdk/calvin_files/data/src -Ifusion_sdk/calvin_files/exception/src -Ifusion_sdk/calvin_files/fusion/src -Ifusion_sdk/calvin_files/fusion/src/GCOSAdapter -Ifusion_sdk/calvin_files/fusion/src/CalvinAdapter -Ifusion_sdk/calvin_files/parameter/src -Ifusion_sdk/calvin_files/parsers/src -Ifusion_sdk/calvin_files/portability/src -Ifusion_sdk/calvin_files/template/src -Ifusion_sdk/calvin_files/utils/src -Ifusion_sdk/calvin_files/writers/src -Ifusion_sdk/file -Ifusion_sdk/file/TsvFile -Ifusion_sdk/portability -Ifusion_sdk/util -Ifusion_sdk -D_USE_MEM_MAPPING_  -I/usr/local/include   -fPIC  -Wall -g -O2  -Wno-sign-compare -O0 -c fusion_sdk/calvin_files/data/src/CDFData.cpp -o fusion_sdk/calvin_files/data/src/CDFData.o
clang++ -mmacosx-version-min=10.13 -std=gnu++11 -I"/Library/Frameworks/R.framework/Resources/include" -DNDEBUG -I. -Ifusion_sdk/calvin_files/array/src -Ifusion_sdk/calvin_files/data/src -Ifusion_sdk/calvin_files/exception/src -Ifusion_sdk/calvin_files/fusion/src -Ifusion_sdk/calvin_files/fusion/src/GCOSAdapter -Ifusion_sdk/calvin_files/fusion/src/CalvinAdapter -Ifusion_sdk/calvin_files/parameter/src -Ifusion_sdk/calvin_files/parsers/src -Ifusion_sdk/calvin_files/portability/src -Ifusion_sdk/calvin_files/template/src -Ifusion_sdk/calvin_files/utils/src -Ifusion_sdk/calvin_files/writers/src -Ifusion_sdk/file -Ifusion_sdk/file/TsvFile -Ifusion_sdk/portability -Ifusion_sdk/util -Ifusion_sdk -D_USE_MEM_MAPPING_  -I/usr/local/include   -fPIC  -Wall -g -O2  -Wno-sign-compare -O0 -c fusion_sdk/calvin_files/data/src/CDFProbeGroupInformation.cpp -o fusion_sdk/calvin_files/data/src/CDFProbeGroupInformation.o
clang++ -mmacosx-version-min=10.13 -std=gnu++11 -I"/Library/Frameworks/R.framework/Resources/include" -DNDEBUG -I. -Ifusion_sdk/calvin_files/array/src -Ifusion_sdk/calvin_files/data/src -Ifusion_sdk/calvin_files/exception/src -Ifusion_sdk/calvin_files/fusion/src -Ifusion_sdk/calvin_files/fusion/src/GCOSAdapter -Ifusion_sdk/calvin_files/fusion/src/CalvinAdapter -Ifusion_sdk/calvin_files/parameter/src -Ifusion_sdk/calvin_files/parsers/src -Ifusion_sdk/calvin_files/portability/src -Ifusion_sdk/calvin_files/template/src -Ifusion_sdk/calvin_files/utils/src -Ifusion_sdk/calvin_files/writers/src -Ifusion_sdk/file -Ifusion_sdk/file/TsvFile -Ifusion_sdk/portability -Ifusion_sdk/util -Ifusion_sdk -D_USE_MEM_MAPPING_  -I/usr/local/include   -fPIC  -Wall -g -O2  -Wno-sign-compare -O0 -c fusion_sdk/calvin_files/data/src/CDFProbeInformation.cpp -o fusion_sdk/calvin_files/data/src/CDFProbeInformation.o
clang++ -mmacosx-version-min=10.13 -std=gnu++11 -I"/Library/Frameworks/R.framework/Resources/include" -DNDEBUG -I. -Ifusion_sdk/calvin_files/array/src -Ifusion_sdk/calvin_files/data/src -Ifusion_sdk/calvin_files/exception/src -Ifusion_sdk/calvin_files/fusion/src -Ifusion_sdk/calvin_files/fusion/src/GCOSAdapter -Ifusion_sdk/calvin_files/fusion/src/CalvinAdapter -Ifusion_sdk/calvin_files/parameter/src -Ifusion_sdk/calvin_files/parsers/src -Ifusion_sdk/calvin_files/portability/src -Ifusion_sdk/calvin_files/template/src -Ifusion_sdk/calvin_files/utils/src -Ifusion_sdk/calvin_files/writers/src -Ifusion_sdk/file -Ifusion_sdk/file/TsvFile -Ifusion_sdk/portability -Ifusion_sdk/util -Ifusion_sdk -D_USE_MEM_MAPPING_  -I/usr/local/include   -fPIC  -Wall -g -O2  -Wno-sign-compare -O0 -c fusion_sdk/calvin_files/data/src/CDFProbeSetInformation.cpp -o fusion_sdk/calvin_files/data/src/CDFProbeSetInformation.o
clang++ -mmacosx-version-min=10.13 -std=gnu++11 -I"/Library/Frameworks/R.framework/Resources/include" -DNDEBUG -I. -Ifusion_sdk/calvin_files/array/src -Ifusion_sdk/calvin_files/data/src -Ifusion_sdk/calvin_files/exception/src -Ifusion_sdk/calvin_files/fusion/src -Ifusion_sdk/calvin_files/fusion/src/GCOSAdapter -Ifusion_sdk/calvin_files/fusion/src/CalvinAdapter -Ifusion_sdk/calvin_files/parameter/src -Ifusion_sdk/calvin_files/parsers/src -Ifusion_sdk/calvin_files/portability/src -Ifusion_sdk/calvin_files/template/src -Ifusion_sdk/calvin_files/utils/src -Ifusion_sdk/calvin_files/writers/src -Ifusion_sdk/file -Ifusion_sdk/file/TsvFile -Ifusion_sdk/portability -Ifusion_sdk/util -Ifusion_sdk -D_USE_MEM_MAPPING_  -I/usr/local/include   -fPIC  -Wall -g -O2  -Wno-sign-compare -O0 -c fusion_sdk/calvin_files/data/src/CDFQCProbeInformation.cpp -o fusion_sdk/calvin_files/data/src/CDFQCProbeInformation.o
clang++ -mmacosx-version-min=10.13 -std=gnu++11 -I"/Library/Frameworks/R.framework/Resources/include" -DNDEBUG -I. -Ifusion_sdk/calvin_files/array/src -Ifusion_sdk/calvin_files/data/src -Ifusion_sdk/calvin_files/exception/src -Ifusion_sdk/calvin_files/fusion/src -Ifusion_sdk/calvin_files/fusion/src/GCOSAdapter -Ifusion_sdk/calvin_files/fusion/src/CalvinAdapter -Ifusion_sdk/calvin_files/parameter/src -Ifusion_sdk/calvin_files/parsers/src -Ifusion_sdk/calvin_files/portability/src -Ifusion_sdk/calvin_files/template/src -Ifusion_sdk/calvin_files/utils/src -Ifusion_sdk/calvin_files/writers/src -Ifusion_sdk/file -Ifusion_sdk/file/TsvFile -Ifusion_sdk/portability -Ifusion_sdk/util -Ifusion_sdk -D_USE_MEM_MAPPING_  -I/usr/local/include   -fPIC  -Wall -g -O2  -Wno-sign-compare -O0 -c fusion_sdk/calvin_files/data/src/CDFQCProbeSetInformation.cpp -o fusion_sdk/calvin_files/data/src/CDFQCProbeSetInformation.o
clang++ -mmacosx-version-min=10.13 -std=gnu++11 -I"/Library/Frameworks/R.framework/Resources/include" -DNDEBUG -I. -Ifusion_sdk/calvin_files/array/src -Ifusion_sdk/calvin_files/data/src -Ifusion_sdk/calvin_files/exception/src -Ifusion_sdk/calvin_files/fusion/src -Ifusion_sdk/calvin_files/fusion/src/GCOSAdapter -Ifusion_sdk/calvin_files/fusion/src/CalvinAdapter -Ifusion_sdk/calvin_files/parameter/src -Ifusion_sdk/calvin_files/parsers/src -Ifusion_sdk/calvin_files/portability/src -Ifusion_sdk/calvin_files/template/src -Ifusion_sdk/calvin_files/utils/src -Ifusion_sdk/calvin_files/writers/src -Ifusion_sdk/file -Ifusion_sdk/file/TsvFile -Ifusion_sdk/portability -Ifusion_sdk/util -Ifusion_sdk -D_USE_MEM_MAPPING_  -I/usr/local/include   -fPIC  -Wall -g -O2  -Wno-sign-compare -O0 -c fusion_sdk/calvin_files/data/src/CELData.cpp -o fusion_sdk/calvin_files/data/src/CELData.o
clang++ -mmacosx-version-min=10.13 -std=gnu++11 -I"/Library/Frameworks/R.framework/Resources/include" -DNDEBUG -I. -Ifusion_sdk/calvin_files/array/src -Ifusion_sdk/calvin_files/data/src -Ifusion_sdk/calvin_files/exception/src -Ifusion_sdk/calvin_files/fusion/src -Ifusion_sdk/calvin_files/fusion/src/GCOSAdapter -Ifusion_sdk/calvin_files/fusion/src/CalvinAdapter -Ifusion_sdk/calvin_files/parameter/src -Ifusion_sdk/calvin_files/parsers/src -Ifusion_sdk/calvin_files/portability/src -Ifusion_sdk/calvin_files/template/src -Ifusion_sdk/calvin_files/utils/src -Ifusion_sdk/calvin_files/writers/src -Ifusion_sdk/file -Ifusion_sdk/file/TsvFile -Ifusion_sdk/portability -Ifusion_sdk/util -Ifusion_sdk -D_USE_MEM_MAPPING_  -I/usr/local/include   -fPIC  -Wall -g -O2  -Wno-sign-compare -O0 -c fusion_sdk/calvin_files/data/src/CHPBackgroundZone.cpp -o fusion_sdk/calvin_files/data/src/CHPBackgroundZone.o
clang++ -mmacosx-version-min=10.13 -std=gnu++11 -I"/Library/Frameworks/R.framework/Resources/include" -DNDEBUG -I. -Ifusion_sdk/calvin_files/array/src -Ifusion_sdk/calvin_files/data/src -Ifusion_sdk/calvin_files/exception/src -Ifusion_sdk/calvin_files/fusion/src -Ifusion_sdk/calvin_files/fusion/src/GCOSAdapter -Ifusion_sdk/calvin_files/fusion/src/CalvinAdapter -Ifusion_sdk/calvin_files/parameter/src -Ifusion_sdk/calvin_files/parsers/src -Ifusion_sdk/calvin_files/portability/src -Ifusion_sdk/calvin_files/template/src -Ifusion_sdk/calvin_files/utils/src -Ifusion_sdk/calvin_files/writers/src -Ifusion_sdk/file -Ifusion_sdk/file/TsvFile -Ifusion_sdk/portability -Ifusion_sdk/util -Ifusion_sdk -D_USE_MEM_MAPPING_  -I/usr/local/include   -fPIC  -Wall -g -O2  -Wno-sign-compare -O0 -c fusion_sdk/calvin_files/data/src/CHPData.cpp -o fusion_sdk/calvin_files/data/src/CHPData.o
clang++ -mmacosx-version-min=10.13 -std=gnu++11 -I"/Library/Frameworks/R.framework/Resources/include" -DNDEBUG -I. -Ifusion_sdk/calvin_files/array/src -Ifusion_sdk/calvin_files/data/src -Ifusion_sdk/calvin_files/exception/src -Ifusion_sdk/calvin_files/fusion/src -Ifusion_sdk/calvin_files/fusion/src/GCOSAdapter -Ifusion_sdk/calvin_files/fusion/src/CalvinAdapter -Ifusion_sdk/calvin_files/parameter/src -Ifusion_sdk/calvin_files/parsers/src -Ifusion_sdk/calvin_files/portability/src -Ifusion_sdk/calvin_files/template/src -Ifusion_sdk/calvin_files/utils/src -Ifusion_sdk/calvin_files/writers/src -Ifusion_sdk/file -Ifusion_sdk/file/TsvFile -Ifusion_sdk/portability -Ifusion_sdk/util -Ifusion_sdk -D_USE_MEM_MAPPING_  -I/usr/local/include   -fPIC  -Wall -g -O2  -Wno-sign-compare -O0 -c fusion_sdk/calvin_files/data/src/CHPExpressionEntry.cpp -o fusion_sdk/calvin_files/data/src/CHPExpressionEntry.o
clang++ -mmacosx-version-min=10.13 -std=gnu++11 -I"/Library/Frameworks/R.framework/Resources/include" -DNDEBUG -I. -Ifusion_sdk/calvin_files/array/src -Ifusion_sdk/calvin_files/data/src -Ifusion_sdk/calvin_files/exception/src -Ifusion_sdk/calvin_files/fusion/src -Ifusion_sdk/calvin_files/fusion/src/GCOSAdapter -Ifusion_sdk/calvin_files/fusion/src/CalvinAdapter -Ifusion_sdk/calvin_files/parameter/src -Ifusion_sdk/calvin_files/parsers/src -Ifusion_sdk/calvin_files/portability/src -Ifusion_sdk/calvin_files/template/src -Ifusion_sdk/calvin_files/utils/src -Ifusion_sdk/calvin_files/writers/src -Ifusion_sdk/file -Ifusion_sdk/file/TsvFile -Ifusion_sdk/portability -Ifusion_sdk/util -Ifusion_sdk -D_USE_MEM_MAPPING_  -I/usr/local/include   -fPIC  -Wall -g -O2  -Wno-sign-compare -O0 -c fusion_sdk/calvin_files/data/src/CHPMultiDataData.cpp -o fusion_sdk/calvin_files/data/src/CHPMultiDataData.o
clang++ -mmacosx-version-min=10.13 -std=gnu++11 -I"/Library/Frameworks/R.framework/Resources/include" -DNDEBUG -I. -Ifusion_sdk/calvin_files/array/src -Ifusion_sdk/calvin_files/data/src -Ifusion_sdk/calvin_files/exception/src -Ifusion_sdk/calvin_files/fusion/src -Ifusion_sdk/calvin_files/fusion/src/GCOSAdapter -Ifusion_sdk/calvin_files/fusion/src/CalvinAdapter -Ifusion_sdk/calvin_files/parameter/src -Ifusion_sdk/calvin_files/parsers/src -Ifusion_sdk/calvin_files/portability/src -Ifusion_sdk/calvin_files/template/src -Ifusion_sdk/calvin_files/utils/src -Ifusion_sdk/calvin_files/writers/src -Ifusion_sdk/file -Ifusion_sdk/file/TsvFile -Ifusion_sdk/portability -Ifusion_sdk/util -Ifusion_sdk -D_USE_MEM_MAPPING_  -I/usr/local/include   -fPIC  -Wall -g -O2  -Wno-sign-compare -O0 -c fusion_sdk/calvin_files/data/src/CHPTilingData.cpp -o fusion_sdk/calvin_files/data/src/CHPTilingData.o
clang++ -mmacosx-version-min=10.13 -std=gnu++11 -I"/Library/Frameworks/R.framework/Resources/include" -DNDEBUG -I. -Ifusion_sdk/calvin_files/array/src -Ifusion_sdk/calvin_files/data/src -Ifusion_sdk/calvin_files/exception/src -Ifusion_sdk/calvin_files/fusion/src -Ifusion_sdk/calvin_files/fusion/src/GCOSAdapter -Ifusion_sdk/calvin_files/fusion/src/CalvinAdapter -Ifusion_sdk/calvin_files/parameter/src -Ifusion_sdk/calvin_files/parsers/src -Ifusion_sdk/calvin_files/portability/src -Ifusion_sdk/calvin_files/template/src -Ifusion_sdk/calvin_files/utils/src -Ifusion_sdk/calvin_files/writers/src -Ifusion_sdk/file -Ifusion_sdk/file/TsvFile -Ifusion_sdk/portability -Ifusion_sdk/util -Ifusion_sdk -D_USE_MEM_MAPPING_  -I/usr/local/include   -fPIC  -Wall -g -O2  -Wno-sign-compare -O0 -c fusion_sdk/calvin_files/data/src/CHPQuantificationData.cpp -o fusion_sdk/calvin_files/data/src/CHPQuantificationData.o
clang++ -mmacosx-version-min=10.13 -std=gnu++11 -I"/Library/Frameworks/R.framework/Resources/include" -DNDEBUG -I. -Ifusion_sdk/calvin_files/array/src -Ifusion_sdk/calvin_files/data/src -Ifusion_sdk/calvin_files/exception/src -Ifusion_sdk/calvin_files/fusion/src -Ifusion_sdk/calvin_files/fusion/src/GCOSAdapter -Ifusion_sdk/calvin_files/fusion/src/CalvinAdapter -Ifusion_sdk/calvin_files/parameter/src -Ifusion_sdk/calvin_files/parsers/src -Ifusion_sdk/calvin_files/portability/src -Ifusion_sdk/calvin_files/template/src -Ifusion_sdk/calvin_files/utils/src -Ifusion_sdk/calvin_files/writers/src -Ifusion_sdk/file -Ifusion_sdk/file/TsvFile -Ifusion_sdk/portability -Ifusion_sdk/util -Ifusion_sdk -D_USE_MEM_MAPPING_  -I/usr/local/include   -fPIC  -Wall -g -O2  -Wno-sign-compare -O0 -c fusion_sdk/calvin_files/data/src/CHPQuantificationDetectionData.cpp -o fusion_sdk/calvin_files/data/src/CHPQuantificationDetectionData.o
clang++ -mmacosx-version-min=10.13 -std=gnu++11 -I"/Library/Frameworks/R.framework/Resources/include" -DNDEBUG -I. -Ifusion_sdk/calvin_files/array/src -Ifusion_sdk/calvin_files/data/src -Ifusion_sdk/calvin_files/exception/src -Ifusion_sdk/calvin_files/fusion/src -Ifusion_sdk/calvin_files/fusion/src/GCOSAdapter -Ifusion_sdk/calvin_files/fusion/src/CalvinAdapter -Ifusion_sdk/calvin_files/parameter/src -Ifusion_sdk/calvin_files/parsers/src -Ifusion_sdk/calvin_files/portability/src -Ifusion_sdk/calvin_files/template/src -Ifusion_sdk/calvin_files/utils/src -Ifusion_sdk/calvin_files/writers/src -Ifusion_sdk/file -Ifusion_sdk/file/TsvFile -Ifusion_sdk/portability -Ifusion_sdk/util -Ifusion_sdk -D_USE_MEM_MAPPING_  -I/usr/local/include   -fPIC  -Wall -g -O2  -Wno-sign-compare -O0 -c fusion_sdk/calvin_files/data/src/CHPGenotypeEntry.cpp -o fusion_sdk/calvin_files/data/src/CHPGenotypeEntry.o
clang++ -mmacosx-version-min=10.13 -std=gnu++11 -I"/Library/Frameworks/R.framework/Resources/include" -DNDEBUG -I. -Ifusion_sdk/calvin_files/array/src -Ifusion_sdk/calvin_files/data/src -Ifusion_sdk/calvin_files/exception/src -Ifusion_sdk/calvin_files/fusion/src -Ifusion_sdk/calvin_files/fusion/src/GCOSAdapter -Ifusion_sdk/calvin_files/fusion/src/CalvinAdapter -Ifusion_sdk/calvin_files/parameter/src -Ifusion_sdk/calvin_files/parsers/src -Ifusion_sdk/calvin_files/portability/src -Ifusion_sdk/calvin_files/template/src -Ifusion_sdk/calvin_files/utils/src -Ifusion_sdk/calvin_files/writers/src -Ifusion_sdk/file -Ifusion_sdk/file/TsvFile -Ifusion_sdk/portability -Ifusion_sdk/util -Ifusion_sdk -D_USE_MEM_MAPPING_  -I/usr/local/include   -fPIC  -Wall -g -O2  -Wno-sign-compare -O0 -c fusion_sdk/calvin_files/data/src/CHPUniversalEntry.cpp -o fusion_sdk/calvin_files/data/src/CHPUniversalEntry.o
clang++ -mmacosx-version-min=10.13 -std=gnu++11 -I"/Library/Frameworks/R.framework/Resources/include" -DNDEBUG -I. -Ifusion_sdk/calvin_files/array/src -Ifusion_sdk/calvin_files/data/src -Ifusion_sdk/calvin_files/exception/src -Ifusion_sdk/calvin_files/fusion/src -Ifusion_sdk/calvin_files/fusion/src/GCOSAdapter -Ifusion_sdk/calvin_files/fusion/src/CalvinAdapter -Ifusion_sdk/calvin_files/parameter/src -Ifusion_sdk/calvin_files/parsers/src -Ifusion_sdk/calvin_files/portability/src -Ifusion_sdk/calvin_files/template/src -Ifusion_sdk/calvin_files/utils/src -Ifusion_sdk/calvin_files/writers/src -Ifusion_sdk/file -Ifusion_sdk/file/TsvFile -Ifusion_sdk/portability -Ifusion_sdk/util -Ifusion_sdk -D_USE_MEM_MAPPING_  -I/usr/local/include   -fPIC  -Wall -g -O2  -Wno-sign-compare -O0 -c fusion_sdk/calvin_files/data/src/ColumnInfo.cpp -o fusion_sdk/calvin_files/data/src/ColumnInfo.o
clang++ -mmacosx-version-min=10.13 -std=gnu++11 -I"/Library/Frameworks/R.framework/Resources/include" -DNDEBUG -I. -Ifusion_sdk/calvin_files/array/src -Ifusion_sdk/calvin_files/data/src -Ifusion_sdk/calvin_files/exception/src -Ifusion_sdk/calvin_files/fusion/src -Ifusion_sdk/calvin_files/fusion/src/GCOSAdapter -Ifusion_sdk/calvin_files/fusion/src/CalvinAdapter -Ifusion_sdk/calvin_files/parameter/src -Ifusion_sdk/calvin_files/parsers/src -Ifusion_sdk/calvin_files/portability/src -Ifusion_sdk/calvin_files/template/src -Ifusion_sdk/calvin_files/utils/src -Ifusion_sdk/calvin_files/writers/src -Ifusion_sdk/file -Ifusion_sdk/file/TsvFile -Ifusion_sdk/portability -Ifusion_sdk/util -Ifusion_sdk -D_USE_MEM_MAPPING_  -I/usr/local/include   -fPIC  -Wall -g -O2  -Wno-sign-compare -O0 -c fusion_sdk/calvin_files/data/src/DataGroup.cpp -o fusion_sdk/calvin_files/data/src/DataGroup.o
clang++ -mmacosx-version-min=10.13 -std=gnu++11 -I"/Library/Frameworks/R.framework/Resources/include" -DNDEBUG -I. -Ifusion_sdk/calvin_files/array/src -Ifusion_sdk/calvin_files/data/src -Ifusion_sdk/calvin_files/exception/src -Ifusion_sdk/calvin_files/fusion/src -Ifusion_sdk/calvin_files/fusion/src/GCOSAdapter -Ifusion_sdk/calvin_files/fusion/src/CalvinAdapter -Ifusion_sdk/calvin_files/parameter/src -Ifusion_sdk/calvin_files/parsers/src -Ifusion_sdk/calvin_files/portability/src -Ifusion_sdk/calvin_files/template/src -Ifusion_sdk/calvin_files/utils/src -Ifusion_sdk/calvin_files/writers/src -Ifusion_sdk/file -Ifusion_sdk/file/TsvFile -Ifusion_sdk/portability -Ifusion_sdk/util -Ifusion_sdk -D_USE_MEM_MAPPING_  -I/usr/local/include   -fPIC  -Wall -g -O2  -Wno-sign-compare -O0 -c fusion_sdk/calvin_files/data/src/DataGroupHeader.cpp -o fusion_sdk/calvin_files/data/src/DataGroupHeader.o
clang++ -mmacosx-version-min=10.13 -std=gnu++11 -I"/Library/Frameworks/R.framework/Resources/include" -DNDEBUG -I. -Ifusion_sdk/calvin_files/array/src -Ifusion_sdk/calvin_files/data/src -Ifusion_sdk/calvin_files/exception/src -Ifusion_sdk/calvin_files/fusion/src -Ifusion_sdk/calvin_files/fusion/src/GCOSAdapter -Ifusion_sdk/calvin_files/fusion/src/CalvinAdapter -Ifusion_sdk/calvin_files/parameter/src -Ifusion_sdk/calvin_files/parsers/src -Ifusion_sdk/calvin_files/portability/src -Ifusion_sdk/calvin_files/template/src -Ifusion_sdk/calvin_files/utils/src -Ifusion_sdk/calvin_files/writers/src -Ifusion_sdk/file -Ifusion_sdk/file/TsvFile -Ifusion_sdk/portability -Ifusion_sdk/util -Ifusion_sdk -D_USE_MEM_MAPPING_  -I/usr/local/include   -fPIC  -Wall -g -O2  -Wno-sign-compare -O0 -c fusion_sdk/calvin_files/data/src/DataSet.cpp -o fusion_sdk/calvin_files/data/src/DataSet.o
clang++ -mmacosx-version-min=10.13 -std=gnu++11 -I"/Library/Frameworks/R.framework/Resources/include" -DNDEBUG -I. -Ifusion_sdk/calvin_files/array/src -Ifusion_sdk/calvin_files/data/src -Ifusion_sdk/calvin_files/exception/src -Ifusion_sdk/calvin_files/fusion/src -Ifusion_sdk/calvin_files/fusion/src/GCOSAdapter -Ifusion_sdk/calvin_files/fusion/src/CalvinAdapter -Ifusion_sdk/calvin_files/parameter/src -Ifusion_sdk/calvin_files/parsers/src -Ifusion_sdk/calvin_files/portability/src -Ifusion_sdk/calvin_files/template/src -Ifusion_sdk/calvin_files/utils/src -Ifusion_sdk/calvin_files/writers/src -Ifusion_sdk/file -Ifusion_sdk/file/TsvFile -Ifusion_sdk/portability -Ifusion_sdk/util -Ifusion_sdk -D_USE_MEM_MAPPING_  -I/usr/local/include   -fPIC  -Wall -g -O2  -Wno-sign-compare -O0 -c fusion_sdk/calvin_files/data/src/DataSetHeader.cpp -o fusion_sdk/calvin_files/data/src/DataSetHeader.o
clang++ -mmacosx-version-min=10.13 -std=gnu++11 -I"/Library/Frameworks/R.framework/Resources/include" -DNDEBUG -I. -Ifusion_sdk/calvin_files/array/src -Ifusion_sdk/calvin_files/data/src -Ifusion_sdk/calvin_files/exception/src -Ifusion_sdk/calvin_files/fusion/src -Ifusion_sdk/calvin_files/fusion/src/GCOSAdapter -Ifusion_sdk/calvin_files/fusion/src/CalvinAdapter -Ifusion_sdk/calvin_files/parameter/src -Ifusion_sdk/calvin_files/parsers/src -Ifusion_sdk/calvin_files/portability/src -Ifusion_sdk/calvin_files/template/src -Ifusion_sdk/calvin_files/utils/src -Ifusion_sdk/calvin_files/writers/src -Ifusion_sdk/file -Ifusion_sdk/file/TsvFile -Ifusion_sdk/portability -Ifusion_sdk/util -Ifusion_sdk -D_USE_MEM_MAPPING_  -I/usr/local/include   -fPIC  -Wall -g -O2  -Wno-sign-compare -O0 -c fusion_sdk/calvin_files/data/src/FileHeader.cpp -o fusion_sdk/calvin_files/data/src/FileHeader.o
clang++ -mmacosx-version-min=10.13 -std=gnu++11 -I"/Library/Frameworks/R.framework/Resources/include" -DNDEBUG -I. -Ifusion_sdk/calvin_files/array/src -Ifusion_sdk/calvin_files/data/src -Ifusion_sdk/calvin_files/exception/src -Ifusion_sdk/calvin_files/fusion/src -Ifusion_sdk/calvin_files/fusion/src/GCOSAdapter -Ifusion_sdk/calvin_files/fusion/src/CalvinAdapter -Ifusion_sdk/calvin_files/parameter/src -Ifusion_sdk/calvin_files/parsers/src -Ifusion_sdk/calvin_files/portability/src -Ifusion_sdk/calvin_files/template/src -Ifusion_sdk/calvin_files/utils/src -Ifusion_sdk/calvin_files/writers/src -Ifusion_sdk/file -Ifusion_sdk/file/TsvFile -Ifusion_sdk/portability -Ifusion_sdk/util -Ifusion_sdk -D_USE_MEM_MAPPING_  -I/usr/local/include   -fPIC  -Wall -g -O2  -Wno-sign-compare -O0 -c fusion_sdk/calvin_files/data/src/GenericData.cpp -o fusion_sdk/calvin_files/data/src/GenericData.o
clang++ -mmacosx-version-min=10.13 -std=gnu++11 -I"/Library/Frameworks/R.framework/Resources/include" -DNDEBUG -I. -Ifusion_sdk/calvin_files/array/src -Ifusion_sdk/calvin_files/data/src -Ifusion_sdk/calvin_files/exception/src -Ifusion_sdk/calvin_files/fusion/src -Ifusion_sdk/calvin_files/fusion/src/GCOSAdapter -Ifusion_sdk/calvin_files/fusion/src/CalvinAdapter -Ifusion_sdk/calvin_files/parameter/src -Ifusion_sdk/calvin_files/parsers/src -Ifusion_sdk/calvin_files/portability/src -Ifusion_sdk/calvin_files/template/src -Ifusion_sdk/calvin_files/utils/src -Ifusion_sdk/calvin_files/writers/src -Ifusion_sdk/file -Ifusion_sdk/file/TsvFile -Ifusion_sdk/portability -Ifusion_sdk/util -Ifusion_sdk -D_USE_MEM_MAPPING_  -I/usr/local/include   -fPIC  -Wall -g -O2  -Wno-sign-compare -O0 -c fusion_sdk/calvin_files/data/src/GenericDataHeader.cpp -o fusion_sdk/calvin_files/data/src/GenericDataHeader.o
clang++ -mmacosx-version-min=10.13 -std=gnu++11 -I"/Library/Frameworks/R.framework/Resources/include" -DNDEBUG -I. -Ifusion_sdk/calvin_files/array/src -Ifusion_sdk/calvin_files/data/src -Ifusion_sdk/calvin_files/exception/src -Ifusion_sdk/calvin_files/fusion/src -Ifusion_sdk/calvin_files/fusion/src/GCOSAdapter -Ifusion_sdk/calvin_files/fusion/src/CalvinAdapter -Ifusion_sdk/calvin_files/parameter/src -Ifusion_sdk/calvin_files/parsers/src -Ifusion_sdk/calvin_files/portability/src -Ifusion_sdk/calvin_files/template/src -Ifusion_sdk/calvin_files/utils/src -Ifusion_sdk/calvin_files/writers/src -Ifusion_sdk/file -Ifusion_sdk/file/TsvFile -Ifusion_sdk/portability -Ifusion_sdk/util -Ifusion_sdk -D_USE_MEM_MAPPING_  -I/usr/local/include   -fPIC  -Wall -g -O2  -Wno-sign-compare -O0 -c fusion_sdk/calvin_files/exception/src/ExceptionBase.cpp -o fusion_sdk/calvin_files/exception/src/ExceptionBase.o
clang++ -mmacosx-version-min=10.13 -std=gnu++11 -I"/Library/Frameworks/R.framework/Resources/include" -DNDEBUG -I. -Ifusion_sdk/calvin_files/array/src -Ifusion_sdk/calvin_files/data/src -Ifusion_sdk/calvin_files/exception/src -Ifusion_sdk/calvin_files/fusion/src -Ifusion_sdk/calvin_files/fusion/src/GCOSAdapter -Ifusion_sdk/calvin_files/fusion/src/CalvinAdapter -Ifusion_sdk/calvin_files/parameter/src -Ifusion_sdk/calvin_files/parsers/src -Ifusion_sdk/calvin_files/portability/src -Ifusion_sdk/calvin_files/template/src -Ifusion_sdk/calvin_files/utils/src -Ifusion_sdk/calvin_files/writers/src -Ifusion_sdk/file -Ifusion_sdk/file/TsvFile -Ifusion_sdk/portability -Ifusion_sdk/util -Ifusion_sdk -D_USE_MEM_MAPPING_  -I/usr/local/include   -fPIC  -Wall -g -O2  -Wno-sign-compare -O0 -c fusion_sdk/calvin_files/fusion/src/CalvinAdapter/CalvinCELDataAdapter.cpp -o fusion_sdk/calvin_files/fusion/src/CalvinAdapter/CalvinCELDataAdapter.o
clang++ -mmacosx-version-min=10.13 -std=gnu++11 -I"/Library/Frameworks/R.framework/Resources/include" -DNDEBUG -I. -Ifusion_sdk/calvin_files/array/src -Ifusion_sdk/calvin_files/data/src -Ifusion_sdk/calvin_files/exception/src -Ifusion_sdk/calvin_files/fusion/src -Ifusion_sdk/calvin_files/fusion/src/GCOSAdapter -Ifusion_sdk/calvin_files/fusion/src/CalvinAdapter -Ifusion_sdk/calvin_files/parameter/src -Ifusion_sdk/calvin_files/parsers/src -Ifusion_sdk/calvin_files/portability/src -Ifusion_sdk/calvin_files/template/src -Ifusion_sdk/calvin_files/utils/src -Ifusion_sdk/calvin_files/writers/src -Ifusion_sdk/file -Ifusion_sdk/file/TsvFile -Ifusion_sdk/portability -Ifusion_sdk/util -Ifusion_sdk -D_USE_MEM_MAPPING_  -I/usr/local/include   -fPIC  -Wall -g -O2  -Wno-sign-compare -O0 -c fusion_sdk/calvin_files/fusion/src/CalvinAdapter/CalvinCHPDataAdapter.cpp -o fusion_sdk/calvin_files/fusion/src/CalvinAdapter/CalvinCHPDataAdapter.o
clang++ -mmacosx-version-min=10.13 -std=gnu++11 -I"/Library/Frameworks/R.framework/Resources/include" -DNDEBUG -I. -Ifusion_sdk/calvin_files/array/src -Ifusion_sdk/calvin_files/data/src -Ifusion_sdk/calvin_files/exception/src -Ifusion_sdk/calvin_files/fusion/src -Ifusion_sdk/calvin_files/fusion/src/GCOSAdapter -Ifusion_sdk/calvin_files/fusion/src/CalvinAdapter -Ifusion_sdk/calvin_files/parameter/src -Ifusion_sdk/calvin_files/parsers/src -Ifusion_sdk/calvin_files/portability/src -Ifusion_sdk/calvin_files/template/src -Ifusion_sdk/calvin_files/utils/src -Ifusion_sdk/calvin_files/writers/src -Ifusion_sdk/file -Ifusion_sdk/file/TsvFile -Ifusion_sdk/portability -Ifusion_sdk/util -Ifusion_sdk -D_USE_MEM_MAPPING_  -I/usr/local/include   -fPIC  -Wall -g -O2  -Wno-sign-compare -O0 -c fusion_sdk/calvin_files/fusion/src/FusionBPMAPData.cpp -o fusion_sdk/calvin_files/fusion/src/FusionBPMAPData.o
clang++ -mmacosx-version-min=10.13 -std=gnu++11 -I"/Library/Frameworks/R.framework/Resources/include" -DNDEBUG -I. -Ifusion_sdk/calvin_files/array/src -Ifusion_sdk/calvin_files/data/src -Ifusion_sdk/calvin_files/exception/src -Ifusion_sdk/calvin_files/fusion/src -Ifusion_sdk/calvin_files/fusion/src/GCOSAdapter -Ifusion_sdk/calvin_files/fusion/src/CalvinAdapter -Ifusion_sdk/calvin_files/parameter/src -Ifusion_sdk/calvin_files/parsers/src -Ifusion_sdk/calvin_files/portability/src -Ifusion_sdk/calvin_files/template/src -Ifusion_sdk/calvin_files/utils/src -Ifusion_sdk/calvin_files/writers/src -Ifusion_sdk/file -Ifusion_sdk/file/TsvFile -Ifusion_sdk/portability -Ifusion_sdk/util -Ifusion_sdk -D_USE_MEM_MAPPING_  -I/usr/local/include   -fPIC  -Wall -g -O2  -Wno-sign-compare -O0 -c fusion_sdk/calvin_files/fusion/src/FusionCDFData.cpp -o fusion_sdk/calvin_files/fusion/src/FusionCDFData.o
clang++ -mmacosx-version-min=10.13 -std=gnu++11 -I"/Library/Frameworks/R.framework/Resources/include" -DNDEBUG -I. -Ifusion_sdk/calvin_files/array/src -Ifusion_sdk/calvin_files/data/src -Ifusion_sdk/calvin_files/exception/src -Ifusion_sdk/calvin_files/fusion/src -Ifusion_sdk/calvin_files/fusion/src/GCOSAdapter -Ifusion_sdk/calvin_files/fusion/src/CalvinAdapter -Ifusion_sdk/calvin_files/parameter/src -Ifusion_sdk/calvin_files/parsers/src -Ifusion_sdk/calvin_files/portability/src -Ifusion_sdk/calvin_files/template/src -Ifusion_sdk/calvin_files/utils/src -Ifusion_sdk/calvin_files/writers/src -Ifusion_sdk/file -Ifusion_sdk/file/TsvFile -Ifusion_sdk/portability -Ifusion_sdk/util -Ifusion_sdk -D_USE_MEM_MAPPING_  -I/usr/local/include   -fPIC  -Wall -g -O2  -Wno-sign-compare -O0 -c fusion_sdk/calvin_files/fusion/src/FusionCDFQCProbeSetNames.cpp -o fusion_sdk/calvin_files/fusion/src/FusionCDFQCProbeSetNames.o
clang++ -mmacosx-version-min=10.13 -std=gnu++11 -I"/Library/Frameworks/R.framework/Resources/include" -DNDEBUG -I. -Ifusion_sdk/calvin_files/array/src -Ifusion_sdk/calvin_files/data/src -Ifusion_sdk/calvin_files/exception/src -Ifusion_sdk/calvin_files/fusion/src -Ifusion_sdk/calvin_files/fusion/src/GCOSAdapter -Ifusion_sdk/calvin_files/fusion/src/CalvinAdapter -Ifusion_sdk/calvin_files/parameter/src -Ifusion_sdk/calvin_files/parsers/src -Ifusion_sdk/calvin_files/portability/src -Ifusion_sdk/calvin_files/template/src -Ifusion_sdk/calvin_files/utils/src -Ifusion_sdk/calvin_files/writers/src -Ifusion_sdk/file -Ifusion_sdk/file/TsvFile -Ifusion_sdk/portability -Ifusion_sdk/util -Ifusion_sdk -D_USE_MEM_MAPPING_  -I/usr/local/include   -fPIC  -Wall -g -O2  -Wno-sign-compare -O0 -c fusion_sdk/calvin_files/fusion/src/FusionCELData.cpp -o fusion_sdk/calvin_files/fusion/src/FusionCELData.o
clang++ -mmacosx-version-min=10.13 -std=gnu++11 -I"/Library/Frameworks/R.framework/Resources/include" -DNDEBUG -I. -Ifusion_sdk/calvin_files/array/src -Ifusion_sdk/calvin_files/data/src -Ifusion_sdk/calvin_files/exception/src -Ifusion_sdk/calvin_files/fusion/src -Ifusion_sdk/calvin_files/fusion/src/GCOSAdapter -Ifusion_sdk/calvin_files/fusion/src/CalvinAdapter -Ifusion_sdk/calvin_files/parameter/src -Ifusion_sdk/calvin_files/parsers/src -Ifusion_sdk/calvin_files/portability/src -Ifusion_sdk/calvin_files/template/src -Ifusion_sdk/calvin_files/utils/src -Ifusion_sdk/calvin_files/writers/src -Ifusion_sdk/file -Ifusion_sdk/file/TsvFile -Ifusion_sdk/portability -Ifusion_sdk/util -Ifusion_sdk -D_USE_MEM_MAPPING_  -I/usr/local/include   -fPIC  -Wall -g -O2  -Wno-sign-compare -O0 -c fusion_sdk/calvin_files/fusion/src/FusionCHPData.cpp -o fusion_sdk/calvin_files/fusion/src/FusionCHPData.o
clang++ -mmacosx-version-min=10.13 -std=gnu++11 -I"/Library/Frameworks/R.framework/Resources/include" -DNDEBUG -I. -Ifusion_sdk/calvin_files/array/src -Ifusion_sdk/calvin_files/data/src -Ifusion_sdk/calvin_files/exception/src -Ifusion_sdk/calvin_files/fusion/src -Ifusion_sdk/calvin_files/fusion/src/GCOSAdapter -Ifusion_sdk/calvin_files/fusion/src/CalvinAdapter -Ifusion_sdk/calvin_files/parameter/src -Ifusion_sdk/calvin_files/parsers/src -Ifusion_sdk/calvin_files/portability/src -Ifusion_sdk/calvin_files/template/src -Ifusion_sdk/calvin_files/utils/src -Ifusion_sdk/calvin_files/writers/src -Ifusion_sdk/file -Ifusion_sdk/file/TsvFile -Ifusion_sdk/portability -Ifusion_sdk/util -Ifusion_sdk -D_USE_MEM_MAPPING_  -I/usr/local/include   -fPIC  -Wall -g -O2  -Wno-sign-compare -O0 -c fusion_sdk/calvin_files/fusion/src/FusionProbeSetResults.cpp -o fusion_sdk/calvin_files/fusion/src/FusionProbeSetResults.o
clang++ -mmacosx-version-min=10.13 -std=gnu++11 -I"/Library/Frameworks/R.framework/Resources/include" -DNDEBUG -I. -Ifusion_sdk/calvin_files/array/src -Ifusion_sdk/calvin_files/data/src -Ifusion_sdk/calvin_files/exception/src -Ifusion_sdk/calvin_files/fusion/src -Ifusion_sdk/calvin_files/fusion/src/GCOSAdapter -Ifusion_sdk/calvin_files/fusion/src/CalvinAdapter -Ifusion_sdk/calvin_files/parameter/src -Ifusion_sdk/calvin_files/parsers/src -Ifusion_sdk/calvin_files/portability/src -Ifusion_sdk/calvin_files/template/src -Ifusion_sdk/calvin_files/utils/src -Ifusion_sdk/calvin_files/writers/src -Ifusion_sdk/file -Ifusion_sdk/file/TsvFile -Ifusion_sdk/portability -Ifusion_sdk/util -Ifusion_sdk -D_USE_MEM_MAPPING_  -I/usr/local/include   -fPIC  -Wall -g -O2  -Wno-sign-compare -O0 -c fusion_sdk/calvin_files/fusion/src/GCOSAdapter/GCOSCELDataAdapter.cpp -o fusion_sdk/calvin_files/fusion/src/GCOSAdapter/GCOSCELDataAdapter.o
clang++ -mmacosx-version-min=10.13 -std=gnu++11 -I"/Library/Frameworks/R.framework/Resources/include" -DNDEBUG -I. -Ifusion_sdk/calvin_files/array/src -Ifusion_sdk/calvin_files/data/src -Ifusion_sdk/calvin_files/exception/src -Ifusion_sdk/calvin_files/fusion/src -Ifusion_sdk/calvin_files/fusion/src/GCOSAdapter -Ifusion_sdk/calvin_files/fusion/src/CalvinAdapter -Ifusion_sdk/calvin_files/parameter/src -Ifusion_sdk/calvin_files/parsers/src -Ifusion_sdk/calvin_files/portability/src -Ifusion_sdk/calvin_files/template/src -Ifusion_sdk/calvin_files/utils/src -Ifusion_sdk/calvin_files/writers/src -Ifusion_sdk/file -Ifusion_sdk/file/TsvFile -Ifusion_sdk/portability -Ifusion_sdk/util -Ifusion_sdk -D_USE_MEM_MAPPING_  -I/usr/local/include   -fPIC  -Wall -g -O2  -Wno-sign-compare -O0 -c fusion_sdk/calvin_files/fusion/src/GCOSAdapter/GCOSCHPDataAdapter.cpp -o fusion_sdk/calvin_files/fusion/src/GCOSAdapter/GCOSCHPDataAdapter.o
clang++ -mmacosx-version-min=10.13 -std=gnu++11 -I"/Library/Frameworks/R.framework/Resources/include" -DNDEBUG -I. -Ifusion_sdk/calvin_files/array/src -Ifusion_sdk/calvin_files/data/src -Ifusion_sdk/calvin_files/exception/src -Ifusion_sdk/calvin_files/fusion/src -Ifusion_sdk/calvin_files/fusion/src/GCOSAdapter -Ifusion_sdk/calvin_files/fusion/src/CalvinAdapter -Ifusion_sdk/calvin_files/parameter/src -Ifusion_sdk/calvin_files/parsers/src -Ifusion_sdk/calvin_files/portability/src -Ifusion_sdk/calvin_files/template/src -Ifusion_sdk/calvin_files/utils/src -Ifusion_sdk/calvin_files/writers/src -Ifusion_sdk/file -Ifusion_sdk/file/TsvFile -Ifusion_sdk/portability -Ifusion_sdk/util -Ifusion_sdk -D_USE_MEM_MAPPING_  -I/usr/local/include   -fPIC  -Wall -g -O2  -Wno-sign-compare -O0 -c fusion_sdk/calvin_files/fusion/src/FusionCHPLegacyData.cpp -o fusion_sdk/calvin_files/fusion/src/FusionCHPLegacyData.o
clang++ -mmacosx-version-min=10.13 -std=gnu++11 -I"/Library/Frameworks/R.framework/Resources/include" -DNDEBUG -I. -Ifusion_sdk/calvin_files/array/src -Ifusion_sdk/calvin_files/data/src -Ifusion_sdk/calvin_files/exception/src -Ifusion_sdk/calvin_files/fusion/src -Ifusion_sdk/calvin_files/fusion/src/GCOSAdapter -Ifusion_sdk/calvin_files/fusion/src/CalvinAdapter -Ifusion_sdk/calvin_files/parameter/src -Ifusion_sdk/calvin_files/parsers/src -Ifusion_sdk/calvin_files/portability/src -Ifusion_sdk/calvin_files/template/src -Ifusion_sdk/calvin_files/utils/src -Ifusion_sdk/calvin_files/writers/src -Ifusion_sdk/file -Ifusion_sdk/file/TsvFile -Ifusion_sdk/portability -Ifusion_sdk/util -Ifusion_sdk -D_USE_MEM_MAPPING_  -I/usr/local/include   -fPIC  -Wall -g -O2  -Wno-sign-compare -O0 -c fusion_sdk/calvin_files/fusion/src/FusionCHPMultiDataAccessor.cpp -o fusion_sdk/calvin_files/fusion/src/FusionCHPMultiDataAccessor.o
clang++ -mmacosx-version-min=10.13 -std=gnu++11 -I"/Library/Frameworks/R.framework/Resources/include" -DNDEBUG -I. -Ifusion_sdk/calvin_files/array/src -Ifusion_sdk/calvin_files/data/src -Ifusion_sdk/calvin_files/exception/src -Ifusion_sdk/calvin_files/fusion/src -Ifusion_sdk/calvin_files/fusion/src/GCOSAdapter -Ifusion_sdk/calvin_files/fusion/src/CalvinAdapter -Ifusion_sdk/calvin_files/parameter/src -Ifusion_sdk/calvin_files/parsers/src -Ifusion_sdk/calvin_files/portability/src -Ifusion_sdk/calvin_files/template/src -Ifusion_sdk/calvin_files/utils/src -Ifusion_sdk/calvin_files/writers/src -Ifusion_sdk/file -Ifusion_sdk/file/TsvFile -Ifusion_sdk/portability -Ifusion_sdk/util -Ifusion_sdk -D_USE_MEM_MAPPING_  -I/usr/local/include   -fPIC  -Wall -g -O2  -Wno-sign-compare -O0 -c fusion_sdk/calvin_files/fusion/src/FusionCHPMultiDataData.cpp -o fusion_sdk/calvin_files/fusion/src/FusionCHPMultiDataData.o
clang++ -mmacosx-version-min=10.13 -std=gnu++11 -I"/Library/Frameworks/R.framework/Resources/include" -DNDEBUG -I. -Ifusion_sdk/calvin_files/array/src -Ifusion_sdk/calvin_files/data/src -Ifusion_sdk/calvin_files/exception/src -Ifusion_sdk/calvin_files/fusion/src -Ifusion_sdk/calvin_files/fusion/src/GCOSAdapter -Ifusion_sdk/calvin_files/fusion/src/CalvinAdapter -Ifusion_sdk/calvin_files/parameter/src -Ifusion_sdk/calvin_files/parsers/src -Ifusion_sdk/calvin_files/portability/src -Ifusion_sdk/calvin_files/template/src -Ifusion_sdk/calvin_files/utils/src -Ifusion_sdk/calvin_files/writers/src -Ifusion_sdk/file -Ifusion_sdk/file/TsvFile -Ifusion_sdk/portability -Ifusion_sdk/util -Ifusion_sdk -D_USE_MEM_MAPPING_  -I/usr/local/include   -fPIC  -Wall -g -O2  -Wno-sign-compare -O0 -c fusion_sdk/calvin_files/fusion/src/FusionCHPTilingData.cpp -o fusion_sdk/calvin_files/fusion/src/FusionCHPTilingData.o
clang++ -mmacosx-version-min=10.13 -std=gnu++11 -I"/Library/Frameworks/R.framework/Resources/include" -DNDEBUG -I. -Ifusion_sdk/calvin_files/array/src -Ifusion_sdk/calvin_files/data/src -Ifusion_sdk/calvin_files/exception/src -Ifusion_sdk/calvin_files/fusion/src -Ifusion_sdk/calvin_files/fusion/src/GCOSAdapter -Ifusion_sdk/calvin_files/fusion/src/CalvinAdapter -Ifusion_sdk/calvin_files/parameter/src -Ifusion_sdk/calvin_files/parsers/src -Ifusion_sdk/calvin_files/portability/src -Ifusion_sdk/calvin_files/template/src -Ifusion_sdk/calvin_files/utils/src -Ifusion_sdk/calvin_files/writers/src -Ifusion_sdk/file -Ifusion_sdk/file/TsvFile -Ifusion_sdk/portability -Ifusion_sdk/util -Ifusion_sdk -D_USE_MEM_MAPPING_  -I/usr/local/include   -fPIC  -Wall -g -O2  -Wno-sign-compare -O0 -c fusion_sdk/calvin_files/fusion/src/FusionCHPGenericData.cpp -o fusion_sdk/calvin_files/fusion/src/FusionCHPGenericData.o
clang++ -mmacosx-version-min=10.13 -std=gnu++11 -I"/Library/Frameworks/R.framework/Resources/include" -DNDEBUG -I. -Ifusion_sdk/calvin_files/array/src -Ifusion_sdk/calvin_files/data/src -Ifusion_sdk/calvin_files/exception/src -Ifusion_sdk/calvin_files/fusion/src -Ifusion_sdk/calvin_files/fusion/src/GCOSAdapter -Ifusion_sdk/calvin_files/fusion/src/CalvinAdapter -Ifusion_sdk/calvin_files/parameter/src -Ifusion_sdk/calvin_files/parsers/src -Ifusion_sdk/calvin_files/portability/src -Ifusion_sdk/calvin_files/template/src -Ifusion_sdk/calvin_files/utils/src -Ifusion_sdk/calvin_files/writers/src -Ifusion_sdk/file -Ifusion_sdk/file/TsvFile -Ifusion_sdk/portability -Ifusion_sdk/util -Ifusion_sdk -D_USE_MEM_MAPPING_  -I/usr/local/include   -fPIC  -Wall -g -O2  -Wno-sign-compare -O0 -c fusion_sdk/calvin_files/fusion/src/FusionCHPQuantificationData.cpp -o fusion_sdk/calvin_files/fusion/src/FusionCHPQuantificationData.o
clang++ -mmacosx-version-min=10.13 -std=gnu++11 -I"/Library/Frameworks/R.framework/Resources/include" -DNDEBUG -I. -Ifusion_sdk/calvin_files/array/src -Ifusion_sdk/calvin_files/data/src -Ifusion_sdk/calvin_files/exception/src -Ifusion_sdk/calvin_files/fusion/src -Ifusion_sdk/calvin_files/fusion/src/GCOSAdapter -Ifusion_sdk/calvin_files/fusion/src/CalvinAdapter -Ifusion_sdk/calvin_files/parameter/src -Ifusion_sdk/calvin_files/parsers/src -Ifusion_sdk/calvin_files/portability/src -Ifusion_sdk/calvin_files/template/src -Ifusion_sdk/calvin_files/utils/src -Ifusion_sdk/calvin_files/writers/src -Ifusion_sdk/file -Ifusion_sdk/file/TsvFile -Ifusion_sdk/portability -Ifusion_sdk/util -Ifusion_sdk -D_USE_MEM_MAPPING_  -I/usr/local/include   -fPIC  -Wall -g -O2  -Wno-sign-compare -O0 -c fusion_sdk/calvin_files/fusion/src/FusionCHPQuantificationDetectionData.cpp -o fusion_sdk/calvin_files/fusion/src/FusionCHPQuantificationDetectionData.o
clang++ -mmacosx-version-min=10.13 -std=gnu++11 -I"/Library/Frameworks/R.framework/Resources/include" -DNDEBUG -I. -Ifusion_sdk/calvin_files/array/src -Ifusion_sdk/calvin_files/data/src -Ifusion_sdk/calvin_files/exception/src -Ifusion_sdk/calvin_files/fusion/src -Ifusion_sdk/calvin_files/fusion/src/GCOSAdapter -Ifusion_sdk/calvin_files/fusion/src/CalvinAdapter -Ifusion_sdk/calvin_files/parameter/src -Ifusion_sdk/calvin_files/parsers/src -Ifusion_sdk/calvin_files/portability/src -Ifusion_sdk/calvin_files/template/src -Ifusion_sdk/calvin_files/utils/src -Ifusion_sdk/calvin_files/writers/src -Ifusion_sdk/file -Ifusion_sdk/file/TsvFile -Ifusion_sdk/portability -Ifusion_sdk/util -Ifusion_sdk -D_USE_MEM_MAPPING_  -I/usr/local/include   -fPIC  -Wall -g -O2  -Wno-sign-compare -O0 -c fusion_sdk/calvin_files/parameter/src/ParameterNameValueType.cpp -o fusion_sdk/calvin_files/parameter/src/ParameterNameValueType.o
clang++ -mmacosx-version-min=10.13 -std=gnu++11 -I"/Library/Frameworks/R.framework/Resources/include" -DNDEBUG -I. -Ifusion_sdk/calvin_files/array/src -Ifusion_sdk/calvin_files/data/src -Ifusion_sdk/calvin_files/exception/src -Ifusion_sdk/calvin_files/fusion/src -Ifusion_sdk/calvin_files/fusion/src/GCOSAdapter -Ifusion_sdk/calvin_files/fusion/src/CalvinAdapter -Ifusion_sdk/calvin_files/parameter/src -Ifusion_sdk/calvin_files/parsers/src -Ifusion_sdk/calvin_files/portability/src -Ifusion_sdk/calvin_files/template/src -Ifusion_sdk/calvin_files/utils/src -Ifusion_sdk/calvin_files/writers/src -Ifusion_sdk/file -Ifusion_sdk/file/TsvFile -Ifusion_sdk/portability -Ifusion_sdk/util -Ifusion_sdk -D_USE_MEM_MAPPING_  -I/usr/local/include   -fPIC  -Wall -g -O2  -Wno-sign-compare -O0 -c fusion_sdk/calvin_files/parsers/src/CDFFileReader.cpp -o fusion_sdk/calvin_files/parsers/src/CDFFileReader.o
clang++ -mmacosx-version-min=10.13 -std=gnu++11 -I"/Library/Frameworks/R.framework/Resources/include" -DNDEBUG -I. -Ifusion_sdk/calvin_files/array/src -Ifusion_sdk/calvin_files/data/src -Ifusion_sdk/calvin_files/exception/src -Ifusion_sdk/calvin_files/fusion/src -Ifusion_sdk/calvin_files/fusion/src/GCOSAdapter -Ifusion_sdk/calvin_files/fusion/src/CalvinAdapter -Ifusion_sdk/calvin_files/parameter/src -Ifusion_sdk/calvin_files/parsers/src -Ifusion_sdk/calvin_files/portability/src -Ifusion_sdk/calvin_files/template/src -Ifusion_sdk/calvin_files/utils/src -Ifusion_sdk/calvin_files/writers/src -Ifusion_sdk/file -Ifusion_sdk/file/TsvFile -Ifusion_sdk/portability -Ifusion_sdk/util -Ifusion_sdk -D_USE_MEM_MAPPING_  -I/usr/local/include   -fPIC  -Wall -g -O2  -Wno-sign-compare -O0 -c fusion_sdk/calvin_files/parsers/src/CelFileReader.cpp -o fusion_sdk/calvin_files/parsers/src/CelFileReader.o
clang++ -mmacosx-version-min=10.13 -std=gnu++11 -I"/Library/Frameworks/R.framework/Resources/include" -DNDEBUG -I. -Ifusion_sdk/calvin_files/array/src -Ifusion_sdk/calvin_files/data/src -Ifusion_sdk/calvin_files/exception/src -Ifusion_sdk/calvin_files/fusion/src -Ifusion_sdk/calvin_files/fusion/src/GCOSAdapter -Ifusion_sdk/calvin_files/fusion/src/CalvinAdapter -Ifusion_sdk/calvin_files/parameter/src -Ifusion_sdk/calvin_files/parsers/src -Ifusion_sdk/calvin_files/portability/src -Ifusion_sdk/calvin_files/template/src -Ifusion_sdk/calvin_files/utils/src -Ifusion_sdk/calvin_files/writers/src -Ifusion_sdk/file -Ifusion_sdk/file/TsvFile -Ifusion_sdk/portability -Ifusion_sdk/util -Ifusion_sdk -D_USE_MEM_MAPPING_  -I/usr/local/include   -fPIC  -Wall -g -O2  -Wno-sign-compare -O0 -c fusion_sdk/calvin_files/parsers/src/CHPFileReader.cpp -o fusion_sdk/calvin_files/parsers/src/CHPFileReader.o
clang++ -mmacosx-version-min=10.13 -std=gnu++11 -I"/Library/Frameworks/R.framework/Resources/include" -DNDEBUG -I. -Ifusion_sdk/calvin_files/array/src -Ifusion_sdk/calvin_files/data/src -Ifusion_sdk/calvin_files/exception/src -Ifusion_sdk/calvin_files/fusion/src -Ifusion_sdk/calvin_files/fusion/src/GCOSAdapter -Ifusion_sdk/calvin_files/fusion/src/CalvinAdapter -Ifusion_sdk/calvin_files/parameter/src -Ifusion_sdk/calvin_files/parsers/src -Ifusion_sdk/calvin_files/portability/src -Ifusion_sdk/calvin_files/template/src -Ifusion_sdk/calvin_files/utils/src -Ifusion_sdk/calvin_files/writers/src -Ifusion_sdk/file -Ifusion_sdk/file/TsvFile -Ifusion_sdk/portability -Ifusion_sdk/util -Ifusion_sdk -D_USE_MEM_MAPPING_  -I/usr/local/include   -fPIC  -Wall -g -O2  -Wno-sign-compare -O0 -c fusion_sdk/calvin_files/parsers/src/CHPMultiDataFileReader.cpp -o fusion_sdk/calvin_files/parsers/src/CHPMultiDataFileReader.o
clang++ -mmacosx-version-min=10.13 -std=gnu++11 -I"/Library/Frameworks/R.framework/Resources/include" -DNDEBUG -I. -Ifusion_sdk/calvin_files/array/src -Ifusion_sdk/calvin_files/data/src -Ifusion_sdk/calvin_files/exception/src -Ifusion_sdk/calvin_files/fusion/src -Ifusion_sdk/calvin_files/fusion/src/GCOSAdapter -Ifusion_sdk/calvin_files/fusion/src/CalvinAdapter -Ifusion_sdk/calvin_files/parameter/src -Ifusion_sdk/calvin_files/parsers/src -Ifusion_sdk/calvin_files/portability/src -Ifusion_sdk/calvin_files/template/src -Ifusion_sdk/calvin_files/utils/src -Ifusion_sdk/calvin_files/writers/src -Ifusion_sdk/file -Ifusion_sdk/file/TsvFile -Ifusion_sdk/portability -Ifusion_sdk/util -Ifusion_sdk -D_USE_MEM_MAPPING_  -I/usr/local/include   -fPIC  -Wall -g -O2  -Wno-sign-compare -O0 -c fusion_sdk/calvin_files/parsers/src/CHPTilingFileReader.cpp -o fusion_sdk/calvin_files/parsers/src/CHPTilingFileReader.o
clang++ -mmacosx-version-min=10.13 -std=gnu++11 -I"/Library/Frameworks/R.framework/Resources/include" -DNDEBUG -I. -Ifusion_sdk/calvin_files/array/src -Ifusion_sdk/calvin_files/data/src -Ifusion_sdk/calvin_files/exception/src -Ifusion_sdk/calvin_files/fusion/src -Ifusion_sdk/calvin_files/fusion/src/GCOSAdapter -Ifusion_sdk/calvin_files/fusion/src/CalvinAdapter -Ifusion_sdk/calvin_files/parameter/src -Ifusion_sdk/calvin_files/parsers/src -Ifusion_sdk/calvin_files/portability/src -Ifusion_sdk/calvin_files/template/src -Ifusion_sdk/calvin_files/utils/src -Ifusion_sdk/calvin_files/writers/src -Ifusion_sdk/file -Ifusion_sdk/file/TsvFile -Ifusion_sdk/portability -Ifusion_sdk/util -Ifusion_sdk -D_USE_MEM_MAPPING_  -I/usr/local/include   -fPIC  -Wall -g -O2  -Wno-sign-compare -O0 -c fusion_sdk/calvin_files/parsers/src/CHPQuantificationFileReader.cpp -o fusion_sdk/calvin_files/parsers/src/CHPQuantificationFileReader.o
clang++ -mmacosx-version-min=10.13 -std=gnu++11 -I"/Library/Frameworks/R.framework/Resources/include" -DNDEBUG -I. -Ifusion_sdk/calvin_files/array/src -Ifusion_sdk/calvin_files/data/src -Ifusion_sdk/calvin_files/exception/src -Ifusion_sdk/calvin_files/fusion/src -Ifusion_sdk/calvin_files/fusion/src/GCOSAdapter -Ifusion_sdk/calvin_files/fusion/src/CalvinAdapter -Ifusion_sdk/calvin_files/parameter/src -Ifusion_sdk/calvin_files/parsers/src -Ifusion_sdk/calvin_files/portability/src -Ifusion_sdk/calvin_files/template/src -Ifusion_sdk/calvin_files/utils/src -Ifusion_sdk/calvin_files/writers/src -Ifusion_sdk/file -Ifusion_sdk/file/TsvFile -Ifusion_sdk/portability -Ifusion_sdk/util -Ifusion_sdk -D_USE_MEM_MAPPING_  -I/usr/local/include   -fPIC  -Wall -g -O2  -Wno-sign-compare -O0 -c fusion_sdk/calvin_files/parsers/src/CHPQuantificationDetectionFileReader.cpp -o fusion_sdk/calvin_files/parsers/src/CHPQuantificationDetectionFileReader.o
clang++ -mmacosx-version-min=10.13 -std=gnu++11 -I"/Library/Frameworks/R.framework/Resources/include" -DNDEBUG -I. -Ifusion_sdk/calvin_files/array/src -Ifusion_sdk/calvin_files/data/src -Ifusion_sdk/calvin_files/exception/src -Ifusion_sdk/calvin_files/fusion/src -Ifusion_sdk/calvin_files/fusion/src/GCOSAdapter -Ifusion_sdk/calvin_files/fusion/src/CalvinAdapter -Ifusion_sdk/calvin_files/parameter/src -Ifusion_sdk/calvin_files/parsers/src -Ifusion_sdk/calvin_files/portability/src -Ifusion_sdk/calvin_files/template/src -Ifusion_sdk/calvin_files/utils/src -Ifusion_sdk/calvin_files/writers/src -Ifusion_sdk/file -Ifusion_sdk/file/TsvFile -Ifusion_sdk/portability -Ifusion_sdk/util -Ifusion_sdk -D_USE_MEM_MAPPING_  -I/usr/local/include   -fPIC  -Wall -g -O2  -Wno-sign-compare -O0 -c fusion_sdk/calvin_files/parsers/src/DataGroupHeaderReader.cpp -o fusion_sdk/calvin_files/parsers/src/DataGroupHeaderReader.o
clang++ -mmacosx-version-min=10.13 -std=gnu++11 -I"/Library/Frameworks/R.framework/Resources/include" -DNDEBUG -I. -Ifusion_sdk/calvin_files/array/src -Ifusion_sdk/calvin_files/data/src -Ifusion_sdk/calvin_files/exception/src -Ifusion_sdk/calvin_files/fusion/src -Ifusion_sdk/calvin_files/fusion/src/GCOSAdapter -Ifusion_sdk/calvin_files/fusion/src/CalvinAdapter -Ifusion_sdk/calvin_files/parameter/src -Ifusion_sdk/calvin_files/parsers/src -Ifusion_sdk/calvin_files/portability/src -Ifusion_sdk/calvin_files/template/src -Ifusion_sdk/calvin_files/utils/src -Ifusion_sdk/calvin_files/writers/src -Ifusion_sdk/file -Ifusion_sdk/file/TsvFile -Ifusion_sdk/portability -Ifusion_sdk/util -Ifusion_sdk -D_USE_MEM_MAPPING_  -I/usr/local/include   -fPIC  -Wall -g -O2  -Wno-sign-compare -O0 -c fusion_sdk/calvin_files/parsers/src/DataGroupReader.cpp -o fusion_sdk/calvin_files/parsers/src/DataGroupReader.o
clang++ -mmacosx-version-min=10.13 -std=gnu++11 -I"/Library/Frameworks/R.framework/Resources/include" -DNDEBUG -I. -Ifusion_sdk/calvin_files/array/src -Ifusion_sdk/calvin_files/data/src -Ifusion_sdk/calvin_files/exception/src -Ifusion_sdk/calvin_files/fusion/src -Ifusion_sdk/calvin_files/fusion/src/GCOSAdapter -Ifusion_sdk/calvin_files/fusion/src/CalvinAdapter -Ifusion_sdk/calvin_files/parameter/src -Ifusion_sdk/calvin_files/parsers/src -Ifusion_sdk/calvin_files/portability/src -Ifusion_sdk/calvin_files/template/src -Ifusion_sdk/calvin_files/utils/src -Ifusion_sdk/calvin_files/writers/src -Ifusion_sdk/file -Ifusion_sdk/file/TsvFile -Ifusion_sdk/portability -Ifusion_sdk/util -Ifusion_sdk -D_USE_MEM_MAPPING_  -I/usr/local/include   -fPIC  -Wall -g -O2  -Wno-sign-compare -O0 -c fusion_sdk/calvin_files/parsers/src/DataSetHeaderReader.cpp -o fusion_sdk/calvin_files/parsers/src/DataSetHeaderReader.o
clang++ -mmacosx-version-min=10.13 -std=gnu++11 -I"/Library/Frameworks/R.framework/Resources/include" -DNDEBUG -I. -Ifusion_sdk/calvin_files/array/src -Ifusion_sdk/calvin_files/data/src -Ifusion_sdk/calvin_files/exception/src -Ifusion_sdk/calvin_files/fusion/src -Ifusion_sdk/calvin_files/fusion/src/GCOSAdapter -Ifusion_sdk/calvin_files/fusion/src/CalvinAdapter -Ifusion_sdk/calvin_files/parameter/src -Ifusion_sdk/calvin_files/parsers/src -Ifusion_sdk/calvin_files/portability/src -Ifusion_sdk/calvin_files/template/src -Ifusion_sdk/calvin_files/utils/src -Ifusion_sdk/calvin_files/writers/src -Ifusion_sdk/file -Ifusion_sdk/file/TsvFile -Ifusion_sdk/portability -Ifusion_sdk/util -Ifusion_sdk -D_USE_MEM_MAPPING_  -I/usr/local/include   -fPIC  -Wall -g -O2  -Wno-sign-compare -O0 -c fusion_sdk/calvin_files/parsers/src/DataSetReader.cpp -o fusion_sdk/calvin_files/parsers/src/DataSetReader.o
clang++ -mmacosx-version-min=10.13 -std=gnu++11 -I"/Library/Frameworks/R.framework/Resources/include" -DNDEBUG -I. -Ifusion_sdk/calvin_files/array/src -Ifusion_sdk/calvin_files/data/src -Ifusion_sdk/calvin_files/exception/src -Ifusion_sdk/calvin_files/fusion/src -Ifusion_sdk/calvin_files/fusion/src/GCOSAdapter -Ifusion_sdk/calvin_files/fusion/src/CalvinAdapter -Ifusion_sdk/calvin_files/parameter/src -Ifusion_sdk/calvin_files/parsers/src -Ifusion_sdk/calvin_files/portability/src -Ifusion_sdk/calvin_files/template/src -Ifusion_sdk/calvin_files/utils/src -Ifusion_sdk/calvin_files/writers/src -Ifusion_sdk/file -Ifusion_sdk/file/TsvFile -Ifusion_sdk/portability -Ifusion_sdk/util -Ifusion_sdk -D_USE_MEM_MAPPING_  -I/usr/local/include   -fPIC  -Wall -g -O2  -Wno-sign-compare -O0 -c fusion_sdk/calvin_files/parsers/src/FileHeaderReader.cpp -o fusion_sdk/calvin_files/parsers/src/FileHeaderReader.o
clang++ -mmacosx-version-min=10.13 -std=gnu++11 -I"/Library/Frameworks/R.framework/Resources/include" -DNDEBUG -I. -Ifusion_sdk/calvin_files/array/src -Ifusion_sdk/calvin_files/data/src -Ifusion_sdk/calvin_files/exception/src -Ifusion_sdk/calvin_files/fusion/src -Ifusion_sdk/calvin_files/fusion/src/GCOSAdapter -Ifusion_sdk/calvin_files/fusion/src/CalvinAdapter -Ifusion_sdk/calvin_files/parameter/src -Ifusion_sdk/calvin_files/parsers/src -Ifusion_sdk/calvin_files/portability/src -Ifusion_sdk/calvin_files/template/src -Ifusion_sdk/calvin_files/utils/src -Ifusion_sdk/calvin_files/writers/src -Ifusion_sdk/file -Ifusion_sdk/file/TsvFile -Ifusion_sdk/portability -Ifusion_sdk/util -Ifusion_sdk -D_USE_MEM_MAPPING_  -I/usr/local/include   -fPIC  -Wall -g -O2  -Wno-sign-compare -O0 -c fusion_sdk/calvin_files/parsers/src/FileInput.cpp -o fusion_sdk/calvin_files/parsers/src/FileInput.o
clang++ -mmacosx-version-min=10.13 -std=gnu++11 -I"/Library/Frameworks/R.framework/Resources/include" -DNDEBUG -I. -Ifusion_sdk/calvin_files/array/src -Ifusion_sdk/calvin_files/data/src -Ifusion_sdk/calvin_files/exception/src -Ifusion_sdk/calvin_files/fusion/src -Ifusion_sdk/calvin_files/fusion/src/GCOSAdapter -Ifusion_sdk/calvin_files/fusion/src/CalvinAdapter -Ifusion_sdk/calvin_files/parameter/src -Ifusion_sdk/calvin_files/parsers/src -Ifusion_sdk/calvin_files/portability/src -Ifusion_sdk/calvin_files/template/src -Ifusion_sdk/calvin_files/utils/src -Ifusion_sdk/calvin_files/writers/src -Ifusion_sdk/file -Ifusion_sdk/file/TsvFile -Ifusion_sdk/portability -Ifusion_sdk/util -Ifusion_sdk -D_USE_MEM_MAPPING_  -I/usr/local/include   -fPIC  -Wall -g -O2  -Wno-sign-compare -O0 -c fusion_sdk/calvin_files/parsers/src/GenericDataHeaderReader.cpp -o fusion_sdk/calvin_files/parsers/src/GenericDataHeaderReader.o
clang++ -mmacosx-version-min=10.13 -std=gnu++11 -I"/Library/Frameworks/R.framework/Resources/include" -DNDEBUG -I. -Ifusion_sdk/calvin_files/array/src -Ifusion_sdk/calvin_files/data/src -Ifusion_sdk/calvin_files/exception/src -Ifusion_sdk/calvin_files/fusion/src -Ifusion_sdk/calvin_files/fusion/src/GCOSAdapter -Ifusion_sdk/calvin_files/fusion/src/CalvinAdapter -Ifusion_sdk/calvin_files/parameter/src -Ifusion_sdk/calvin_files/parsers/src -Ifusion_sdk/calvin_files/portability/src -Ifusion_sdk/calvin_files/template/src -Ifusion_sdk/calvin_files/utils/src -Ifusion_sdk/calvin_files/writers/src -Ifusion_sdk/file -Ifusion_sdk/file/TsvFile -Ifusion_sdk/portability -Ifusion_sdk/util -Ifusion_sdk -D_USE_MEM_MAPPING_  -I/usr/local/include   -fPIC  -Wall -g -O2  -Wno-sign-compare -O0 -c fusion_sdk/calvin_files/parsers/src/GenericFileReader.cpp -o fusion_sdk/calvin_files/parsers/src/GenericFileReader.o
clang++ -mmacosx-version-min=10.13 -std=gnu++11 -I"/Library/Frameworks/R.framework/Resources/include" -DNDEBUG -I. -Ifusion_sdk/calvin_files/array/src -Ifusion_sdk/calvin_files/data/src -Ifusion_sdk/calvin_files/exception/src -Ifusion_sdk/calvin_files/fusion/src -Ifusion_sdk/calvin_files/fusion/src/GCOSAdapter -Ifusion_sdk/calvin_files/fusion/src/CalvinAdapter -Ifusion_sdk/calvin_files/parameter/src -Ifusion_sdk/calvin_files/parsers/src -Ifusion_sdk/calvin_files/portability/src -Ifusion_sdk/calvin_files/template/src -Ifusion_sdk/calvin_files/utils/src -Ifusion_sdk/calvin_files/writers/src -Ifusion_sdk/file -Ifusion_sdk/file/TsvFile -Ifusion_sdk/portability -Ifusion_sdk/util -Ifusion_sdk -D_USE_MEM_MAPPING_  -I/usr/local/include   -fPIC  -Wall -g -O2  -Wno-sign-compare -O0 -c fusion_sdk/calvin_files/utils/src/AffymetrixGuid.cpp -o fusion_sdk/calvin_files/utils/src/AffymetrixGuid.o
clang++ -mmacosx-version-min=10.13 -std=gnu++11 -I"/Library/Frameworks/R.framework/Resources/include" -DNDEBUG -I. -Ifusion_sdk/calvin_files/array/src -Ifusion_sdk/calvin_files/data/src -Ifusion_sdk/calvin_files/exception/src -Ifusion_sdk/calvin_files/fusion/src -Ifusion_sdk/calvin_files/fusion/src/GCOSAdapter -Ifusion_sdk/calvin_files/fusion/src/CalvinAdapter -Ifusion_sdk/calvin_files/parameter/src -Ifusion_sdk/calvin_files/parsers/src -Ifusion_sdk/calvin_files/portability/src -Ifusion_sdk/calvin_files/template/src -Ifusion_sdk/calvin_files/utils/src -Ifusion_sdk/calvin_files/writers/src -Ifusion_sdk/file -Ifusion_sdk/file/TsvFile -Ifusion_sdk/portability -Ifusion_sdk/util -Ifusion_sdk -D_USE_MEM_MAPPING_  -I/usr/local/include   -fPIC  -Wall -g -O2  -Wno-sign-compare -O0 -c fusion_sdk/calvin_files/utils/src/DateTime.cpp -o fusion_sdk/calvin_files/utils/src/DateTime.o
clang++ -mmacosx-version-min=10.13 -std=gnu++11 -I"/Library/Frameworks/R.framework/Resources/include" -DNDEBUG -I. -Ifusion_sdk/calvin_files/array/src -Ifusion_sdk/calvin_files/data/src -Ifusion_sdk/calvin_files/exception/src -Ifusion_sdk/calvin_files/fusion/src -Ifusion_sdk/calvin_files/fusion/src/GCOSAdapter -Ifusion_sdk/calvin_files/fusion/src/CalvinAdapter -Ifusion_sdk/calvin_files/parameter/src -Ifusion_sdk/calvin_files/parsers/src -Ifusion_sdk/calvin_files/portability/src -Ifusion_sdk/calvin_files/template/src -Ifusion_sdk/calvin_files/utils/src -Ifusion_sdk/calvin_files/writers/src -Ifusion_sdk/file -Ifusion_sdk/file/TsvFile -Ifusion_sdk/portability -Ifusion_sdk/util -Ifusion_sdk -D_USE_MEM_MAPPING_  -I/usr/local/include   -fPIC  -Wall -g -O2  -Wno-sign-compare -O0 -c fusion_sdk/calvin_files/utils/src/FileUtils.cpp -o fusion_sdk/calvin_files/utils/src/FileUtils.o
clang++ -mmacosx-version-min=10.13 -std=gnu++11 -I"/Library/Frameworks/R.framework/Resources/include" -DNDEBUG -I. -Ifusion_sdk/calvin_files/array/src -Ifusion_sdk/calvin_files/data/src -Ifusion_sdk/calvin_files/exception/src -Ifusion_sdk/calvin_files/fusion/src -Ifusion_sdk/calvin_files/fusion/src/GCOSAdapter -Ifusion_sdk/calvin_files/fusion/src/CalvinAdapter -Ifusion_sdk/calvin_files/parameter/src -Ifusion_sdk/calvin_files/parsers/src -Ifusion_sdk/calvin_files/portability/src -Ifusion_sdk/calvin_files/template/src -Ifusion_sdk/calvin_files/utils/src -Ifusion_sdk/calvin_files/writers/src -Ifusion_sdk/file -Ifusion_sdk/file/TsvFile -Ifusion_sdk/portability -Ifusion_sdk/util -Ifusion_sdk -D_USE_MEM_MAPPING_  -I/usr/local/include   -fPIC  -Wall -g -O2  -Wno-sign-compare -O0 -c fusion_sdk/calvin_files/utils/src/StringUtils.cpp -o fusion_sdk/calvin_files/utils/src/StringUtils.o
clang++ -mmacosx-version-min=10.13 -std=gnu++11 -I"/Library/Frameworks/R.framework/Resources/include" -DNDEBUG -I. -Ifusion_sdk/calvin_files/array/src -Ifusion_sdk/calvin_files/data/src -Ifusion_sdk/calvin_files/exception/src -Ifusion_sdk/calvin_files/fusion/src -Ifusion_sdk/calvin_files/fusion/src/GCOSAdapter -Ifusion_sdk/calvin_files/fusion/src/CalvinAdapter -Ifusion_sdk/calvin_files/parameter/src -Ifusion_sdk/calvin_files/parsers/src -Ifusion_sdk/calvin_files/portability/src -Ifusion_sdk/calvin_files/template/src -Ifusion_sdk/calvin_files/utils/src -Ifusion_sdk/calvin_files/writers/src -Ifusion_sdk/file -Ifusion_sdk/file/TsvFile -Ifusion_sdk/portability -Ifusion_sdk/util -Ifusion_sdk -D_USE_MEM_MAPPING_  -I/usr/local/include   -fPIC  -Wall -g -O2  -Wno-sign-compare -O0 -c fusion_sdk/calvin_files/utils/src/checksum.cpp -o fusion_sdk/calvin_files/utils/src/checksum.o
clang++ -mmacosx-version-min=10.13 -std=gnu++11 -I"/Library/Frameworks/R.framework/Resources/include" -DNDEBUG -I. -Ifusion_sdk/calvin_files/array/src -Ifusion_sdk/calvin_files/data/src -Ifusion_sdk/calvin_files/exception/src -Ifusion_sdk/calvin_files/fusion/src -Ifusion_sdk/calvin_files/fusion/src/GCOSAdapter -Ifusion_sdk/calvin_files/fusion/src/CalvinAdapter -Ifusion_sdk/calvin_files/parameter/src -Ifusion_sdk/calvin_files/parsers/src -Ifusion_sdk/calvin_files/portability/src -Ifusion_sdk/calvin_files/template/src -Ifusion_sdk/calvin_files/utils/src -Ifusion_sdk/calvin_files/writers/src -Ifusion_sdk/file -Ifusion_sdk/file/TsvFile -Ifusion_sdk/portability -Ifusion_sdk/util -Ifusion_sdk -D_USE_MEM_MAPPING_  -I/usr/local/include   -fPIC  -Wall -g -O2  -Wno-sign-compare -O0 -c fusion_sdk/file/BPMAPFileData.cpp -o fusion_sdk/file/BPMAPFileData.o
clang++ -mmacosx-version-min=10.13 -std=gnu++11 -I"/Library/Frameworks/R.framework/Resources/include" -DNDEBUG -I. -Ifusion_sdk/calvin_files/array/src -Ifusion_sdk/calvin_files/data/src -Ifusion_sdk/calvin_files/exception/src -Ifusion_sdk/calvin_files/fusion/src -Ifusion_sdk/calvin_files/fusion/src/GCOSAdapter -Ifusion_sdk/calvin_files/fusion/src/CalvinAdapter -Ifusion_sdk/calvin_files/parameter/src -Ifusion_sdk/calvin_files/parsers/src -Ifusion_sdk/calvin_files/portability/src -Ifusion_sdk/calvin_files/template/src -Ifusion_sdk/calvin_files/utils/src -Ifusion_sdk/calvin_files/writers/src -Ifusion_sdk/file -Ifusion_sdk/file/TsvFile -Ifusion_sdk/portability -Ifusion_sdk/util -Ifusion_sdk -D_USE_MEM_MAPPING_  -I/usr/local/include   -fPIC  -Wall -g -O2  -Wno-sign-compare -O0 -c fusion_sdk/file/BPMAPFileWriter.cpp -o fusion_sdk/file/BPMAPFileWriter.o
clang++ -mmacosx-version-min=10.13 -std=gnu++11 -I"/Library/Frameworks/R.framework/Resources/include" -DNDEBUG -I. -Ifusion_sdk/calvin_files/array/src -Ifusion_sdk/calvin_files/data/src -Ifusion_sdk/calvin_files/exception/src -Ifusion_sdk/calvin_files/fusion/src -Ifusion_sdk/calvin_files/fusion/src/GCOSAdapter -Ifusion_sdk/calvin_files/fusion/src/CalvinAdapter -Ifusion_sdk/calvin_files/parameter/src -Ifusion_sdk/calvin_files/parsers/src -Ifusion_sdk/calvin_files/portability/src -Ifusion_sdk/calvin_files/template/src -Ifusion_sdk/calvin_files/utils/src -Ifusion_sdk/calvin_files/writers/src -Ifusion_sdk/file -Ifusion_sdk/file/TsvFile -Ifusion_sdk/portability -Ifusion_sdk/util -Ifusion_sdk -D_USE_MEM_MAPPING_  -I/usr/local/include   -fPIC  -Wall -g -O2  -Wno-sign-compare -O0 -c fusion_sdk/file/CDFFileData.cpp -o fusion_sdk/file/CDFFileData.o
fusion_sdk/file/CDFFileData.cpp:1040:7: warning: unused typedef 'TilingTypes' [-Wunused-local-typedef]
    } TilingTypes;
      ^
1 warning generated.
clang++ -mmacosx-version-min=10.13 -std=gnu++11 -I"/Library/Frameworks/R.framework/Resources/include" -DNDEBUG -I. -Ifusion_sdk/calvin_files/array/src -Ifusion_sdk/calvin_files/data/src -Ifusion_sdk/calvin_files/exception/src -Ifusion_sdk/calvin_files/fusion/src -Ifusion_sdk/calvin_files/fusion/src/GCOSAdapter -Ifusion_sdk/calvin_files/fusion/src/CalvinAdapter -Ifusion_sdk/calvin_files/parameter/src -Ifusion_sdk/calvin_files/parsers/src -Ifusion_sdk/calvin_files/portability/src -Ifusion_sdk/calvin_files/template/src -Ifusion_sdk/calvin_files/utils/src -Ifusion_sdk/calvin_files/writers/src -Ifusion_sdk/file -Ifusion_sdk/file/TsvFile -Ifusion_sdk/portability -Ifusion_sdk/util -Ifusion_sdk -D_USE_MEM_MAPPING_  -I/usr/local/include   -fPIC  -Wall -g -O2  -Wno-sign-compare -O0 -c fusion_sdk/file/CELFileData.cpp -o fusion_sdk/file/CELFileData.o
clang++ -mmacosx-version-min=10.13 -std=gnu++11 -I"/Library/Frameworks/R.framework/Resources/include" -DNDEBUG -I. -Ifusion_sdk/calvin_files/array/src -Ifusion_sdk/calvin_files/data/src -Ifusion_sdk/calvin_files/exception/src -Ifusion_sdk/calvin_files/fusion/src -Ifusion_sdk/calvin_files/fusion/src/GCOSAdapter -Ifusion_sdk/calvin_files/fusion/src/CalvinAdapter -Ifusion_sdk/calvin_files/parameter/src -Ifusion_sdk/calvin_files/parsers/src -Ifusion_sdk/calvin_files/portability/src -Ifusion_sdk/calvin_files/template/src -Ifusion_sdk/calvin_files/utils/src -Ifusion_sdk/calvin_files/writers/src -Ifusion_sdk/file -Ifusion_sdk/file/TsvFile -Ifusion_sdk/portability -Ifusion_sdk/util -Ifusion_sdk -D_USE_MEM_MAPPING_  -I/usr/local/include   -fPIC  -Wall -g -O2  -Wno-sign-compare -O0 -c fusion_sdk/file/CHPFileData.cpp -o fusion_sdk/file/CHPFileData.o
clang++ -mmacosx-version-min=10.13 -std=gnu++11 -I"/Library/Frameworks/R.framework/Resources/include" -DNDEBUG -I. -Ifusion_sdk/calvin_files/array/src -Ifusion_sdk/calvin_files/data/src -Ifusion_sdk/calvin_files/exception/src -Ifusion_sdk/calvin_files/fusion/src -Ifusion_sdk/calvin_files/fusion/src/GCOSAdapter -Ifusion_sdk/calvin_files/fusion/src/CalvinAdapter -Ifusion_sdk/calvin_files/parameter/src -Ifusion_sdk/calvin_files/parsers/src -Ifusion_sdk/calvin_files/portability/src -Ifusion_sdk/calvin_files/template/src -Ifusion_sdk/calvin_files/utils/src -Ifusion_sdk/calvin_files/writers/src -Ifusion_sdk/file -Ifusion_sdk/file/TsvFile -Ifusion_sdk/portability -Ifusion_sdk/util -Ifusion_sdk -D_USE_MEM_MAPPING_  -I/usr/local/include   -fPIC  -Wall -g -O2  -Wno-sign-compare -O0 -c fusion_sdk/file/FileIO.cpp -o fusion_sdk/file/FileIO.o
clang++ -mmacosx-version-min=10.13 -std=gnu++11 -I"/Library/Frameworks/R.framework/Resources/include" -DNDEBUG -I. -Ifusion_sdk/calvin_files/array/src -Ifusion_sdk/calvin_files/data/src -Ifusion_sdk/calvin_files/exception/src -Ifusion_sdk/calvin_files/fusion/src -Ifusion_sdk/calvin_files/fusion/src/GCOSAdapter -Ifusion_sdk/calvin_files/fusion/src/CalvinAdapter -Ifusion_sdk/calvin_files/parameter/src -Ifusion_sdk/calvin_files/parsers/src -Ifusion_sdk/calvin_files/portability/src -Ifusion_sdk/calvin_files/template/src -Ifusion_sdk/calvin_files/utils/src -Ifusion_sdk/calvin_files/writers/src -Ifusion_sdk/file -Ifusion_sdk/file/TsvFile -Ifusion_sdk/portability -Ifusion_sdk/util -Ifusion_sdk -D_USE_MEM_MAPPING_  -I/usr/local/include   -fPIC  -Wall -g -O2  -Wno-sign-compare -O0 -c fusion_sdk/file/FileWriter.cpp -o fusion_sdk/file/FileWriter.o
clang++ -mmacosx-version-min=10.13 -std=gnu++11 -I"/Library/Frameworks/R.framework/Resources/include" -DNDEBUG -I. -Ifusion_sdk/calvin_files/array/src -Ifusion_sdk/calvin_files/data/src -Ifusion_sdk/calvin_files/exception/src -Ifusion_sdk/calvin_files/fusion/src -Ifusion_sdk/calvin_files/fusion/src/GCOSAdapter -Ifusion_sdk/calvin_files/fusion/src/CalvinAdapter -Ifusion_sdk/calvin_files/parameter/src -Ifusion_sdk/calvin_files/parsers/src -Ifusion_sdk/calvin_files/portability/src -Ifusion_sdk/calvin_files/template/src -Ifusion_sdk/calvin_files/utils/src -Ifusion_sdk/calvin_files/writers/src -Ifusion_sdk/file -Ifusion_sdk/file/TsvFile -Ifusion_sdk/portability -Ifusion_sdk/util -Ifusion_sdk -D_USE_MEM_MAPPING_  -I/usr/local/include   -fPIC  -Wall -g -O2  -Wno-sign-compare -O0 -c fusion_sdk/file/TsvFile/ClfFile.cpp -o fusion_sdk/file/TsvFile/ClfFile.o
clang++ -mmacosx-version-min=10.13 -std=gnu++11 -I"/Library/Frameworks/R.framework/Resources/include" -DNDEBUG -I. -Ifusion_sdk/calvin_files/array/src -Ifusion_sdk/calvin_files/data/src -Ifusion_sdk/calvin_files/exception/src -Ifusion_sdk/calvin_files/fusion/src -Ifusion_sdk/calvin_files/fusion/src/GCOSAdapter -Ifusion_sdk/calvin_files/fusion/src/CalvinAdapter -Ifusion_sdk/calvin_files/parameter/src -Ifusion_sdk/calvin_files/parsers/src -Ifusion_sdk/calvin_files/portability/src -Ifusion_sdk/calvin_files/template/src -Ifusion_sdk/calvin_files/utils/src -Ifusion_sdk/calvin_files/writers/src -Ifusion_sdk/file -Ifusion_sdk/file/TsvFile -Ifusion_sdk/portability -Ifusion_sdk/util -Ifusion_sdk -D_USE_MEM_MAPPING_  -I/usr/local/include   -fPIC  -Wall -g -O2  -Wno-sign-compare -O0 -c fusion_sdk/file/TsvFile/PgfFile.cpp -o fusion_sdk/file/TsvFile/PgfFile.o
clang++ -mmacosx-version-min=10.13 -std=gnu++11 -I"/Library/Frameworks/R.framework/Resources/include" -DNDEBUG -I. -Ifusion_sdk/calvin_files/array/src -Ifusion_sdk/calvin_files/data/src -Ifusion_sdk/calvin_files/exception/src -Ifusion_sdk/calvin_files/fusion/src -Ifusion_sdk/calvin_files/fusion/src/GCOSAdapter -Ifusion_sdk/calvin_files/fusion/src/CalvinAdapter -Ifusion_sdk/calvin_files/parameter/src -Ifusion_sdk/calvin_files/parsers/src -Ifusion_sdk/calvin_files/portability/src -Ifusion_sdk/calvin_files/template/src -Ifusion_sdk/calvin_files/utils/src -Ifusion_sdk/calvin_files/writers/src -Ifusion_sdk/file -Ifusion_sdk/file/TsvFile -Ifusion_sdk/portability -Ifusion_sdk/util -Ifusion_sdk -D_USE_MEM_MAPPING_  -I/usr/local/include   -fPIC  -Wall -g -O2  -Wno-sign-compare -O0 -c fusion_sdk/file/TsvFile/TsvFile.cpp -o fusion_sdk/file/TsvFile/TsvFile.o
clang++ -mmacosx-version-min=10.13 -std=gnu++11 -I"/Library/Frameworks/R.framework/Resources/include" -DNDEBUG -I. -Ifusion_sdk/calvin_files/array/src -Ifusion_sdk/calvin_files/data/src -Ifusion_sdk/calvin_files/exception/src -Ifusion_sdk/calvin_files/fusion/src -Ifusion_sdk/calvin_files/fusion/src/GCOSAdapter -Ifusion_sdk/calvin_files/fusion/src/CalvinAdapter -Ifusion_sdk/calvin_files/parameter/src -Ifusion_sdk/calvin_files/parsers/src -Ifusion_sdk/calvin_files/portability/src -Ifusion_sdk/calvin_files/template/src -Ifusion_sdk/calvin_files/utils/src -Ifusion_sdk/calvin_files/writers/src -Ifusion_sdk/file -Ifusion_sdk/file/TsvFile -Ifusion_sdk/portability -Ifusion_sdk/util -Ifusion_sdk -D_USE_MEM_MAPPING_  -I/usr/local/include   -fPIC  -Wall -g -O2  -Wno-sign-compare -O0 -c fusion_sdk/util/AffxByteArray.cpp -o fusion_sdk/util/AffxByteArray.o
clang++ -mmacosx-version-min=10.13 -std=gnu++11 -I"/Library/Frameworks/R.framework/Resources/include" -DNDEBUG -I. -Ifusion_sdk/calvin_files/array/src -Ifusion_sdk/calvin_files/data/src -Ifusion_sdk/calvin_files/exception/src -Ifusion_sdk/calvin_files/fusion/src -Ifusion_sdk/calvin_files/fusion/src/GCOSAdapter -Ifusion_sdk/calvin_files/fusion/src/CalvinAdapter -Ifusion_sdk/calvin_files/parameter/src -Ifusion_sdk/calvin_files/parsers/src -Ifusion_sdk/calvin_files/portability/src -Ifusion_sdk/calvin_files/template/src -Ifusion_sdk/calvin_files/utils/src -Ifusion_sdk/calvin_files/writers/src -Ifusion_sdk/file -Ifusion_sdk/file/TsvFile -Ifusion_sdk/portability -Ifusion_sdk/util -Ifusion_sdk -D_USE_MEM_MAPPING_  -I/usr/local/include   -fPIC  -Wall -g -O2  -Wno-sign-compare -O0 -c fusion_sdk/util/AffxConv.cpp -o fusion_sdk/util/AffxConv.o
fusion_sdk/util/AffxConv.cpp:124:8: warning: self-comparison always evaluates to false [-Wtautological-compare]
        if (i != i) {return "nan";}
              ^
1 warning generated.
clang++ -mmacosx-version-min=10.13 -std=gnu++11 -I"/Library/Frameworks/R.framework/Resources/include" -DNDEBUG -I. -Ifusion_sdk/calvin_files/array/src -Ifusion_sdk/calvin_files/data/src -Ifusion_sdk/calvin_files/exception/src -Ifusion_sdk/calvin_files/fusion/src -Ifusion_sdk/calvin_files/fusion/src/GCOSAdapter -Ifusion_sdk/calvin_files/fusion/src/CalvinAdapter -Ifusion_sdk/calvin_files/parameter/src -Ifusion_sdk/calvin_files/parsers/src -Ifusion_sdk/calvin_files/portability/src -Ifusion_sdk/calvin_files/template/src -Ifusion_sdk/calvin_files/utils/src -Ifusion_sdk/calvin_files/writers/src -Ifusion_sdk/file -Ifusion_sdk/file/TsvFile -Ifusion_sdk/portability -Ifusion_sdk/util -Ifusion_sdk -D_USE_MEM_MAPPING_  -I/usr/local/include   -fPIC  -Wall -g -O2  -Wno-sign-compare -O0 -c fusion_sdk/util/MsgStream.cpp -o fusion_sdk/util/MsgStream.o
clang++ -mmacosx-version-min=10.13 -std=gnu++11 -I"/Library/Frameworks/R.framework/Resources/include" -DNDEBUG -I. -Ifusion_sdk/calvin_files/array/src -Ifusion_sdk/calvin_files/data/src -Ifusion_sdk/calvin_files/exception/src -Ifusion_sdk/calvin_files/fusion/src -Ifusion_sdk/calvin_files/fusion/src/GCOSAdapter -Ifusion_sdk/calvin_files/fusion/src/CalvinAdapter -Ifusion_sdk/calvin_files/parameter/src -Ifusion_sdk/calvin_files/parsers/src -Ifusion_sdk/calvin_files/portability/src -Ifusion_sdk/calvin_files/template/src -Ifusion_sdk/calvin_files/utils/src -Ifusion_sdk/calvin_files/writers/src -Ifusion_sdk/file -Ifusion_sdk/file/TsvFile -Ifusion_sdk/portability -Ifusion_sdk/util -Ifusion_sdk -D_USE_MEM_MAPPING_  -I/usr/local/include   -fPIC  -Wall -g -O2  -Wno-sign-compare -O0 -c fusion_sdk/util/Util.cpp -o fusion_sdk/util/Util.o
fusion_sdk/util/Util.cpp:858:10: warning: 'finite' is deprecated: first deprecated in macOS 10.9 - Use `isfinite((double)x)` instead. [-Wdeprecated-declarations]
  isOk = finite(x);
         ^
/Library/Developer/CommandLineTools/SDKs/MacOSX10.14.sdk/usr/include/math.h:749:12: note: 'finite' has been explicitly marked deprecated here
extern int finite(double)
           ^
1 warning generated.
clang++ -mmacosx-version-min=10.13 -std=gnu++11 -I"/Library/Frameworks/R.framework/Resources/include" -DNDEBUG -I. -Ifusion_sdk/calvin_files/array/src -Ifusion_sdk/calvin_files/data/src -Ifusion_sdk/calvin_files/exception/src -Ifusion_sdk/calvin_files/fusion/src -Ifusion_sdk/calvin_files/fusion/src/GCOSAdapter -Ifusion_sdk/calvin_files/fusion/src/CalvinAdapter -Ifusion_sdk/calvin_files/parameter/src -Ifusion_sdk/calvin_files/parsers/src -Ifusion_sdk/calvin_files/portability/src -Ifusion_sdk/calvin_files/template/src -Ifusion_sdk/calvin_files/utils/src -Ifusion_sdk/calvin_files/writers/src -Ifusion_sdk/file -Ifusion_sdk/file/TsvFile -Ifusion_sdk/portability -Ifusion_sdk/util -Ifusion_sdk -D_USE_MEM_MAPPING_  -I/usr/local/include   -fPIC  -Wall -g -O2  -Wno-sign-compare -O0 -c fusion_sdk/util/Err.cpp -o fusion_sdk/util/Err.o
clang++ -mmacosx-version-min=10.13 -std=gnu++11 -I"/Library/Frameworks/R.framework/Resources/include" -DNDEBUG -I. -Ifusion_sdk/calvin_files/array/src -Ifusion_sdk/calvin_files/data/src -Ifusion_sdk/calvin_files/exception/src -Ifusion_sdk/calvin_files/fusion/src -Ifusion_sdk/calvin_files/fusion/src/GCOSAdapter -Ifusion_sdk/calvin_files/fusion/src/CalvinAdapter -Ifusion_sdk/calvin_files/parameter/src -Ifusion_sdk/calvin_files/parsers/src -Ifusion_sdk/calvin_files/portability/src -Ifusion_sdk/calvin_files/template/src -Ifusion_sdk/calvin_files/utils/src -Ifusion_sdk/calvin_files/writers/src -Ifusion_sdk/file -Ifusion_sdk/file/TsvFile -Ifusion_sdk/portability -Ifusion_sdk/util -Ifusion_sdk -D_USE_MEM_MAPPING_  -I/usr/local/include   -fPIC  -Wall -g -O2  -Wno-sign-compare -O0 -c fusion_sdk/util/Fs.cpp -o fusion_sdk/util/Fs.o
clang++ -mmacosx-version-min=10.13 -std=gnu++11 -I"/Library/Frameworks/R.framework/Resources/include" -DNDEBUG -I. -Ifusion_sdk/calvin_files/array/src -Ifusion_sdk/calvin_files/data/src -Ifusion_sdk/calvin_files/exception/src -Ifusion_sdk/calvin_files/fusion/src -Ifusion_sdk/calvin_files/fusion/src/GCOSAdapter -Ifusion_sdk/calvin_files/fusion/src/CalvinAdapter -Ifusion_sdk/calvin_files/parameter/src -Ifusion_sdk/calvin_files/parsers/src -Ifusion_sdk/calvin_files/portability/src -Ifusion_sdk/calvin_files/template/src -Ifusion_sdk/calvin_files/utils/src -Ifusion_sdk/calvin_files/writers/src -Ifusion_sdk/file -Ifusion_sdk/file/TsvFile -Ifusion_sdk/portability -Ifusion_sdk/util -Ifusion_sdk -D_USE_MEM_MAPPING_  -I/usr/local/include   -fPIC  -Wall -g -O2  -Wno-sign-compare -O0 -c fusion_sdk/util/Verbose.cpp -o fusion_sdk/util/Verbose.o
clang++ -mmacosx-version-min=10.13 -std=gnu++11 -I"/Library/Frameworks/R.framework/Resources/include" -DNDEBUG -I. -Ifusion_sdk/calvin_files/array/src -Ifusion_sdk/calvin_files/data/src -Ifusion_sdk/calvin_files/exception/src -Ifusion_sdk/calvin_files/fusion/src -Ifusion_sdk/calvin_files/fusion/src/GCOSAdapter -Ifusion_sdk/calvin_files/fusion/src/CalvinAdapter -Ifusion_sdk/calvin_files/parameter/src -Ifusion_sdk/calvin_files/parsers/src -Ifusion_sdk/calvin_files/portability/src -Ifusion_sdk/calvin_files/template/src -Ifusion_sdk/calvin_files/utils/src -Ifusion_sdk/calvin_files/writers/src -Ifusion_sdk/file -Ifusion_sdk/file/TsvFile -Ifusion_sdk/portability -Ifusion_sdk/util -Ifusion_sdk -D_USE_MEM_MAPPING_  -I/usr/local/include   -fPIC  -Wall -g -O2  -Wno-sign-compare -O0 -c fusion_sdk/util/RowFile.cpp -o fusion_sdk/util/RowFile.o
clang++ -mmacosx-version-min=10.13 -std=gnu++11 -I"/Library/Frameworks/R.framework/Resources/include" -DNDEBUG -I. -Ifusion_sdk/calvin_files/array/src -Ifusion_sdk/calvin_files/data/src -Ifusion_sdk/calvin_files/exception/src -Ifusion_sdk/calvin_files/fusion/src -Ifusion_sdk/calvin_files/fusion/src/GCOSAdapter -Ifusion_sdk/calvin_files/fusion/src/CalvinAdapter -Ifusion_sdk/calvin_files/parameter/src -Ifusion_sdk/calvin_files/parsers/src -Ifusion_sdk/calvin_files/portability/src -Ifusion_sdk/calvin_files/template/src -Ifusion_sdk/calvin_files/utils/src -Ifusion_sdk/calvin_files/writers/src -Ifusion_sdk/file -Ifusion_sdk/file/TsvFile -Ifusion_sdk/portability -Ifusion_sdk/util -Ifusion_sdk -D_USE_MEM_MAPPING_  -I/usr/local/include   -fPIC  -Wall -g -O2  -Wno-sign-compare -O0 -c fusion_sdk/util/TableFile.cpp -o fusion_sdk/util/TableFile.o
In file included from fusion_sdk/util/TableFile.cpp:28:
fusion_sdk/util/TableFile.h:231:8: warning: private field 'm_Comment' is not used [-Wunused-private-field]
  char m_Comment;            ///< Comment character for data.
       ^
1 warning generated.
clang++ -mmacosx-version-min=10.13 -std=gnu++11 -I"/Library/Frameworks/R.framework/Resources/include" -DNDEBUG -I. -Ifusion_sdk/calvin_files/array/src -Ifusion_sdk/calvin_files/data/src -Ifusion_sdk/calvin_files/exception/src -Ifusion_sdk/calvin_files/fusion/src -Ifusion_sdk/calvin_files/fusion/src/GCOSAdapter -Ifusion_sdk/calvin_files/fusion/src/CalvinAdapter -Ifusion_sdk/calvin_files/parameter/src -Ifusion_sdk/calvin_files/parsers/src -Ifusion_sdk/calvin_files/portability/src -Ifusion_sdk/calvin_files/template/src -Ifusion_sdk/calvin_files/utils/src -Ifusion_sdk/calvin_files/writers/src -Ifusion_sdk/file -Ifusion_sdk/file/TsvFile -Ifusion_sdk/portability -Ifusion_sdk/util -Ifusion_sdk -D_USE_MEM_MAPPING_  -I/usr/local/include   -fPIC  -Wall -g -O2  -Wno-sign-compare -O0 -c fusion_sdk/util/Convert.cpp -o fusion_sdk/util/Convert.o
clang++ -mmacosx-version-min=10.13 -std=gnu++11 -I"/Library/Frameworks/R.framework/Resources/include" -DNDEBUG -I. -Ifusion_sdk/calvin_files/array/src -Ifusion_sdk/calvin_files/data/src -Ifusion_sdk/calvin_files/exception/src -Ifusion_sdk/calvin_files/fusion/src -Ifusion_sdk/calvin_files/fusion/src/GCOSAdapter -Ifusion_sdk/calvin_files/fusion/src/CalvinAdapter -Ifusion_sdk/calvin_files/parameter/src -Ifusion_sdk/calvin_files/parsers/src -Ifusion_sdk/calvin_files/portability/src -Ifusion_sdk/calvin_files/template/src -Ifusion_sdk/calvin_files/utils/src -Ifusion_sdk/calvin_files/writers/src -Ifusion_sdk/file -Ifusion_sdk/file/TsvFile -Ifusion_sdk/portability -Ifusion_sdk/util -Ifusion_sdk -D_USE_MEM_MAPPING_  -I/usr/local/include   -fPIC  -Wall -g -O2  -Wno-sign-compare -O0 -c R_affx_cel_parser.cpp -o R_affx_cel_parser.o
clang++ -mmacosx-version-min=10.13 -std=gnu++11 -I"/Library/Frameworks/R.framework/Resources/include" -DNDEBUG -I. -Ifusion_sdk/calvin_files/array/src -Ifusion_sdk/calvin_files/data/src -Ifusion_sdk/calvin_files/exception/src -Ifusion_sdk/calvin_files/fusion/src -Ifusion_sdk/calvin_files/fusion/src/GCOSAdapter -Ifusion_sdk/calvin_files/fusion/src/CalvinAdapter -Ifusion_sdk/calvin_files/parameter/src -Ifusion_sdk/calvin_files/parsers/src -Ifusion_sdk/calvin_files/portability/src -Ifusion_sdk/calvin_files/template/src -Ifusion_sdk/calvin_files/utils/src -Ifusion_sdk/calvin_files/writers/src -Ifusion_sdk/file -Ifusion_sdk/file/TsvFile -Ifusion_sdk/portability -Ifusion_sdk/util -Ifusion_sdk -D_USE_MEM_MAPPING_  -I/usr/local/include   -fPIC  -Wall -g -O2  -Wno-sign-compare -O0 -c R_affx_cdf_parser.cpp -o R_affx_cdf_parser.o
clang++ -mmacosx-version-min=10.13 -std=gnu++11 -I"/Library/Frameworks/R.framework/Resources/include" -DNDEBUG -I. -Ifusion_sdk/calvin_files/array/src -Ifusion_sdk/calvin_files/data/src -Ifusion_sdk/calvin_files/exception/src -Ifusion_sdk/calvin_files/fusion/src -Ifusion_sdk/calvin_files/fusion/src/GCOSAdapter -Ifusion_sdk/calvin_files/fusion/src/CalvinAdapter -Ifusion_sdk/calvin_files/parameter/src -Ifusion_sdk/calvin_files/parsers/src -Ifusion_sdk/calvin_files/portability/src -Ifusion_sdk/calvin_files/template/src -Ifusion_sdk/calvin_files/utils/src -Ifusion_sdk/calvin_files/writers/src -Ifusion_sdk/file -Ifusion_sdk/file/TsvFile -Ifusion_sdk/portability -Ifusion_sdk/util -Ifusion_sdk -D_USE_MEM_MAPPING_  -I/usr/local/include   -fPIC  -Wall -g -O2  -Wno-sign-compare -O0 -c R_affx_cdf_extras.cpp -o R_affx_cdf_extras.o
clang++ -mmacosx-version-min=10.13 -std=gnu++11 -I"/Library/Frameworks/R.framework/Resources/include" -DNDEBUG -I. -Ifusion_sdk/calvin_files/array/src -Ifusion_sdk/calvin_files/data/src -Ifusion_sdk/calvin_files/exception/src -Ifusion_sdk/calvin_files/fusion/src -Ifusion_sdk/calvin_files/fusion/src/GCOSAdapter -Ifusion_sdk/calvin_files/fusion/src/CalvinAdapter -Ifusion_sdk/calvin_files/parameter/src -Ifusion_sdk/calvin_files/parsers/src -Ifusion_sdk/calvin_files/portability/src -Ifusion_sdk/calvin_files/template/src -Ifusion_sdk/calvin_files/utils/src -Ifusion_sdk/calvin_files/writers/src -Ifusion_sdk/file -Ifusion_sdk/file/TsvFile -Ifusion_sdk/portability -Ifusion_sdk/util -Ifusion_sdk -D_USE_MEM_MAPPING_  -I/usr/local/include   -fPIC  -Wall -g -O2  -Wno-sign-compare -O0 -c R_affx_bpmap_parser.cpp -o R_affx_bpmap_parser.o
clang++ -mmacosx-version-min=10.13 -std=gnu++11 -I"/Library/Frameworks/R.framework/Resources/include" -DNDEBUG -I. -Ifusion_sdk/calvin_files/array/src -Ifusion_sdk/calvin_files/data/src -Ifusion_sdk/calvin_files/exception/src -Ifusion_sdk/calvin_files/fusion/src -Ifusion_sdk/calvin_files/fusion/src/GCOSAdapter -Ifusion_sdk/calvin_files/fusion/src/CalvinAdapter -Ifusion_sdk/calvin_files/parameter/src -Ifusion_sdk/calvin_files/parsers/src -Ifusion_sdk/calvin_files/portability/src -Ifusion_sdk/calvin_files/template/src -Ifusion_sdk/calvin_files/utils/src -Ifusion_sdk/calvin_files/writers/src -Ifusion_sdk/file -Ifusion_sdk/file/TsvFile -Ifusion_sdk/portability -Ifusion_sdk/util -Ifusion_sdk -D_USE_MEM_MAPPING_  -I/usr/local/include   -fPIC  -Wall -g -O2  -Wno-sign-compare -O0 -c R_affx_clf_pgf_parser.cpp -o R_affx_clf_pgf_parser.o
clang++ -mmacosx-version-min=10.13 -std=gnu++11 -I"/Library/Frameworks/R.framework/Resources/include" -DNDEBUG -I. -Ifusion_sdk/calvin_files/array/src -Ifusion_sdk/calvin_files/data/src -Ifusion_sdk/calvin_files/exception/src -Ifusion_sdk/calvin_files/fusion/src -Ifusion_sdk/calvin_files/fusion/src/GCOSAdapter -Ifusion_sdk/calvin_files/fusion/src/CalvinAdapter -Ifusion_sdk/calvin_files/parameter/src -Ifusion_sdk/calvin_files/parsers/src -Ifusion_sdk/calvin_files/portability/src -Ifusion_sdk/calvin_files/template/src -Ifusion_sdk/calvin_files/utils/src -Ifusion_sdk/calvin_files/writers/src -Ifusion_sdk/file -Ifusion_sdk/file/TsvFile -Ifusion_sdk/portability -Ifusion_sdk/util -Ifusion_sdk -D_USE_MEM_MAPPING_  -I/usr/local/include   -fPIC  -Wall -g -O2  -Wno-sign-compare -O0 -c R_affx_chp_parser.cpp -o R_affx_chp_parser.o
clang++ -mmacosx-version-min=10.13 -std=gnu++11 -dynamiclib -Wl,-headerpad_max_install_names -undefined dynamic_lookup -single_module -multiply_defined suppress -L/Library/Frameworks/R.framework/Resources/lib -L/usr/local/lib -o affxparser.so fusion_sdk/calvin_files/data/src/CDFData.o fusion_sdk/calvin_files/data/src/CDFProbeGroupInformation.o fusion_sdk/calvin_files/data/src/CDFProbeInformation.o fusion_sdk/calvin_files/data/src/CDFProbeSetInformation.o fusion_sdk/calvin_files/data/src/CDFQCProbeInformation.o fusion_sdk/calvin_files/data/src/CDFQCProbeSetInformation.o fusion_sdk/calvin_files/data/src/CELData.o fusion_sdk/calvin_files/data/src/CHPBackgroundZone.o fusion_sdk/calvin_files/data/src/CHPData.o fusion_sdk/calvin_files/data/src/CHPExpressionEntry.o fusion_sdk/calvin_files/data/src/CHPMultiDataData.o fusion_sdk/calvin_files/data/src/CHPTilingData.o fusion_sdk/calvin_files/data/src/CHPQuantificationData.o fusion_sdk/calvin_files/data/src/CHPQuantificationDetectionData.o fusion_sdk/calvin_files/data/src/CHPGenotypeEntry.o fusion_sdk/calvin_files/data/src/CHPUniversalEntry.o fusion_sdk/calvin_files/data/src/ColumnInfo.o fusion_sdk/calvin_files/data/src/DataGroup.o fusion_sdk/calvin_files/data/src/DataGroupHeader.o fusion_sdk/calvin_files/data/src/DataSet.o fusion_sdk/calvin_files/data/src/DataSetHeader.o fusion_sdk/calvin_files/data/src/FileHeader.o fusion_sdk/calvin_files/data/src/GenericData.o fusion_sdk/calvin_files/data/src/GenericDataHeader.o fusion_sdk/calvin_files/exception/src/ExceptionBase.o fusion_sdk/calvin_files/fusion/src/CalvinAdapter/CalvinCELDataAdapter.o fusion_sdk/calvin_files/fusion/src/CalvinAdapter/CalvinCHPDataAdapter.o fusion_sdk/calvin_files/fusion/src/FusionBPMAPData.o fusion_sdk/calvin_files/fusion/src/FusionCDFData.o fusion_sdk/calvin_files/fusion/src/FusionCDFQCProbeSetNames.o fusion_sdk/calvin_files/fusion/src/FusionCELData.o fusion_sdk/calvin_files/fusion/src/FusionCHPData.o fusion_sdk/calvin_files/fusion/src/FusionProbeSetResults.o fusion_sdk/calvin_files/fusion/src/GCOSAdapter/GCOSCELDataAdapter.o fusion_sdk/calvin_files/fusion/src/GCOSAdapter/GCOSCHPDataAdapter.o fusion_sdk/calvin_files/fusion/src/FusionCHPLegacyData.o fusion_sdk/calvin_files/fusion/src/FusionCHPMultiDataAccessor.o fusion_sdk/calvin_files/fusion/src/FusionCHPMultiDataData.o fusion_sdk/calvin_files/fusion/src/FusionCHPTilingData.o fusion_sdk/calvin_files/fusion/src/FusionCHPGenericData.o fusion_sdk/calvin_files/fusion/src/FusionCHPQuantificationData.o fusion_sdk/calvin_files/fusion/src/FusionCHPQuantificationDetectionData.o fusion_sdk/calvin_files/parameter/src/ParameterNameValueType.o fusion_sdk/calvin_files/parsers/src/CDFFileReader.o fusion_sdk/calvin_files/parsers/src/CelFileReader.o fusion_sdk/calvin_files/parsers/src/CHPFileReader.o fusion_sdk/calvin_files/parsers/src/CHPMultiDataFileReader.o fusion_sdk/calvin_files/parsers/src/CHPTilingFileReader.o fusion_sdk/calvin_files/parsers/src/CHPQuantificationFileReader.o fusion_sdk/calvin_files/parsers/src/CHPQuantificationDetectionFileReader.o fusion_sdk/calvin_files/parsers/src/DataGroupHeaderReader.o fusion_sdk/calvin_files/parsers/src/DataGroupReader.o fusion_sdk/calvin_files/parsers/src/DataSetHeaderReader.o fusion_sdk/calvin_files/parsers/src/DataSetReader.o fusion_sdk/calvin_files/parsers/src/FileHeaderReader.o fusion_sdk/calvin_files/parsers/src/FileInput.o fusion_sdk/calvin_files/parsers/src/GenericDataHeaderReader.o fusion_sdk/calvin_files/parsers/src/GenericFileReader.o fusion_sdk/calvin_files/utils/src/AffymetrixGuid.o fusion_sdk/calvin_files/utils/src/DateTime.o fusion_sdk/calvin_files/utils/src/FileUtils.o fusion_sdk/calvin_files/utils/src/StringUtils.o fusion_sdk/calvin_files/utils/src/checksum.o fusion_sdk/file/BPMAPFileData.o fusion_sdk/file/BPMAPFileWriter.o fusion_sdk/file/CDFFileData.o fusion_sdk/file/CELFileData.o fusion_sdk/file/CHPFileData.o fusion_sdk/file/FileIO.o fusion_sdk/file/FileWriter.o fusion_sdk/file/TsvFile/ClfFile.o fusion_sdk/file/TsvFile/PgfFile.o fusion_sdk/file/TsvFile/TsvFile.o fusion_sdk/util/AffxByteArray.o fusion_sdk/util/AffxConv.o fusion_sdk/util/MsgStream.o fusion_sdk/util/Util.o fusion_sdk/util/Err.o fusion_sdk/util/Fs.o fusion_sdk/util/Verbose.o fusion_sdk/util/RowFile.o fusion_sdk/util/TableFile.o fusion_sdk/util/Convert.o R_affx_cel_parser.o R_affx_cdf_parser.o R_affx_cdf_extras.o R_affx_bpmap_parser.o R_affx_clf_pgf_parser.o R_affx_chp_parser.o -F/Library/Frameworks/R.framework/.. -framework R -Wl,-framework -Wl,CoreFoundation
installing to /Library/Frameworks/R.framework/Versions/4.0/Resources/library/00LOCK-affxparser/00new/affxparser/libs
** R
** inst
** byte-compile and prepare package for lazy loading
** help
*** installing help indices
** building package indices
** testing if installed package can be loaded from temporary location
** checking absolute paths in shared objects and dynamic libraries
** testing if installed package can be loaded from final location
** testing if installed package keeps a record of temporary installation path
* DONE (affxparser)