Back to Multiple platform build/check report for BioC 3.12
ABCDEFGHIJKLMNOPQR[S]TUVWXYZ

BUILD BIN report for SynExtend on tokay1

This page was generated on 2021-01-19 11:56:39 -0500 (Tue, 19 Jan 2021).

TO THE DEVELOPERS/MAINTAINERS OF THE SynExtend PACKAGE: Please make sure to use the following settings in order to reproduce any error or warning you see on this page.
Package 1829/1974HostnameOS / ArchINSTALLBUILDCHECKBUILD BIN
SynExtend 1.2.0
Nicholas Cooley
Snapshot Date: 2021-01-18 14:42:24 -0500 (Mon, 18 Jan 2021)
URL: https://git.bioconductor.org/packages/SynExtend
Branch: RELEASE_3_12
Last Commit: 5786318
Last Changed Date: 2020-10-27 11:56:55 -0500 (Tue, 27 Oct 2020)
malbec1 Linux (Ubuntu 18.04.5 LTS) / x86_64  OK  OK  OK UNNEEDED, same version exists in internal repository
nebbiolo1 Linux (Ubuntu 20.04.1 LTS) / x86_64  OK  OK  OK 
tokay1 Windows Server 2012 R2 Standard / x64  OK  OK  OK [ OK ]UNNEEDED, same version exists in internal repository
merida1 macOS 10.14.6 Mojave / x86_64  OK  OK  OK  OK UNNEEDED, same version exists in internal repository

Summary

Package: SynExtend
Version: 1.2.0
Command: rm -rf SynExtend.buildbin-libdir && mkdir SynExtend.buildbin-libdir && C:\Users\biocbuild\bbs-3.12-bioc\R\bin\R.exe CMD INSTALL --merge-multiarch --build --library=SynExtend.buildbin-libdir SynExtend_1.2.0.tar.gz
StartedAt: 2021-01-19 10:46:26 -0500 (Tue, 19 Jan 2021)
EndedAt: 2021-01-19 10:47:21 -0500 (Tue, 19 Jan 2021)
EllapsedTime: 55.0 seconds
RetCode: 0
Status:  OK  
PackageFile: SynExtend_1.2.0.zip
PackageFileSize: 1.621 MiB

Command output

##############################################################################
##############################################################################
###
### Running command:
###
###   rm -rf SynExtend.buildbin-libdir && mkdir SynExtend.buildbin-libdir && C:\Users\biocbuild\bbs-3.12-bioc\R\bin\R.exe CMD INSTALL --merge-multiarch --build --library=SynExtend.buildbin-libdir SynExtend_1.2.0.tar.gz
###
##############################################################################
##############################################################################



install for i386

* installing *source* package 'SynExtend' ...
** using staged installation
** R
** data
** inst
** byte-compile and prepare package for lazy loading
** help
*** installing help indices
  converting help for package 'SynExtend'
    finding HTML links ... done
    ExactSelect                             html  
    GlobalSelect                            html  
    LinkedPairs-class                       html  
    LocalSelect                             html  
    NucleotideOverlap                       html  
    finding level-2 HTML links ... done

    PairSummaries                           html  
    gffToDataFrame                          html  
** building package indices
** installing vignettes
** testing if installed package can be loaded from temporary location
** testing if installed package can be loaded from final location
** testing if installed package keeps a record of temporary installation path

install for x64

* installing *source* package 'SynExtend' ...
** testing if installed package can be loaded
* MD5 sums
packaged installation of 'SynExtend' as SynExtend_1.2.0.zip
* DONE (SynExtend)