Back to Multiple platform build/check report for BioC 3.12
[A]BCDEFGHIJKLMNOPQRSTUVWXYZ

BUILD report for ASpli on tokay1

This page was generated on 2020-08-12 11:45:03 -0400 (Wed, 12 Aug 2020).

TO THE DEVELOPERS/MAINTAINERS OF THE ASpli PACKAGE: Please make sure to use the following settings in order to reproduce any error or warning you see on this page.
Package 89/1885HostnameOS / ArchINSTALLBUILDCHECKBUILD BIN
ASpli 1.99.2
Estefania Mancini
Snapshot Date: 2020-08-11 14:50:16 -0400 (Tue, 11 Aug 2020)
URL: https://git.bioconductor.org/packages/ASpli
Branch: master
Last Commit: dda9b82
Last Changed Date: 2020-07-21 10:22:53 -0400 (Tue, 21 Jul 2020)
malbec1 Linux (Ubuntu 18.04.4 LTS) / x86_64  OK  OK  OK UNNEEDED, same version exists in internal repository
nebbiolo1 Linux (Ubuntu 20.04.1 LTS) / x86_64  OK  OK  OK 
tokay1 Windows Server 2012 R2 Standard / x64  OK [ OK ] OK  OK UNNEEDED, same version exists in internal repository
merida1 macOS 10.14.6 Mojave / x86_64  OK  OK  OK  OK UNNEEDED, same version exists in internal repository

Summary

Package: ASpli
Version: 1.99.2
Command: chmod a+r ASpli -R && C:\Users\biocbuild\bbs-3.12-bioc\R\bin\R.exe CMD build --keep-empty-dirs --no-resave-data ASpli
StartedAt: 2020-08-11 21:21:45 -0400 (Tue, 11 Aug 2020)
EndedAt: 2020-08-11 21:25:57 -0400 (Tue, 11 Aug 2020)
EllapsedTime: 251.5 seconds
RetCode: 0
Status:  OK  
PackageFile: ASpli_1.99.2.tar.gz
PackageFileSize: 3.964 MiB

Command output

##############################################################################
##############################################################################
###
### Running command:
###
###   chmod a+r ASpli -R && C:\Users\biocbuild\bbs-3.12-bioc\R\bin\R.exe CMD build --keep-empty-dirs --no-resave-data ASpli
###
##############################################################################
##############################################################################


* checking for file 'ASpli/DESCRIPTION' ... OK
* preparing 'ASpli':
* checking DESCRIPTION meta-information ... OK
* installing the package to build vignettes
* creating vignettes ... OK
* checking for LF line-endings in source and make files and shell scripts
* checking for empty or unneeded directories
* building 'ASpli_1.99.2.tar.gz'