Back to Multiple platform build/check report for BioC 3.12
[A]BCDEFGHIJKLMNOPQRSTUVWXYZ

BUILD report for ADAM on merida1

This page was generated on 2020-08-09 12:41:01 -0400 (Sun, 09 Aug 2020).

TO THE DEVELOPERS/MAINTAINERS OF THE ADAM PACKAGE: Please make sure to use the following settings in order to reproduce any error or warning you see on this page.
Package 16/1882HostnameOS / ArchINSTALLBUILDCHECKBUILD BIN
ADAM 1.5.0
Jose Luiz Rybarczyk Filho
Snapshot Date: 2020-08-08 14:51:01 -0400 (Sat, 08 Aug 2020)
URL: https://git.bioconductor.org/packages/ADAM
Branch: master
Last Commit: a72dd0b
Last Changed Date: 2020-04-27 15:21:48 -0400 (Mon, 27 Apr 2020)
malbec1 Linux (Ubuntu 18.04.4 LTS) / x86_64  OK  OK  OK UNNEEDED, same version exists in internal repository
nebbiolo1 Linux (Ubuntu 20.04.1 LTS) / x86_64  OK  OK  OK 
tokay1 Windows Server 2012 R2 Standard / x64  OK  OK  OK  OK UNNEEDED, same version exists in internal repository
merida1 macOS 10.14.6 Mojave / x86_64  OK [ OK ] OK  OK UNNEEDED, same version exists in internal repository

Summary

Package: ADAM
Version: 1.5.0
Command: /Library/Frameworks/R.framework/Versions/Current/Resources/bin/R CMD build --keep-empty-dirs --no-resave-data ADAM
StartedAt: 2020-08-08 21:09:58 -0400 (Sat, 08 Aug 2020)
EndedAt: 2020-08-08 21:10:53 -0400 (Sat, 08 Aug 2020)
EllapsedTime: 54.9 seconds
RetCode: 0
Status:  OK 
PackageFile: ADAM_1.5.0.tar.gz
PackageFileSize: 319 KiB

Command output

##############################################################################
##############################################################################
###
### Running command:
###
###   /Library/Frameworks/R.framework/Versions/Current/Resources/bin/R CMD build --keep-empty-dirs --no-resave-data ADAM
###
##############################################################################
##############################################################################


* checking for file ‘ADAM/DESCRIPTION’ ... OK
* preparing ‘ADAM’:
* checking DESCRIPTION meta-information ... OK
* cleaning src
* installing the package to build vignettes
* creating vignettes ... OK
* cleaning src
* checking for LF line-endings in source and make files and shell scripts
* checking for empty or unneeded directories
* building ‘ADAM_1.5.0.tar.gz’