Back to Multiple platform build/check report for BioC 3.12
A[B]CDEFGHIJKLMNOPQRSTUVWXYZ

BUILD report for BioCor on malbec1

This page was generated on 2020-08-06 11:40:37 -0400 (Thu, 06 Aug 2020).

TO THE DEVELOPERS/MAINTAINERS OF THE BioCor PACKAGE: Please make sure to use the following settings in order to reproduce any error or warning you see on this page.
Package 156/1882HostnameOS / ArchINSTALLBUILDCHECKBUILD BIN
BioCor 1.13.0
Lluís Revilla Sancho
Snapshot Date: 2020-08-05 14:50:59 -0400 (Wed, 05 Aug 2020)
URL: https://git.bioconductor.org/packages/BioCor
Branch: master
Last Commit: 992299c
Last Changed Date: 2020-07-09 06:05:18 -0400 (Thu, 09 Jul 2020)
malbec1 Linux (Ubuntu 18.04.4 LTS) / x86_64  OK [ OK ] OK UNNEEDED, same version exists in internal repository
tokay1 Windows Server 2012 R2 Standard / x64  OK  OK  OK  OK UNNEEDED, same version exists in internal repository
merida1 macOS 10.14.6 Mojave / x86_64  OK  OK  OK  OK UNNEEDED, same version exists in internal repository

Summary

Package: BioCor
Version: 1.13.0
Command: /home/biocbuild/bbs-3.12-bioc/R/bin/R CMD build --keep-empty-dirs --no-resave-data BioCor
StartedAt: 2020-08-05 20:12:09 -0400 (Wed, 05 Aug 2020)
EndedAt: 2020-08-05 20:15:20 -0400 (Wed, 05 Aug 2020)
EllapsedTime: 191.4 seconds
RetCode: 0
Status:  OK 
PackageFile: BioCor_1.13.0.tar.gz
PackageFileSize: 1.309 MiB

Command output

##############################################################################
##############################################################################
###
### Running command:
###
###   /home/biocbuild/bbs-3.12-bioc/R/bin/R CMD build --keep-empty-dirs --no-resave-data BioCor
###
##############################################################################
##############################################################################


* checking for file ‘BioCor/DESCRIPTION’ ... OK
* preparing ‘BioCor’:
* checking DESCRIPTION meta-information ... OK
* installing the package to build vignettes
* creating vignettes ... OK
* checking for LF line-endings in source and make files and shell scripts
* checking for empty or unneeded directories
* building ‘BioCor_1.13.0.tar.gz’