Back to Multiple platform build/check report for BioC 3.12
AB[C]DEFGHIJKLMNOPQRSTUVWXYZ

BUILD report for cellbaseR on merida1

This page was generated on 2020-08-10 12:40:41 -0400 (Mon, 10 Aug 2020).

TO THE DEVELOPERS/MAINTAINERS OF THE cellbaseR PACKAGE: Please make sure to use the following settings in order to reproduce any error or warning you see on this page.
Package 239/1882HostnameOS / ArchINSTALLBUILDCHECKBUILD BIN
cellbaseR 1.13.0
Mohammed OE Abdallah
Snapshot Date: 2020-08-09 14:51:29 -0400 (Sun, 09 Aug 2020)
URL: https://git.bioconductor.org/packages/cellbaseR
Branch: master
Last Commit: e14a517
Last Changed Date: 2020-04-27 15:07:27 -0400 (Mon, 27 Apr 2020)
malbec1 Linux (Ubuntu 18.04.4 LTS) / x86_64  OK  OK  OK UNNEEDED, same version exists in internal repository
nebbiolo1 Linux (Ubuntu 20.04.1 LTS) / x86_64  OK  OK  OK 
tokay1 Windows Server 2012 R2 Standard / x64  OK  OK  WARNINGS  OK UNNEEDED, same version exists in internal repository
merida1 macOS 10.14.6 Mojave / x86_64  OK [ OK ] OK  OK UNNEEDED, same version exists in internal repository

Summary

Package: cellbaseR
Version: 1.13.0
Command: /Library/Frameworks/R.framework/Versions/Current/Resources/bin/R CMD build --keep-empty-dirs --no-resave-data cellbaseR
StartedAt: 2020-08-09 20:26:18 -0400 (Sun, 09 Aug 2020)
EndedAt: 2020-08-09 20:27:09 -0400 (Sun, 09 Aug 2020)
EllapsedTime: 51.8 seconds
RetCode: 0
Status:  OK 
PackageFile: cellbaseR_1.13.0.tar.gz
PackageFileSize: 447.4 KiB

Command output

##############################################################################
##############################################################################
###
### Running command:
###
###   /Library/Frameworks/R.framework/Versions/Current/Resources/bin/R CMD build --keep-empty-dirs --no-resave-data cellbaseR
###
##############################################################################
##############################################################################


* checking for file ‘cellbaseR/DESCRIPTION’ ... OK
* preparing ‘cellbaseR’:
* checking DESCRIPTION meta-information ... OK
* installing the package to build vignettes
* creating vignettes ... OK
* checking for LF line-endings in source and make files and shell scripts
* checking for empty or unneeded directories
* building ‘cellbaseR_1.13.0.tar.gz’