Back to Multiple platform build/check report for BioC 3.12
AB[C]DEFGHIJKLMNOPQRSTUVWXYZ

BUILD report for cellHTS2 on merida1

This page was generated on 2020-08-10 12:30:47 -0400 (Mon, 10 Aug 2020).

TO THE DEVELOPERS/MAINTAINERS OF THE cellHTS2 PACKAGE: Please make sure to use the following settings in order to reproduce any error or warning you see on this page.
Package 241/1882HostnameOS / ArchINSTALLBUILDCHECKBUILD BIN
cellHTS2 2.53.0
Joseph Barry
Snapshot Date: 2020-08-09 14:51:29 -0400 (Sun, 09 Aug 2020)
URL: https://git.bioconductor.org/packages/cellHTS2
Branch: master
Last Commit: 0f9a18a
Last Changed Date: 2020-04-27 14:15:21 -0400 (Mon, 27 Apr 2020)
malbec1 Linux (Ubuntu 18.04.4 LTS) / x86_64  OK  OK  OK UNNEEDED, same version exists in internal repository
nebbiolo1 Linux (Ubuntu 20.04.1 LTS) / x86_64  OK  OK  OK 
tokay1 Windows Server 2012 R2 Standard / x64  OK  OK  OK  OK UNNEEDED, same version exists in internal repository
merida1 macOS 10.14.6 Mojave / x86_64  OK [ OK ] OK  OK UNNEEDED, same version exists in internal repository

Summary

Package: cellHTS2
Version: 2.53.0
Command: /Library/Frameworks/R.framework/Versions/Current/Resources/bin/R CMD build --keep-empty-dirs --no-resave-data cellHTS2
StartedAt: 2020-08-09 18:02:27 -0400 (Sun, 09 Aug 2020)
EndedAt: 2020-08-09 18:07:09 -0400 (Sun, 09 Aug 2020)
EllapsedTime: 281.3 seconds
RetCode: 0
Status:  OK 
PackageFile: cellHTS2_2.53.0.tar.gz
PackageFileSize: 3 MiB

Command output

##############################################################################
##############################################################################
###
### Running command:
###
###   /Library/Frameworks/R.framework/Versions/Current/Resources/bin/R CMD build --keep-empty-dirs --no-resave-data cellHTS2
###
##############################################################################
##############################################################################


* checking for file ‘cellHTS2/DESCRIPTION’ ... OK
* preparing ‘cellHTS2’:
* checking DESCRIPTION meta-information ... OK
* installing the package to build vignettes
* creating vignettes ... OK
* checking for LF line-endings in source and make files and shell scripts
* checking for empty or unneeded directories
* looking to see if a ‘data/datalist’ file should be added
* building ‘cellHTS2_2.53.0.tar.gz’