Back to Multiple platform build/check report for BioC 3.12
[A]BCDEFGHIJKLMNOPQRSTUVWXYZ

BUILD report for ABSSeq on malbec1

This page was generated on 2020-10-29 12:14:56 -0400 (Thu, 29 Oct 2020).

TO THE DEVELOPERS/MAINTAINERS OF THE ABSSeq PACKAGE: Please make sure to use the following settings in order to reproduce any error or warning you see on this page.
Package 10/1974HostnameOS / ArchINSTALLBUILDCHECKBUILD BIN
ABSSeq 1.44.0
Wentao Yang
Snapshot Date: 2020-10-28 14:42:40 -0400 (Wed, 28 Oct 2020)
URL: https://git.bioconductor.org/packages/ABSSeq
Branch: RELEASE_3_12
Last Commit: c202b4a
Last Changed Date: 2020-10-27 10:55:46 -0400 (Tue, 27 Oct 2020)
malbec1 Linux (Ubuntu 18.04.4 LTS) / x86_64  OK [ OK ] OK UNNEEDED, same version exists in internal repository
nebbiolo1 Linux (Ubuntu 20.04.1 LTS) / x86_64  OK  OK  OK 
tokay1 Windows Server 2012 R2 Standard / x64  OK  OK  OK  OK UNNEEDED, same version exists in internal repository
merida1 macOS 10.14.6 Mojave / x86_64  OK  OK  OK  OK UNNEEDED, same version exists in internal repository

Summary

Package: ABSSeq
Version: 1.44.0
Command: /home/biocbuild/bbs-3.12-bioc/R/bin/R CMD build --keep-empty-dirs --no-resave-data ABSSeq
StartedAt: 2020-10-28 17:44:07 -0400 (Wed, 28 Oct 2020)
EndedAt: 2020-10-28 17:45:43 -0400 (Wed, 28 Oct 2020)
EllapsedTime: 96.2 seconds
RetCode: 0
Status:  OK 
PackageFile: ABSSeq_1.44.0.tar.gz
PackageFileSize: 1.032 MiB

Command output

##############################################################################
##############################################################################
###
### Running command:
###
###   /home/biocbuild/bbs-3.12-bioc/R/bin/R CMD build --keep-empty-dirs --no-resave-data ABSSeq
###
##############################################################################
##############################################################################


* checking for file ‘ABSSeq/DESCRIPTION’ ... OK
* preparing ‘ABSSeq’:
* checking DESCRIPTION meta-information ... OK
* installing the package to build vignettes
* creating vignettes ... OK
* checking for LF line-endings in source and make files and shell scripts
* checking for empty or unneeded directories
* looking to see if a ‘data/datalist’ file should be added
* building ‘ABSSeq_1.44.0.tar.gz’