Back to Multiple platform build/check report for BioC 3.12
[A]BCDEFGHIJKLMNOPQRSTUVWXYZ

BUILD report for ABAEnrichment on tokay1

This page was generated on 2020-08-09 12:07:16 -0400 (Sun, 09 Aug 2020).

TO THE DEVELOPERS/MAINTAINERS OF THE ABAEnrichment PACKAGE: Please make sure to use the following settings in order to reproduce any error or warning you see on this page.
Package 7/1882HostnameOS / ArchINSTALLBUILDCHECKBUILD BIN
ABAEnrichment 1.19.0
Steffi Grote
Snapshot Date: 2020-08-08 14:51:01 -0400 (Sat, 08 Aug 2020)
URL: https://git.bioconductor.org/packages/ABAEnrichment
Branch: master
Last Commit: e45fdd0
Last Changed Date: 2020-04-27 14:50:36 -0400 (Mon, 27 Apr 2020)
malbec1 Linux (Ubuntu 18.04.4 LTS) / x86_64  OK  OK  OK UNNEEDED, same version exists in internal repository
nebbiolo1 Linux (Ubuntu 20.04.1 LTS) / x86_64  OK  OK  OK 
tokay1 Windows Server 2012 R2 Standard / x64  OK [ OK ] OK  OK UNNEEDED, same version exists in internal repository
merida1 macOS 10.14.6 Mojave / x86_64  OK  OK  OK  OK UNNEEDED, same version exists in internal repository

Summary

Package: ABAEnrichment
Version: 1.19.0
Command: chmod a+r ABAEnrichment -R && C:\Users\biocbuild\bbs-3.12-bioc\R\bin\R.exe CMD build --keep-empty-dirs --no-resave-data ABAEnrichment
StartedAt: 2020-08-08 20:42:40 -0400 (Sat, 08 Aug 2020)
EndedAt: 2020-08-08 20:45:41 -0400 (Sat, 08 Aug 2020)
EllapsedTime: 181.5 seconds
RetCode: 0
Status:  OK  
PackageFile: ABAEnrichment_1.19.0.tar.gz
PackageFileSize: 4.316 MiB

Command output

##############################################################################
##############################################################################
###
### Running command:
###
###   chmod a+r ABAEnrichment -R && C:\Users\biocbuild\bbs-3.12-bioc\R\bin\R.exe CMD build --keep-empty-dirs --no-resave-data ABAEnrichment
###
##############################################################################
##############################################################################


* checking for file 'ABAEnrichment/DESCRIPTION' ... OK
* preparing 'ABAEnrichment':
* checking DESCRIPTION meta-information ... OK
* cleaning src
* installing the package to process help pages
* saving partial Rd database
* creating vignettes ... OK
* cleaning src
* checking for LF line-endings in source and make files and shell scripts
* checking for empty or unneeded directories
* looking to see if a 'data/datalist' file should be added
* building 'ABAEnrichment_1.19.0.tar.gz'