Back to Multiple platform build/check report for BioC 3.12
A[B]CDEFGHIJKLMNOPQRSTUVWXYZ

BUILD report for basecallQC on tokay1

This page was generated on 2020-08-07 12:11:43 -0400 (Fri, 07 Aug 2020).

TO THE DEVELOPERS/MAINTAINERS OF THE basecallQC PACKAGE: Please make sure to use the following settings in order to reproduce any error or warning you see on this page.
Package 109/1882HostnameOS / ArchINSTALLBUILDCHECKBUILD BIN
basecallQC 1.13.0
Thomas Carroll
Snapshot Date: 2020-08-06 14:50:46 -0400 (Thu, 06 Aug 2020)
URL: https://git.bioconductor.org/packages/basecallQC
Branch: master
Last Commit: 63dc0f4
Last Changed Date: 2020-04-27 15:06:59 -0400 (Mon, 27 Apr 2020)
malbec1 Linux (Ubuntu 18.04.4 LTS) / x86_64  OK  OK  OK UNNEEDED, same version exists in internal repository
tokay1 Windows Server 2012 R2 Standard / x64  OK [ OK ] OK  OK UNNEEDED, same version exists in internal repository
merida1 macOS 10.14.6 Mojave / x86_64  OK  OK  OK  OK UNNEEDED, same version exists in internal repository

Summary

Package: basecallQC
Version: 1.13.0
Command: chmod a+r basecallQC -R && C:\Users\biocbuild\bbs-3.12-bioc\R\bin\R.exe CMD build --keep-empty-dirs --no-resave-data basecallQC
StartedAt: 2020-08-06 21:38:55 -0400 (Thu, 06 Aug 2020)
EndedAt: 2020-08-06 21:40:13 -0400 (Thu, 06 Aug 2020)
EllapsedTime: 78.7 seconds
RetCode: 0
Status:  OK  
PackageFile: basecallQC_1.13.0.tar.gz
PackageFileSize: 1.384 MiB

Command output

##############################################################################
##############################################################################
###
### Running command:
###
###   chmod a+r basecallQC -R && C:\Users\biocbuild\bbs-3.12-bioc\R\bin\R.exe CMD build --keep-empty-dirs --no-resave-data basecallQC
###
##############################################################################
##############################################################################


* checking for file 'basecallQC/DESCRIPTION' ... OK
* preparing 'basecallQC':
* checking DESCRIPTION meta-information ... OK
* installing the package to build vignettes
* creating vignettes ... OK
* checking for LF line-endings in source and make files and shell scripts
* checking for empty or unneeded directories
* building 'basecallQC_1.13.0.tar.gz'