Back to Multiple platform build/check report for BioC 3.12
A[B]CDEFGHIJKLMNOPQRSTUVWXYZ

INSTALL report for BiGGR on malbec1

This page was generated on 2020-08-10 11:37:45 -0400 (Mon, 10 Aug 2020).

TO THE DEVELOPERS/MAINTAINERS OF THE BiGGR PACKAGE: Please make sure to use the following settings in order to reproduce any error or warning you see on this page.
Package 139/1882HostnameOS / ArchINSTALLBUILDCHECKBUILD BIN
BiGGR 1.25.0
Anand K. Gavai
Snapshot Date: 2020-08-09 14:51:29 -0400 (Sun, 09 Aug 2020)
URL: https://git.bioconductor.org/packages/BiGGR
Branch: master
Last Commit: eb731df
Last Changed Date: 2020-04-27 14:36:11 -0400 (Mon, 27 Apr 2020)
malbec1 Linux (Ubuntu 18.04.4 LTS) / x86_64 [ OK ] OK  WARNINGS UNNEEDED, same version exists in internal repository
nebbiolo1 Linux (Ubuntu 20.04.1 LTS) / x86_64  ERROR  ERROR  skipped 
tokay1 Windows Server 2012 R2 Standard / x64  OK  OK  WARNINGS  OK UNNEEDED, same version exists in internal repository
merida1 macOS 10.14.6 Mojave / x86_64  ERROR  ERROR  skipped  skipped 

Summary

Package: BiGGR
Version: 1.25.0
Command: /home/biocbuild/bbs-3.12-bioc/R/bin/R CMD INSTALL BiGGR
StartedAt: 2020-08-09 16:37:08 -0400 (Sun, 09 Aug 2020)
EndedAt: 2020-08-09 16:37:15 -0400 (Sun, 09 Aug 2020)
EllapsedTime: 7.2 seconds
RetCode: 0
Status:  OK 

Command output

##############################################################################
##############################################################################
###
### Running command:
###
###   /home/biocbuild/bbs-3.12-bioc/R/bin/R CMD INSTALL BiGGR
###
##############################################################################
##############################################################################


* installing to library ‘/home/biocbuild/bbs-3.12-bioc/R/library’
* installing *source* package ‘BiGGR’ ...
** using staged installation
** R
** data
** inst
** byte-compile and prepare package for lazy loading
Warning messages:
1: multiple methods tables found for ‘type’ 
2: multiple methods tables found for ‘type<-’ 
** help
*** installing help indices
** building package indices
** installing vignettes
** testing if installed package can be loaded from temporary location
Warning: multiple methods tables found for ‘type’
Warning: multiple methods tables found for ‘type<-’
** testing if installed package can be loaded from final location
Warning: multiple methods tables found for ‘type’
Warning: multiple methods tables found for ‘type<-’
** testing if installed package keeps a record of temporary installation path
* DONE (BiGGR)