Back to Multiple platform build/check report for BioC 3.12
A[B]CDEFGHIJKLMNOPQRSTUVWXYZ

BUILD report for bacon on tokay1

This page was generated on 2020-10-14 11:16:19 -0400 (Wed, 14 Oct 2020).

TO THE DEVELOPERS/MAINTAINERS OF THE bacon PACKAGE: Please make sure to use the following settings in order to reproduce any error or warning you see on this page.
Package 103/1930HostnameOS / ArchINSTALLBUILDCHECKBUILD BIN
bacon 1.17.0
Maarten van Iterson
Snapshot Date: 2020-10-13 14:40:34 -0400 (Tue, 13 Oct 2020)
URL: https://git.bioconductor.org/packages/bacon
Branch: master
Last Commit: 8c61588
Last Changed Date: 2020-04-27 14:55:31 -0400 (Mon, 27 Apr 2020)
malbec1 Linux (Ubuntu 18.04.4 LTS) / x86_64  OK  OK  OK UNNEEDED, same version exists in internal repository
nebbiolo1 Linux (Ubuntu 20.04.1 LTS) / x86_64  OK  OK  OK 
tokay1 Windows Server 2012 R2 Standard / x64  OK [ OK ] OK  OK UNNEEDED, same version exists in internal repository
riesling1 Windows Server 2019 Standard / x64  OK  OK  OK  OK 
merida1 macOS 10.14.6 Mojave / x86_64  OK  OK  OK  OK UNNEEDED, same version exists in internal repository

Summary

Package: bacon
Version: 1.17.0
Command: chmod a+r bacon -R && C:\Users\biocbuild\bbs-3.12-bioc\R\bin\R.exe CMD build --keep-empty-dirs --no-resave-data bacon
StartedAt: 2020-10-13 23:40:56 -0400 (Tue, 13 Oct 2020)
EndedAt: 2020-10-13 23:42:31 -0400 (Tue, 13 Oct 2020)
EllapsedTime: 94.6 seconds
RetCode: 0
Status:  OK  
PackageFile: bacon_1.17.0.tar.gz
PackageFileSize: 551.9 KiB

Command output

##############################################################################
##############################################################################
###
### Running command:
###
###   chmod a+r bacon -R && C:\Users\biocbuild\bbs-3.12-bioc\R\bin\R.exe CMD build --keep-empty-dirs --no-resave-data bacon
###
##############################################################################
##############################################################################


* checking for file 'bacon/DESCRIPTION' ... OK
* preparing 'bacon':
* checking DESCRIPTION meta-information ... OK
* cleaning src
* installing the package to build vignettes
* creating vignettes ... OK
* cleaning src
* checking for LF line-endings in source and make files and shell scripts
* checking for empty or unneeded directories
* building 'bacon_1.17.0.tar.gz'