Back to Multiple platform build/check report for BioC 3.12
AB[C]DEFGHIJKLMNOPQRSTUVWXYZ

BUILD report for casper on malbec1

This page was generated on 2020-08-07 11:19:09 -0400 (Fri, 07 Aug 2020).

TO THE DEVELOPERS/MAINTAINERS OF THE casper PACKAGE: Please make sure to use the following settings in order to reproduce any error or warning you see on this page.
Package 226/1882HostnameOS / ArchINSTALLBUILDCHECKBUILD BIN
casper 2.23.0
David Rossell
Snapshot Date: 2020-08-06 14:50:46 -0400 (Thu, 06 Aug 2020)
URL: https://git.bioconductor.org/packages/casper
Branch: master
Last Commit: 54a4ecc
Last Changed Date: 2020-04-27 14:32:47 -0400 (Mon, 27 Apr 2020)
malbec1 Linux (Ubuntu 18.04.4 LTS) / x86_64  OK [ OK ] OK UNNEEDED, same version exists in internal repository
tokay1 Windows Server 2012 R2 Standard / x64  OK  OK  WARNINGS  OK UNNEEDED, same version exists in internal repository
merida1 macOS 10.14.6 Mojave / x86_64  OK  OK  WARNINGS  OK UNNEEDED, same version exists in internal repository

Summary

Package: casper
Version: 2.23.0
Command: /home/biocbuild/bbs-3.12-bioc/R/bin/R CMD build --keep-empty-dirs --no-resave-data casper
StartedAt: 2020-08-06 18:27:58 -0400 (Thu, 06 Aug 2020)
EndedAt: 2020-08-06 18:29:17 -0400 (Thu, 06 Aug 2020)
EllapsedTime: 79.1 seconds
RetCode: 0
Status:  OK 
PackageFile: casper_2.23.0.tar.gz
PackageFileSize: 2.512 MiB

Command output

##############################################################################
##############################################################################
###
### Running command:
###
###   /home/biocbuild/bbs-3.12-bioc/R/bin/R CMD build --keep-empty-dirs --no-resave-data casper
###
##############################################################################
##############################################################################


* checking for file ‘casper/DESCRIPTION’ ... OK
* preparing ‘casper’:
* checking DESCRIPTION meta-information ... OK
* cleaning src
* installing the package to build vignettes
* creating vignettes ... OK
* cleaning src
* checking for LF line-endings in source and make files and shell scripts
* checking for empty or unneeded directories
* looking to see if a ‘data/datalist’ file should be added
* building ‘casper_2.23.0.tar.gz’