Back to Multiple platform build/check report for BioC 3.12
A[B]CDEFGHIJKLMNOPQRSTUVWXYZ

BUILD report for BufferedMatrix on tokay1

This page was generated on 2020-08-07 11:57:40 -0400 (Fri, 07 Aug 2020).

TO THE DEVELOPERS/MAINTAINERS OF THE BufferedMatrix PACKAGE: Please make sure to use the following settings in order to reproduce any error or warning you see on this page.
Package 205/1882HostnameOS / ArchINSTALLBUILDCHECKBUILD BIN
BufferedMatrix 1.53.0
Ben Bolstad
Snapshot Date: 2020-08-06 14:50:46 -0400 (Thu, 06 Aug 2020)
URL: https://git.bioconductor.org/packages/BufferedMatrix
Branch: master
Last Commit: 35d9382
Last Changed Date: 2020-04-27 14:14:34 -0400 (Mon, 27 Apr 2020)
malbec1 Linux (Ubuntu 18.04.4 LTS) / x86_64  OK  OK  OK UNNEEDED, same version exists in internal repository
tokay1 Windows Server 2012 R2 Standard / x64  OK [ OK ] OK  OK UNNEEDED, same version exists in internal repository
merida1 macOS 10.14.6 Mojave / x86_64  OK  OK  OK  OK UNNEEDED, same version exists in internal repository

Summary

Package: BufferedMatrix
Version: 1.53.0
Command: chmod a+r BufferedMatrix -R && C:\Users\biocbuild\bbs-3.12-bioc\R\bin\R.exe CMD build --keep-empty-dirs --no-resave-data BufferedMatrix
StartedAt: 2020-08-06 19:16:26 -0400 (Thu, 06 Aug 2020)
EndedAt: 2020-08-06 19:16:52 -0400 (Thu, 06 Aug 2020)
EllapsedTime: 26.0 seconds
RetCode: 0
Status:  OK  
PackageFile: BufferedMatrix_1.53.0.tar.gz
PackageFileSize: 509.2 KiB

Command output

##############################################################################
##############################################################################
###
### Running command:
###
###   chmod a+r BufferedMatrix -R && C:\Users\biocbuild\bbs-3.12-bioc\R\bin\R.exe CMD build --keep-empty-dirs --no-resave-data BufferedMatrix
###
##############################################################################
##############################################################################


* checking for file 'BufferedMatrix/DESCRIPTION' ... OK
* preparing 'BufferedMatrix':
* checking DESCRIPTION meta-information ... OK
* cleaning src
* installing the package to build vignettes
* creating vignettes ... OK
* cleaning src
* checking for LF line-endings in source and make files and shell scripts
* checking for empty or unneeded directories
* building 'BufferedMatrix_1.53.0.tar.gz'