Back to Multiple platform build/check report for BioC 3.12
[A]BCDEFGHIJKLMNOPQRSTUVWXYZ

BUILD BIN report for amplican on merida1

This page was generated on 2020-08-11 12:00:57 -0400 (Tue, 11 Aug 2020).

TO THE DEVELOPERS/MAINTAINERS OF THE amplican PACKAGE: Please make sure to use the following settings in order to reproduce any error or warning you see on this page.
Package 50/1885HostnameOS / ArchINSTALLBUILDCHECKBUILD BIN
amplican 1.11.1
Eivind Valen
Snapshot Date: 2020-08-10 14:50:56 -0400 (Mon, 10 Aug 2020)
URL: https://git.bioconductor.org/packages/amplican
Branch: master
Last Commit: ccd6e2a
Last Changed Date: 2020-07-03 10:24:14 -0400 (Fri, 03 Jul 2020)
malbec1 Linux (Ubuntu 18.04.4 LTS) / x86_64  OK  OK  OK UNNEEDED, same version exists in internal repository
nebbiolo1 Linux (Ubuntu 20.04.1 LTS) / x86_64  OK  OK  NA 
tokay1 Windows Server 2012 R2 Standard / x64  OK  OK  OK  OK UNNEEDED, same version exists in internal repository
merida1 macOS 10.14.6 Mojave / x86_64  OK  OK  OK [ OK ]UNNEEDED, same version exists in internal repository

Summary

Package: amplican
Version: 1.11.1
Command: rm -rf amplican.buildbin-libdir && mkdir amplican.buildbin-libdir && /Users/biocbuild/BBS/utils/build-universal.sh amplican_1.11.1.tar.gz /Library/Frameworks/R.framework/Versions/Current/Resources/bin/R amplican.buildbin-libdir
StartedAt: 2020-08-11 07:46:29 -0400 (Tue, 11 Aug 2020)
EndedAt: 2020-08-11 07:47:15 -0400 (Tue, 11 Aug 2020)
EllapsedTime: 46.6 seconds
RetCode: 0
Status:  OK 
PackageFile: amplican_1.11.1.tgz
PackageFileSize: 4.454 MiB

Command output

##############################################################################
##############################################################################
###
### Running command:
###
###   rm -rf amplican.buildbin-libdir && mkdir amplican.buildbin-libdir && /Users/biocbuild/BBS/utils/build-universal.sh amplican_1.11.1.tar.gz /Library/Frameworks/R.framework/Versions/Current/Resources/bin/R amplican.buildbin-libdir
###
##############################################################################
##############################################################################


>>>>>>> 
>>>>>>> INSTALLATION WITH 'R CMD INSTALL --preclean --no-multiarch --library=amplican.buildbin-libdir amplican_1.11.1.tar.gz'
>>>>>>> 

* installing *source* package ‘amplican’ ...
** using staged installation
** libs
clang++ -mmacosx-version-min=10.13 -std=gnu++11 -I"/Library/Frameworks/R.framework/Resources/include" -DNDEBUG  -I'/Library/Frameworks/R.framework/Versions/4.0/Resources/library/Rcpp/include' -I/usr/local/include   -fPIC  -Wall -g -O2  -c RcppExports.cpp -o RcppExports.o
clang++ -mmacosx-version-min=10.13 -std=gnu++11 -I"/Library/Frameworks/R.framework/Resources/include" -DNDEBUG  -I'/Library/Frameworks/R.framework/Versions/4.0/Resources/library/Rcpp/include' -I/usr/local/include   -fPIC  -Wall -g -O2  -c bezier.cpp -o bezier.o
clang++ -mmacosx-version-min=10.13 -std=gnu++11 -dynamiclib -Wl,-headerpad_max_install_names -undefined dynamic_lookup -single_module -multiply_defined suppress -L/Library/Frameworks/R.framework/Resources/lib -L/usr/local/lib -o amplican.so RcppExports.o bezier.o -F/Library/Frameworks/R.framework/.. -framework R -Wl,-framework -Wl,CoreFoundation
installing to /Users/biocbuild/bbs-3.12-bioc/meat/amplican.buildbin-libdir/00LOCK-amplican/00new/amplican/libs
** R
** inst
** byte-compile and prepare package for lazy loading
** help
*** installing help indices
** building package indices
** installing vignettes
** testing if installed package can be loaded from temporary location
** checking absolute paths in shared objects and dynamic libraries
** testing if installed package can be loaded from final location
** testing if installed package keeps a record of temporary installation path
* DONE (amplican)


>>>>>>> 
>>>>>>> FIXING LINKS FOR amplican.buildbin-libdir/amplican/libs/amplican.so
>>>>>>> 

install_name_tool -change "/usr/local/lib/libgcc_s.1.dylib" "/Library/Frameworks/R.framework/Versions/4.0/Resources/lib/libgcc_s.1.dylib" "amplican.buildbin-libdir/amplican/libs/amplican.so"
install_name_tool -change "/usr/local/lib/libgfortran.5.dylib" "/Library/Frameworks/R.framework/Versions/4.0/Resources/lib/libgfortran.5.dylib" "amplican.buildbin-libdir/amplican/libs/amplican.so"
install_name_tool -change "/usr/local/lib/libquadmath.0.dylib" "/Library/Frameworks/R.framework/Versions/4.0/Resources/lib/libquadmath.0.dylib" "amplican.buildbin-libdir/amplican/libs/amplican.so"