Back to Multiple platform build/check report for BioC 3.12
[A]BCDEFGHIJKLMNOPQRSTUVWXYZ

BUILD report for APAlyzer on merida1

This page was generated on 2020-08-09 12:42:59 -0400 (Sun, 09 Aug 2020).

TO THE DEVELOPERS/MAINTAINERS OF THE APAlyzer PACKAGE: Please make sure to use the following settings in order to reproduce any error or warning you see on this page.
Package 70/1882HostnameOS / ArchINSTALLBUILDCHECKBUILD BIN
APAlyzer 1.3.3
Ruijia Wang
Snapshot Date: 2020-08-08 14:51:01 -0400 (Sat, 08 Aug 2020)
URL: https://git.bioconductor.org/packages/APAlyzer
Branch: master
Last Commit: db11964
Last Changed Date: 2020-07-20 22:58:05 -0400 (Mon, 20 Jul 2020)
malbec1 Linux (Ubuntu 18.04.4 LTS) / x86_64  OK  OK  OK UNNEEDED, same version exists in internal repository
nebbiolo1 Linux (Ubuntu 20.04.1 LTS) / x86_64  OK  OK  OK 
tokay1 Windows Server 2012 R2 Standard / x64  OK  OK  OK  OK UNNEEDED, same version exists in internal repository
merida1 macOS 10.14.6 Mojave / x86_64  OK [ OK ] OK  OK UNNEEDED, same version exists in internal repository

Summary

Package: APAlyzer
Version: 1.3.3
Command: /Library/Frameworks/R.framework/Versions/Current/Resources/bin/R CMD build --keep-empty-dirs --no-resave-data APAlyzer
StartedAt: 2020-08-08 21:30:30 -0400 (Sat, 08 Aug 2020)
EndedAt: 2020-08-08 21:32:23 -0400 (Sat, 08 Aug 2020)
EllapsedTime: 113.5 seconds
RetCode: 0
Status:  OK 
PackageFile: APAlyzer_1.3.3.tar.gz
PackageFileSize: 3.426 MiB

Command output

##############################################################################
##############################################################################
###
### Running command:
###
###   /Library/Frameworks/R.framework/Versions/Current/Resources/bin/R CMD build --keep-empty-dirs --no-resave-data APAlyzer
###
##############################################################################
##############################################################################


* checking for file ‘APAlyzer/DESCRIPTION’ ... OK
* preparing ‘APAlyzer’:
* checking DESCRIPTION meta-information ... OK
* installing the package to build vignettes
* creating vignettes ... OK
* checking for LF line-endings in source and make files and shell scripts
* checking for empty or unneeded directories
* building ‘APAlyzer_1.3.3.tar.gz’