Back to Multiple platform build/check report for BioC 3.12
A[B]CDEFGHIJKLMNOPQRSTUVWXYZ

CHECK report for basecallQC on malbec1

This page was generated on 2020-10-24 10:56:23 -0400 (Sat, 24 Oct 2020).

TO THE DEVELOPERS/MAINTAINERS OF THE basecallQC PACKAGE: Please make sure to use the following settings in order to reproduce any error or warning you see on this page.
Package 116/1974HostnameOS / ArchINSTALLBUILDCHECKBUILD BIN
basecallQC 1.13.0
Thomas Carroll
Snapshot Date: 2020-10-23 14:40:36 -0400 (Fri, 23 Oct 2020)
URL: https://git.bioconductor.org/packages/basecallQC
Branch: master
Last Commit: 63dc0f4
Last Changed Date: 2020-04-27 15:06:59 -0400 (Mon, 27 Apr 2020)
malbec1 Linux (Ubuntu 18.04.4 LTS) / x86_64  OK  OK [ OK ]UNNEEDED, same version exists in internal repository
nebbiolo1 Linux (Ubuntu 20.04.1 LTS) / x86_64  OK  OK  OK 
tokay1 Windows Server 2012 R2 Standard / x64  OK  OK  OK  OK UNNEEDED, same version exists in internal repository
riesling1 Windows Server 2019 Standard / x64  OK  OK  OK  OK 
merida1 macOS 10.14.6 Mojave / x86_64  OK  OK  OK  OK UNNEEDED, same version exists in internal repository

Summary

Package: basecallQC
Version: 1.13.0
Command: /home/biocbuild/bbs-3.12-bioc/R/bin/R CMD check --install=check:basecallQC.install-out.txt --library=/home/biocbuild/bbs-3.12-bioc/R/library --no-vignettes --timings basecallQC_1.13.0.tar.gz
StartedAt: 2020-10-24 00:09:27 -0400 (Sat, 24 Oct 2020)
EndedAt: 2020-10-24 00:16:11 -0400 (Sat, 24 Oct 2020)
EllapsedTime: 403.4 seconds
RetCode: 0
Status:  OK 
CheckDir: basecallQC.Rcheck
Warnings: 0

Command output

##############################################################################
##############################################################################
###
### Running command:
###
###   /home/biocbuild/bbs-3.12-bioc/R/bin/R CMD check --install=check:basecallQC.install-out.txt --library=/home/biocbuild/bbs-3.12-bioc/R/library --no-vignettes --timings basecallQC_1.13.0.tar.gz
###
##############################################################################
##############################################################################


* using log directory ‘/home/biocbuild/bbs-3.12-bioc/meat/basecallQC.Rcheck’
* using R version 4.0.3 (2020-10-10)
* using platform: x86_64-pc-linux-gnu (64-bit)
* using session charset: UTF-8
* using option ‘--no-vignettes’
* checking for file ‘basecallQC/DESCRIPTION’ ... OK
* checking extension type ... Package
* this is package ‘basecallQC’ version ‘1.13.0’
* checking package namespace information ... OK
* checking package dependencies ... OK
* checking if this is a source package ... OK
* checking if there is a namespace ... OK
* checking for hidden files and directories ... OK
* checking for portable file names ... OK
* checking for sufficient/correct file permissions ... OK
* checking whether package ‘basecallQC’ can be installed ... OK
* checking installed package size ... OK
* checking package directory ... OK
* checking ‘build’ directory ... OK
* checking DESCRIPTION meta-information ... OK
* checking top-level files ... OK
* checking for left-over files ... OK
* checking index information ... OK
* checking package subdirectories ... OK
* checking R files for non-ASCII characters ... OK
* checking R files for syntax errors ... OK
* checking whether the package can be loaded ... OK
* checking whether the package can be loaded with stated dependencies ... OK
* checking whether the package can be unloaded cleanly ... OK
* checking whether the namespace can be loaded with stated dependencies ... OK
* checking whether the namespace can be unloaded cleanly ... OK
* checking dependencies in R code ... OK
* checking S3 generic/method consistency ... OK
* checking replacement functions ... OK
* checking foreign function calls ... OK
* checking R code for possible problems ... OK
* checking Rd files ... OK
* checking Rd metadata ... OK
* checking Rd cross-references ... OK
* checking for missing documentation entries ... OK
* checking for code/documentation mismatches ... OK
* checking Rd \usage sections ... OK
* checking Rd contents ... OK
* checking for unstated dependencies in examples ... OK
* checking files in ‘vignettes’ ... OK
* checking examples ... OK
Examples with CPU (user + system) or elapsed time > 5s
                        user system elapsed
reportBCL             12.836  0.304  13.222
makeFQTable            9.188  0.004   9.209
basecallQC             8.748  0.012   8.782
demuxBoxplot           8.564  0.020   8.672
passFilterBar          8.468  0.008   8.495
summaryDemuxTable      8.072  0.012   8.102
summaryConvStatsTable  7.896  0.092   7.999
demuxBarplot           7.932  0.032   7.992
baseCallMetrics        7.040  0.084   7.148
passFilterTileplot     7.024  0.000   7.039
passFilterBoxplot      6.404  0.004   6.436
* checking for unstated dependencies in ‘tests’ ... OK
* checking tests ...
  Running ‘testthat.R’
 OK
* checking for unstated dependencies in vignettes ... OK
* checking package vignettes in ‘inst/doc’ ... OK
* checking running R code from vignettes ... SKIPPED
* checking re-building of vignette outputs ... SKIPPED
* checking PDF version of manual ... OK
* DONE

Status: OK


Installation output

basecallQC.Rcheck/00install.out

##############################################################################
##############################################################################
###
### Running command:
###
###   /home/biocbuild/bbs-3.12-bioc/R/bin/R CMD INSTALL basecallQC
###
##############################################################################
##############################################################################


* installing to library ‘/home/biocbuild/bbs-3.12-bioc/R/library’
* installing *source* package ‘basecallQC’ ...
** using staged installation
** R
** inst
** byte-compile and prepare package for lazy loading
** help
*** installing help indices
** building package indices
** installing vignettes
** testing if installed package can be loaded from temporary location
** testing if installed package can be loaded from final location
** testing if installed package keeps a record of temporary installation path
* DONE (basecallQC)

Tests output

basecallQC.Rcheck/tests/testthat.Rout


R version 4.0.3 (2020-10-10) -- "Bunny-Wunnies Freak Out"
Copyright (C) 2020 The R Foundation for Statistical Computing
Platform: x86_64-pc-linux-gnu (64-bit)

R is free software and comes with ABSOLUTELY NO WARRANTY.
You are welcome to redistribute it under certain conditions.
Type 'license()' or 'licence()' for distribution details.

R is a collaborative project with many contributors.
Type 'contributors()' for more information and
'citation()' on how to cite R or R packages in publications.

Type 'demo()' for some demos, 'help()' for on-line help, or
'help.start()' for an HTML browser interface to help.
Type 'q()' to quit R.

> library(testthat)
> library(basecallQC)
Loading required package: rmarkdown
Loading required package: knitr
Loading required package: prettydoc
Loading required package: yaml
> 
> test_check("basecallQC")
══ testthat results  ═══════════════════════════════════════════════════════════
[ OK: 5 | SKIPPED: 0 | WARNINGS: 13 | FAILED: 0 ]
> 
> proc.time()
   user  system elapsed 
 27.660   0.420  28.408 

Example timings

basecallQC.Rcheck/basecallQC-Ex.timings

nameusersystemelapsed
BCL2FastQparams0.3280.0320.385
baseCallMetrics7.0400.0847.148
basecallQC8.7480.0128.782
createBCLcommand0.6760.0040.681
createBasemasks0.4720.0080.481
demultiplexMetrics0.1240.0000.124
demuxBarplot7.9320.0327.992
demuxBoxplot8.5640.0208.672
indexlengths0.0400.0000.041
interOpsReport0.0240.0000.024
makeFQTable9.1880.0049.209
passFilterBar8.4680.0088.495
passFilterBoxplot6.4040.0046.436
passFilterTileplot7.0240.0007.039
readlengths0.0400.0000.042
reportBCL12.836 0.30413.222
summaryConvStatsTable7.8960.0927.999
summaryDemuxTable8.0720.0128.102
validateBCLSheet0.2040.0000.207