Back to Multiple platform build/check report for BioC 3.12
AB[C]DEFGHIJKLMNOPQRSTUVWXYZ

BUILD report for ccrepe on tokay1

This page was generated on 2021-01-25 11:52:27 -0500 (Mon, 25 Jan 2021).

TO THE DEVELOPERS/MAINTAINERS OF THE ccrepe PACKAGE: Please make sure to use the following settings in order to reproduce any error or warning you see on this page.
Package 246/1974HostnameOS / ArchINSTALLBUILDCHECKBUILD BIN
ccrepe 1.26.0
Emma Schwager ,Craig Bielski, George Weingart
Snapshot Date: 2021-01-24 14:40:16 -0500 (Sun, 24 Jan 2021)
URL: https://git.bioconductor.org/packages/ccrepe
Branch: RELEASE_3_12
Last Commit: 718ab4b
Last Changed Date: 2020-10-27 10:54:07 -0500 (Tue, 27 Oct 2020)
malbec1 Linux (Ubuntu 18.04.5 LTS) / x86_64  OK  OK  OK UNNEEDED, same version exists in internal repository
nebbiolo1 Linux (Ubuntu 20.04.1 LTS) / x86_64  OK  OK  OK 
tokay1 Windows Server 2012 R2 Standard / x64  OK [ OK ] OK  OK UNNEEDED, same version exists in internal repository
merida1 macOS 10.14.6 Mojave / x86_64  OK  OK  OK  OK UNNEEDED, same version exists in internal repository

Summary

Package: ccrepe
Version: 1.26.0
Command: chmod a+r ccrepe -R && C:\Users\biocbuild\bbs-3.12-bioc\R\bin\R.exe CMD build --keep-empty-dirs --no-resave-data ccrepe
StartedAt: 2021-01-24 20:06:04 -0500 (Sun, 24 Jan 2021)
EndedAt: 2021-01-24 20:06:20 -0500 (Sun, 24 Jan 2021)
EllapsedTime: 16.2 seconds
RetCode: 0
Status:  OK  
PackageFile: ccrepe_1.26.0.tar.gz
PackageFileSize: 292 KiB

Command output

##############################################################################
##############################################################################
###
### Running command:
###
###   chmod a+r ccrepe -R && C:\Users\biocbuild\bbs-3.12-bioc\R\bin\R.exe CMD build --keep-empty-dirs --no-resave-data ccrepe
###
##############################################################################
##############################################################################


* checking for file 'ccrepe/DESCRIPTION' ... OK
* preparing 'ccrepe':
* checking DESCRIPTION meta-information ... OK
* installing the package to build vignettes
* creating vignettes ... OK
* checking for LF line-endings in source and make files and shell scripts
* checking for empty or unneeded directories
* building 'ccrepe_1.26.0.tar.gz'