Back to Multiple platform build/check report for BioC 3.12
[A]BCDEFGHIJKLMNOPQRSTUVWXYZ

CHECK report for appreci8R on tokay1

This page was generated on 2020-08-06 12:07:47 -0400 (Thu, 06 Aug 2020).

TO THE DEVELOPERS/MAINTAINERS OF THE appreci8R PACKAGE: Please make sure to use the following settings in order to reproduce any error or warning you see on this page.
Package 73/1882HostnameOS / ArchINSTALLBUILDCHECKBUILD BIN
appreci8R 1.7.0
Sarah Sandmann
Snapshot Date: 2020-08-05 14:50:59 -0400 (Wed, 05 Aug 2020)
URL: https://git.bioconductor.org/packages/appreci8R
Branch: master
Last Commit: 8474b30
Last Changed Date: 2020-04-27 15:18:01 -0400 (Mon, 27 Apr 2020)
malbec1 Linux (Ubuntu 18.04.4 LTS) / x86_64  OK  OK  OK UNNEEDED, same version exists in internal repository
tokay1 Windows Server 2012 R2 Standard / x64  OK  OK [ OK ] OK UNNEEDED, same version exists in internal repository
merida1 macOS 10.14.6 Mojave / x86_64  OK  OK  OK  OK UNNEEDED, same version exists in internal repository

Summary

Package: appreci8R
Version: 1.7.0
Command: C:\Users\biocbuild\bbs-3.12-bioc\R\bin\R.exe CMD check --force-multiarch --install=check:appreci8R.install-out.txt --library=C:\Users\biocbuild\bbs-3.12-bioc\R\library --no-vignettes --timings appreci8R_1.7.0.tar.gz
StartedAt: 2020-08-06 04:56:17 -0400 (Thu, 06 Aug 2020)
EndedAt: 2020-08-06 05:05:13 -0400 (Thu, 06 Aug 2020)
EllapsedTime: 535.9 seconds
RetCode: 0
Status:  OK  
CheckDir: appreci8R.Rcheck
Warnings: 0

Command output

##############################################################################
##############################################################################
###
### Running command:
###
###   C:\Users\biocbuild\bbs-3.12-bioc\R\bin\R.exe CMD check --force-multiarch --install=check:appreci8R.install-out.txt --library=C:\Users\biocbuild\bbs-3.12-bioc\R\library --no-vignettes --timings appreci8R_1.7.0.tar.gz
###
##############################################################################
##############################################################################


* using log directory 'C:/Users/biocbuild/bbs-3.12-bioc/meat/appreci8R.Rcheck'
* using R version 4.0.2 (2020-06-22)
* using platform: x86_64-w64-mingw32 (64-bit)
* using session charset: ISO8859-1
* using option '--no-vignettes'
* checking for file 'appreci8R/DESCRIPTION' ... OK
* checking extension type ... Package
* this is package 'appreci8R' version '1.7.0'
* package encoding: UTF-8
* checking package namespace information ... OK
* checking package dependencies ... OK
* checking if this is a source package ... OK
* checking if there is a namespace ... OK
* checking for hidden files and directories ... OK
* checking for portable file names ... OK
* checking whether package 'appreci8R' can be installed ... OK
* checking installed package size ... OK
* checking package directory ... OK
* checking 'build' directory ... OK
* checking DESCRIPTION meta-information ... OK
* checking top-level files ... OK
* checking for left-over files ... OK
* checking index information ... OK
* checking package subdirectories ... OK
* checking R files for non-ASCII characters ... OK
* checking R files for syntax errors ... OK
* loading checks for arch 'i386'
** checking whether the package can be loaded ... OK
** checking whether the package can be loaded with stated dependencies ... OK
** checking whether the package can be unloaded cleanly ... OK
** checking whether the namespace can be loaded with stated dependencies ... OK
** checking whether the namespace can be unloaded cleanly ... OK
* loading checks for arch 'x64'
** checking whether the package can be loaded ... OK
** checking whether the package can be loaded with stated dependencies ... OK
** checking whether the package can be unloaded cleanly ... OK
** checking whether the namespace can be loaded with stated dependencies ... OK
** checking whether the namespace can be unloaded cleanly ... OK
* checking dependencies in R code ... OK
* checking S3 generic/method consistency ... OK
* checking replacement functions ... OK
* checking foreign function calls ... OK
* checking R code for possible problems ... OK
* checking Rd files ... OK
* checking Rd metadata ... OK
* checking Rd cross-references ... OK
* checking for missing documentation entries ... OK
* checking for code/documentation mismatches ... OK
* checking Rd \usage sections ... OK
* checking Rd contents ... OK
* checking for unstated dependencies in examples ... OK
* checking files in 'vignettes' ... OK
* checking examples ...
** running examples for arch 'i386' ... OK
** running examples for arch 'x64' ... OK
* checking for unstated dependencies in vignettes ... OK
* checking package vignettes in 'inst/doc' ... OK
* checking running R code from vignettes ... SKIPPED
* checking re-building of vignette outputs ... SKIPPED
* checking PDF version of manual ... OK
* DONE

Status: OK


Installation output

appreci8R.Rcheck/00install.out

##############################################################################
##############################################################################
###
### Running command:
###
###   C:\cygwin\bin\curl.exe -O https://malbec1.bioconductor.org/BBS/3.12/bioc/src/contrib/appreci8R_1.7.0.tar.gz && rm -rf appreci8R.buildbin-libdir && mkdir appreci8R.buildbin-libdir && C:\Users\biocbuild\bbs-3.12-bioc\R\bin\R.exe CMD INSTALL --merge-multiarch --build --library=appreci8R.buildbin-libdir appreci8R_1.7.0.tar.gz && C:\Users\biocbuild\bbs-3.12-bioc\R\bin\R.exe CMD INSTALL appreci8R_1.7.0.zip && rm appreci8R_1.7.0.tar.gz appreci8R_1.7.0.zip
###
##############################################################################
##############################################################################


  % Total    % Received % Xferd  Average Speed   Time    Time     Time  Current
                                 Dload  Upload   Total   Spent    Left  Speed

  0     0    0     0    0     0      0      0 --:--:-- --:--:-- --:--:--     0
100  728k  100  728k    0     0  16.4M      0 --:--:-- --:--:-- --:--:-- 18.2M

install for i386

* installing *source* package 'appreci8R' ...
** using staged installation
** R
** inst
** byte-compile and prepare package for lazy loading
No methods found in package 'IRanges' for request: 'values' when loading 'GenomicScores'
** help
*** installing help indices
  converting help for package 'appreci8R'
    finding HTML links ... done
    annotate                                html  
    appreci8R-package                       html  
    appreci8Rshiny                          html  
    combineOutput                           html  
    determineCharacteristics                html  
    evaluateCovAndBQ                        html  
    filterTarget                            html  
    finalFiltration                         html  
    normalize                               html  
** building package indices
** installing vignettes
** testing if installed package can be loaded from temporary location
No methods found in package 'IRanges' for request: 'values' when loading 'GenomicScores'
** testing if installed package can be loaded from final location
No methods found in package 'IRanges' for request: 'values' when loading 'GenomicScores'
** testing if installed package keeps a record of temporary installation path

install for x64

* installing *source* package 'appreci8R' ...
** testing if installed package can be loaded
No methods found in package 'IRanges' for request: 'values' when loading 'GenomicScores'
* MD5 sums
packaged installation of 'appreci8R' as appreci8R_1.7.0.zip
* DONE (appreci8R)
* installing to library 'C:/Users/biocbuild/bbs-3.12-bioc/R/library'
package 'appreci8R' successfully unpacked and MD5 sums checked

Tests output


Example timings

appreci8R.Rcheck/examples_i386/appreci8R-Ex.timings

nameusersystemelapsed
annotate0.190.020.20
appreci8R-package000
appreci8Rshiny000
combineOutput0.620.170.80
determineCharacteristics0.250.060.31
evaluateCovAndBQ0.200.080.28
filterTarget0.000.020.02
finalFiltration0.270.070.34
normalize0.020.000.02

appreci8R.Rcheck/examples_x64/appreci8R-Ex.timings

nameusersystemelapsed
annotate0.140.000.14
appreci8R-package000
appreci8Rshiny000
combineOutput1.520.031.54
determineCharacteristics0.140.000.14
evaluateCovAndBQ0.130.000.13
filterTarget000
finalFiltration0.190.000.18
normalize000