Back to Multiple platform build/check report for BioC 3.12
AB[C]DEFGHIJKLMNOPQRSTUVWXYZ

BUILD report for CGHnormaliter on malbec1

This page was generated on 2020-08-11 11:17:38 -0400 (Tue, 11 Aug 2020).

TO THE DEVELOPERS/MAINTAINERS OF THE CGHnormaliter PACKAGE: Please make sure to use the following settings in order to reproduce any error or warning you see on this page.
Package 259/1885HostnameOS / ArchINSTALLBUILDCHECKBUILD BIN
CGHnormaliter 1.43.0
Bart P.P. van Houte
Snapshot Date: 2020-08-10 14:50:56 -0400 (Mon, 10 Aug 2020)
URL: https://git.bioconductor.org/packages/CGHnormaliter
Branch: master
Last Commit: 56b60be
Last Changed Date: 2020-04-27 14:20:11 -0400 (Mon, 27 Apr 2020)
malbec1 Linux (Ubuntu 18.04.4 LTS) / x86_64  OK [ OK ] OK UNNEEDED, same version exists in internal repository
nebbiolo1 Linux (Ubuntu 20.04.1 LTS) / x86_64  OK  OK  NA 
tokay1 Windows Server 2012 R2 Standard / x64  OK  OK  OK  OK UNNEEDED, same version exists in internal repository
merida1 macOS 10.14.6 Mojave / x86_64  OK  OK  OK  OK UNNEEDED, same version exists in internal repository

Summary

Package: CGHnormaliter
Version: 1.43.0
Command: /home/biocbuild/bbs-3.12-bioc/R/bin/R CMD build --keep-empty-dirs --no-resave-data CGHnormaliter
StartedAt: 2020-08-10 17:57:44 -0400 (Mon, 10 Aug 2020)
EndedAt: 2020-08-10 17:58:52 -0400 (Mon, 10 Aug 2020)
EllapsedTime: 67.8 seconds
RetCode: 0
Status:  OK 
PackageFile: CGHnormaliter_1.43.0.tar.gz
PackageFileSize: 1.173 MiB

Command output

##############################################################################
##############################################################################
###
### Running command:
###
###   /home/biocbuild/bbs-3.12-bioc/R/bin/R CMD build --keep-empty-dirs --no-resave-data CGHnormaliter
###
##############################################################################
##############################################################################


* checking for file ‘CGHnormaliter/DESCRIPTION’ ... OK
* preparing ‘CGHnormaliter’:
* checking DESCRIPTION meta-information ... OK
* installing the package to build vignettes
* creating vignettes ... OK
* checking for LF line-endings in source and make files and shell scripts
* checking for empty or unneeded directories
* looking to see if a ‘data/datalist’ file should be added
* building ‘CGHnormaliter_1.43.0.tar.gz’