Back to Multiple platform build/check report for BioC 3.12
A[B]CDEFGHIJKLMNOPQRSTUVWXYZ

BUILD report for BiFET on malbec1

This page was generated on 2020-08-07 11:34:36 -0400 (Fri, 07 Aug 2020).

TO THE DEVELOPERS/MAINTAINERS OF THE BiFET PACKAGE: Please make sure to use the following settings in order to reproduce any error or warning you see on this page.
Package 138/1882HostnameOS / ArchINSTALLBUILDCHECKBUILD BIN
BiFET 1.9.0
Ahrim Youn
Snapshot Date: 2020-08-06 14:50:46 -0400 (Thu, 06 Aug 2020)
URL: https://git.bioconductor.org/packages/BiFET
Branch: master
Last Commit: a8b7789
Last Changed Date: 2020-04-27 15:13:03 -0400 (Mon, 27 Apr 2020)
malbec1 Linux (Ubuntu 18.04.4 LTS) / x86_64  OK [ OK ] OK UNNEEDED, same version exists in internal repository
tokay1 Windows Server 2012 R2 Standard / x64  OK  OK  OK  OK UNNEEDED, same version exists in internal repository
merida1 macOS 10.14.6 Mojave / x86_64  OK  OK  OK  OK UNNEEDED, same version exists in internal repository

Summary

Package: BiFET
Version: 1.9.0
Command: /home/biocbuild/bbs-3.12-bioc/R/bin/R CMD build --keep-empty-dirs --no-resave-data BiFET
StartedAt: 2020-08-06 20:44:23 -0400 (Thu, 06 Aug 2020)
EndedAt: 2020-08-06 20:45:32 -0400 (Thu, 06 Aug 2020)
EllapsedTime: 68.3 seconds
RetCode: 0
Status:  OK 
PackageFile: BiFET_1.9.0.tar.gz
PackageFileSize: 733.4 KiB

Command output

##############################################################################
##############################################################################
###
### Running command:
###
###   /home/biocbuild/bbs-3.12-bioc/R/bin/R CMD build --keep-empty-dirs --no-resave-data BiFET
###
##############################################################################
##############################################################################


* checking for file ‘BiFET/DESCRIPTION’ ... OK
* preparing ‘BiFET’:
* checking DESCRIPTION meta-information ... OK
* installing the package to build vignettes
* creating vignettes ... OK
* checking for LF line-endings in source and make files and shell scripts
* checking for empty or unneeded directories
* building ‘BiFET_1.9.0.tar.gz’