Back to Multiple platform build/check report for BioC 3.12
[A]BCDEFGHIJKLMNOPQRSTUVWXYZ

BUILD report for atSNP on merida1

This page was generated on 2020-10-14 11:24:35 -0400 (Wed, 14 Oct 2020).

TO THE DEVELOPERS/MAINTAINERS OF THE atSNP PACKAGE: Please make sure to use the following settings in order to reproduce any error or warning you see on this page.
Package 96/1930HostnameOS / ArchINSTALLBUILDCHECKBUILD BIN
atSNP 1.5.0
Sunyoung Shin
Snapshot Date: 2020-10-13 14:40:34 -0400 (Tue, 13 Oct 2020)
URL: https://git.bioconductor.org/packages/atSNP
Branch: master
Last Commit: 47ff98d
Last Changed Date: 2020-04-27 15:23:26 -0400 (Mon, 27 Apr 2020)
malbec1 Linux (Ubuntu 18.04.4 LTS) / x86_64  OK  ERROR  skipped 
nebbiolo1 Linux (Ubuntu 20.04.1 LTS) / x86_64  OK  ERROR  skipped 
tokay1 Windows Server 2012 R2 Standard / x64  OK  OK  OK  NA 
riesling1 Windows Server 2019 Standard / x64  OK  OK  OK  OK 
merida1 macOS 10.14.6 Mojave / x86_64  OK [ OK ] OK  NA 

Summary

Package: atSNP
Version: 1.5.0
Command: /Library/Frameworks/R.framework/Versions/Current/Resources/bin/R CMD build --keep-empty-dirs --no-resave-data atSNP
StartedAt: 2020-10-13 21:58:21 -0400 (Tue, 13 Oct 2020)
EndedAt: 2020-10-13 22:00:47 -0400 (Tue, 13 Oct 2020)
EllapsedTime: 145.2 seconds
RetCode: 0
Status:  OK 
PackageFile: atSNP_1.5.0.tar.gz
PackageFileSize: 855.2 KiB

Command output

##############################################################################
##############################################################################
###
### Running command:
###
###   /Library/Frameworks/R.framework/Versions/Current/Resources/bin/R CMD build --keep-empty-dirs --no-resave-data atSNP
###
##############################################################################
##############################################################################


* checking for file ‘atSNP/DESCRIPTION’ ... OK
* preparing ‘atSNP’:
* checking DESCRIPTION meta-information ... OK
* cleaning src
* installing the package to build vignettes
* creating vignettes ... OK
* cleaning src
* checking for LF line-endings in source and make files and shell scripts
* checking for empty or unneeded directories
* looking to see if a ‘data/datalist’ file should be added
* building ‘atSNP_1.5.0.tar.gz’