Back to Multiple platform build/check report for BioC 3.12
[A]BCDEFGHIJKLMNOPQRSTUVWXYZ

INSTALL report for AnnotationFuncs on tokay1

This page was generated on 2020-08-07 11:59:56 -0400 (Fri, 07 Aug 2020).

TO THE DEVELOPERS/MAINTAINERS OF THE AnnotationFuncs PACKAGE: Please make sure to use the following settings in order to reproduce any error or warning you see on this page.
Package 61/1882HostnameOS / ArchINSTALLBUILDCHECKBUILD BIN
AnnotationFuncs 1.39.0
Stefan McKinnon Edwards
Snapshot Date: 2020-08-06 14:50:46 -0400 (Thu, 06 Aug 2020)
URL: https://git.bioconductor.org/packages/AnnotationFuncs
Branch: master
Last Commit: be3ab30
Last Changed Date: 2020-04-27 14:24:47 -0400 (Mon, 27 Apr 2020)
malbec1 Linux (Ubuntu 18.04.4 LTS) / x86_64  OK  OK  OK UNNEEDED, same version exists in internal repository
tokay1 Windows Server 2012 R2 Standard / x64 [ OK ] OK  OK  OK UNNEEDED, same version exists in internal repository
merida1 macOS 10.14.6 Mojave / x86_64  OK  OK  OK  OK UNNEEDED, same version exists in internal repository

Summary

Package: AnnotationFuncs
Version: 1.39.0
Command: C:\cygwin\bin\curl.exe -O https://malbec1.bioconductor.org/BBS/3.12/bioc/src/contrib/AnnotationFuncs_1.39.0.tar.gz && rm -rf AnnotationFuncs.buildbin-libdir && mkdir AnnotationFuncs.buildbin-libdir && C:\Users\biocbuild\bbs-3.12-bioc\R\bin\R.exe CMD INSTALL --merge-multiarch --build --library=AnnotationFuncs.buildbin-libdir AnnotationFuncs_1.39.0.tar.gz && C:\Users\biocbuild\bbs-3.12-bioc\R\bin\R.exe CMD INSTALL AnnotationFuncs_1.39.0.zip && rm AnnotationFuncs_1.39.0.tar.gz AnnotationFuncs_1.39.0.zip
StartedAt: 2020-08-06 16:54:20 -0400 (Thu, 06 Aug 2020)
EndedAt: 2020-08-06 16:54:50 -0400 (Thu, 06 Aug 2020)
EllapsedTime: 30.3 seconds
RetCode: 0
Status:  OK  

Command output

##############################################################################
##############################################################################
###
### Running command:
###
###   C:\cygwin\bin\curl.exe -O https://malbec1.bioconductor.org/BBS/3.12/bioc/src/contrib/AnnotationFuncs_1.39.0.tar.gz && rm -rf AnnotationFuncs.buildbin-libdir && mkdir AnnotationFuncs.buildbin-libdir && C:\Users\biocbuild\bbs-3.12-bioc\R\bin\R.exe CMD INSTALL --merge-multiarch --build --library=AnnotationFuncs.buildbin-libdir AnnotationFuncs_1.39.0.tar.gz && C:\Users\biocbuild\bbs-3.12-bioc\R\bin\R.exe CMD INSTALL AnnotationFuncs_1.39.0.zip && rm AnnotationFuncs_1.39.0.tar.gz AnnotationFuncs_1.39.0.zip
###
##############################################################################
##############################################################################


  % Total    % Received % Xferd  Average Speed   Time    Time     Time  Current
                                 Dload  Upload   Total   Spent    Left  Speed

  0     0    0     0    0     0      0      0 --:--:-- --:--:-- --:--:--     0
100 22563  100 22563    0     0   295k      0 --:--:-- --:--:-- --:--:--  314k

install for i386

* installing *source* package 'AnnotationFuncs' ...
** using staged installation
** R
** inst
** byte-compile and prepare package for lazy loading
** help
*** installing help indices
  converting help for package 'AnnotationFuncs'
    finding HTML links ... done
    AnnotationFuncs-package                 html  
    dbEscapeString2                         html  
    getEvidenceCodes                        html  
    getOrthologs                            html  
    getTableName2                           html  
    mapLists                                html  
    pickGO                                  html  
    pickRef2                                html  
    pickRefSeq                              html  
    removeNAs                               html  
    translate                               html  
** building package indices
** installing vignettes
** testing if installed package can be loaded from temporary location
** testing if installed package can be loaded from final location
** testing if installed package keeps a record of temporary installation path

install for x64

* installing *source* package 'AnnotationFuncs' ...
** testing if installed package can be loaded
* MD5 sums
packaged installation of 'AnnotationFuncs' as AnnotationFuncs_1.39.0.zip
* DONE (AnnotationFuncs)
* installing to library 'C:/Users/biocbuild/bbs-3.12-bioc/R/library'
package 'AnnotationFuncs' successfully unpacked and MD5 sums checked