Back to Multiple platform build/check report for BioC 3.12
[A]BCDEFGHIJKLMNOPQRSTUVWXYZ

INSTALL report for AffyRNADegradation on tokay1

This page was generated on 2020-08-06 11:54:13 -0400 (Thu, 06 Aug 2020).

TO THE DEVELOPERS/MAINTAINERS OF THE AffyRNADegradation PACKAGE: Please make sure to use the following settings in order to reproduce any error or warning you see on this page.
Package 35/1882HostnameOS / ArchINSTALLBUILDCHECKBUILD BIN
AffyRNADegradation 1.35.0
Mario Fasold
Snapshot Date: 2020-08-05 14:50:59 -0400 (Wed, 05 Aug 2020)
URL: https://git.bioconductor.org/packages/AffyRNADegradation
Branch: master
Last Commit: a30a663
Last Changed Date: 2020-04-27 14:28:04 -0400 (Mon, 27 Apr 2020)
malbec1 Linux (Ubuntu 18.04.4 LTS) / x86_64  OK  OK  OK UNNEEDED, same version exists in internal repository
tokay1 Windows Server 2012 R2 Standard / x64 [ OK ] OK  OK  OK UNNEEDED, same version exists in internal repository
merida1 macOS 10.14.6 Mojave / x86_64  OK  OK  OK  OK UNNEEDED, same version exists in internal repository

Summary

Package: AffyRNADegradation
Version: 1.35.0
Command: C:\cygwin\bin\curl.exe -O https://malbec1.bioconductor.org/BBS/3.12/bioc/src/contrib/AffyRNADegradation_1.35.0.tar.gz && rm -rf AffyRNADegradation.buildbin-libdir && mkdir AffyRNADegradation.buildbin-libdir && C:\Users\biocbuild\bbs-3.12-bioc\R\bin\R.exe CMD INSTALL --merge-multiarch --build --library=AffyRNADegradation.buildbin-libdir AffyRNADegradation_1.35.0.tar.gz && C:\Users\biocbuild\bbs-3.12-bioc\R\bin\R.exe CMD INSTALL AffyRNADegradation_1.35.0.zip && rm AffyRNADegradation_1.35.0.tar.gz AffyRNADegradation_1.35.0.zip
StartedAt: 2020-08-05 16:57:17 -0400 (Wed, 05 Aug 2020)
EndedAt: 2020-08-05 16:57:57 -0400 (Wed, 05 Aug 2020)
EllapsedTime: 40.4 seconds
RetCode: 0
Status:  OK  

Command output

##############################################################################
##############################################################################
###
### Running command:
###
###   C:\cygwin\bin\curl.exe -O https://malbec1.bioconductor.org/BBS/3.12/bioc/src/contrib/AffyRNADegradation_1.35.0.tar.gz && rm -rf AffyRNADegradation.buildbin-libdir && mkdir AffyRNADegradation.buildbin-libdir && C:\Users\biocbuild\bbs-3.12-bioc\R\bin\R.exe CMD INSTALL --merge-multiarch --build --library=AffyRNADegradation.buildbin-libdir AffyRNADegradation_1.35.0.tar.gz && C:\Users\biocbuild\bbs-3.12-bioc\R\bin\R.exe CMD INSTALL AffyRNADegradation_1.35.0.zip && rm AffyRNADegradation_1.35.0.tar.gz AffyRNADegradation_1.35.0.zip
###
##############################################################################
##############################################################################


  % Total    % Received % Xferd  Average Speed   Time    Time     Time  Current
                                 Dload  Upload   Total   Spent    Left  Speed

  0     0    0     0    0     0      0      0 --:--:-- --:--:-- --:--:--     0
100 12137  100 12137    0     0   287k      0 --:--:-- --:--:-- --:--:--  320k

install for i386

* installing *source* package 'AffyRNADegradation' ...
** using staged installation
** R
** inst
** byte-compile and prepare package for lazy loading
** help
*** installing help indices
  converting help for package 'AffyRNADegradation'
    finding HTML links ... done
    AffyDegradationBatch-class              html  
    AffyRNADegradation-package              html  
    AffyRNADegradation                      html  
    GetTongs                                html  
** building package indices
** installing vignettes
** testing if installed package can be loaded from temporary location
** testing if installed package can be loaded from final location
** testing if installed package keeps a record of temporary installation path

install for x64

* installing *source* package 'AffyRNADegradation' ...
** testing if installed package can be loaded
* MD5 sums
packaged installation of 'AffyRNADegradation' as AffyRNADegradation_1.35.0.zip
* DONE (AffyRNADegradation)
* installing to library 'C:/Users/biocbuild/bbs-3.12-bioc/R/library'
package 'AffyRNADegradation' successfully unpacked and MD5 sums checked