Back to Multiple platform build/check report for BioC 3.12
[A]BCDEFGHIJKLMNOPQRSTUVWXYZ

BUILD report for a4Base on tokay1

This page was generated on 2020-08-11 11:38:11 -0400 (Tue, 11 Aug 2020).

TO THE DEVELOPERS/MAINTAINERS OF THE a4Base PACKAGE: Please make sure to use the following settings in order to reproduce any error or warning you see on this page.
Package 2/1885HostnameOS / ArchINSTALLBUILDCHECKBUILD BIN
a4Base 1.37.0
Tobias Verbeke
Snapshot Date: 2020-08-10 14:50:56 -0400 (Mon, 10 Aug 2020)
URL: https://git.bioconductor.org/packages/a4Base
Branch: master
Last Commit: a12798d
Last Changed Date: 2020-04-27 14:25:17 -0400 (Mon, 27 Apr 2020)
malbec1 Linux (Ubuntu 18.04.4 LTS) / x86_64  OK  OK  WARNINGS UNNEEDED, same version exists in internal repository
nebbiolo1 Linux (Ubuntu 20.04.1 LTS) / x86_64  OK  OK  NA 
tokay1 Windows Server 2012 R2 Standard / x64  OK [ OK ] ERROR  OK 
merida1 macOS 10.14.6 Mojave / x86_64  OK  OK  WARNINGS  OK UNNEEDED, same version exists in internal repository

Summary

Package: a4Base
Version: 1.37.0
Command: chmod a+r a4Base -R && C:\Users\biocbuild\bbs-3.12-bioc\R\bin\R.exe CMD build --keep-empty-dirs --no-resave-data a4Base
StartedAt: 2020-08-10 19:35:05 -0400 (Mon, 10 Aug 2020)
EndedAt: 2020-08-10 19:35:14 -0400 (Mon, 10 Aug 2020)
EllapsedTime: 8.6 seconds
RetCode: 0
Status:  OK  
PackageFile: a4Base_1.37.0.tar.gz
PackageFileSize: 348.9 KiB

Command output

##############################################################################
##############################################################################
###
### Running command:
###
###   chmod a+r a4Base -R && C:\Users\biocbuild\bbs-3.12-bioc\R\bin\R.exe CMD build --keep-empty-dirs --no-resave-data a4Base
###
##############################################################################
##############################################################################


* checking for file 'a4Base/DESCRIPTION' ... OK
* preparing 'a4Base':
* checking DESCRIPTION meta-information ... OK
* checking for LF line-endings in source and make files and shell scripts
* checking for empty or unneeded directories
* looking to see if a 'data/datalist' file should be added
* building 'a4Base_1.37.0.tar.gz'