Back to Multiple platform build/check report for BioC 3.12
[A]BCDEFGHIJKLMNOPQRSTUVWXYZ

BUILD BIN report for AnVIL on tokay1

This page was generated on 2020-10-25 12:05:59 -0400 (Sun, 25 Oct 2020).

TO THE DEVELOPERS/MAINTAINERS OF THE AnVIL PACKAGE: Please make sure to use the following settings in order to reproduce any error or warning you see on this page.
Package 73/1974HostnameOS / ArchINSTALLBUILDCHECKBUILD BIN
AnVIL 1.1.23
Martin Morgan
Snapshot Date: 2020-10-24 14:40:19 -0400 (Sat, 24 Oct 2020)
URL: https://git.bioconductor.org/packages/AnVIL
Branch: master
Last Commit: 986ae49
Last Changed Date: 2020-10-09 11:06:16 -0400 (Fri, 09 Oct 2020)
malbec1 Linux (Ubuntu 18.04.4 LTS) / x86_64  OK  OK  OK UNNEEDED, same version exists in internal repository
nebbiolo1 Linux (Ubuntu 20.04.1 LTS) / x86_64  OK  OK  OK 
tokay1 Windows Server 2012 R2 Standard / x64  OK  OK  OK [ OK ]UNNEEDED, same version exists in internal repository
riesling1 Windows Server 2019 Standard / x64  OK  OK  OK  OK 
merida1 macOS 10.14.6 Mojave / x86_64  OK  OK  OK  OK UNNEEDED, same version exists in internal repository

Summary

Package: AnVIL
Version: 1.1.23
Command: rm -rf AnVIL.buildbin-libdir && mkdir AnVIL.buildbin-libdir && C:\Users\biocbuild\bbs-3.12-bioc\R\bin\R.exe CMD INSTALL --merge-multiarch --build --library=AnVIL.buildbin-libdir AnVIL_1.1.23.tar.gz
StartedAt: 2020-10-25 08:17:21 -0400 (Sun, 25 Oct 2020)
EndedAt: 2020-10-25 08:18:22 -0400 (Sun, 25 Oct 2020)
EllapsedTime: 61.4 seconds
RetCode: 0
Status:  OK  
PackageFile: AnVIL_1.1.23.zip
PackageFileSize: 709.1 KiB

Command output

##############################################################################
##############################################################################
###
### Running command:
###
###   rm -rf AnVIL.buildbin-libdir && mkdir AnVIL.buildbin-libdir && C:\Users\biocbuild\bbs-3.12-bioc\R\bin\R.exe CMD INSTALL --merge-multiarch --build --library=AnVIL.buildbin-libdir AnVIL_1.1.23.tar.gz
###
##############################################################################
##############################################################################



install for i386

* installing *source* package 'AnVIL' ...
** using staged installation
** R
** inst
** byte-compile and prepare package for lazy loading
** help
*** installing help indices
  converting help for package 'AnVIL'
    finding HTML links ... done
    Response                                html  
    Service                                 html  
    Services                                html  
    av                                      html  
    avworkflow                              html  
    drs                                     html  
    gcloud                                  html  
    gsutil                                  html  
    localize                                html  
** building package indices
** installing vignettes
** testing if installed package can be loaded from temporary location
** testing if installed package can be loaded from final location
** testing if installed package keeps a record of temporary installation path

install for x64

* installing *source* package 'AnVIL' ...
** testing if installed package can be loaded
* MD5 sums
packaged installation of 'AnVIL' as AnVIL_1.1.23.zip
* DONE (AnVIL)