Back to Multiple platform build/check report for BioC 3.12
A[B]CDEFGHIJKLMNOPQRSTUVWXYZ

BUILD BIN report for biosigner on tokay1

This page was generated on 2020-08-07 12:08:43 -0400 (Fri, 07 Aug 2020).

TO THE DEVELOPERS/MAINTAINERS OF THE biosigner PACKAGE: Please make sure to use the following settings in order to reproduce any error or warning you see on this page.
Package 176/1882HostnameOS / ArchINSTALLBUILDCHECKBUILD BIN
biosigner 1.17.0
Philippe Rinaudo , Etienne Thevenot
Snapshot Date: 2020-08-06 14:50:46 -0400 (Thu, 06 Aug 2020)
URL: https://git.bioconductor.org/packages/biosigner
Branch: master
Last Commit: a227d42
Last Changed Date: 2020-04-27 14:55:12 -0400 (Mon, 27 Apr 2020)
malbec1 Linux (Ubuntu 18.04.4 LTS) / x86_64  OK  OK  WARNINGS UNNEEDED, same version exists in internal repository
tokay1 Windows Server 2012 R2 Standard / x64  OK  OK  WARNINGS [ OK ]UNNEEDED, same version exists in internal repository
merida1 macOS 10.14.6 Mojave / x86_64  OK  OK  WARNINGS  OK UNNEEDED, same version exists in internal repository

Summary

Package: biosigner
Version: 1.17.0
Command: rm -rf biosigner.buildbin-libdir && mkdir biosigner.buildbin-libdir && C:\Users\biocbuild\bbs-3.12-bioc\R\bin\R.exe CMD INSTALL --merge-multiarch --build --library=biosigner.buildbin-libdir biosigner_1.17.0.tar.gz
StartedAt: 2020-08-07 07:57:52 -0400 (Fri, 07 Aug 2020)
EndedAt: 2020-08-07 07:59:11 -0400 (Fri, 07 Aug 2020)
EllapsedTime: 78.5 seconds
RetCode: 0
Status:  OK  
PackageFile: biosigner_1.17.0.zip
PackageFileSize: 3.908 MiB

Command output

##############################################################################
##############################################################################
###
### Running command:
###
###   rm -rf biosigner.buildbin-libdir && mkdir biosigner.buildbin-libdir && C:\Users\biocbuild\bbs-3.12-bioc\R\bin\R.exe CMD INSTALL --merge-multiarch --build --library=biosigner.buildbin-libdir biosigner_1.17.0.tar.gz
###
##############################################################################
##############################################################################



install for i386

* installing *source* package 'biosigner' ...
** using staged installation
** R
** data
** inst
** byte-compile and prepare package for lazy loading
in method for 'biosign' with signature 'x="MultiDataSet"': no definition for class "MultiDataSet"
** help
*** installing help indices
  converting help for package 'biosigner'
    finding HTML links ... done
    biosign-class                           html  
    biosign                                 html  
    biosignMultiDataSet-class               html  
    biosigner-package                       html  
    diaplasma                               html  
    getAccuracyMN                           html  
    getEset                                 html  
    getMset                                 html  
    getSignatureLs                          html  
    plot                                    html  
    predict                                 html  
    show                                    html  
** building package indices
** installing vignettes
** testing if installed package can be loaded from temporary location
** testing if installed package can be loaded from final location
** testing if installed package keeps a record of temporary installation path

install for x64

* installing *source* package 'biosigner' ...
** testing if installed package can be loaded
* MD5 sums
packaged installation of 'biosigner' as biosigner_1.17.0.zip
* DONE (biosigner)