Back to Multiple platform build/check report for BioC 3.12 |
|
This page was generated on 2021-05-06 12:32:17 -0400 (Thu, 06 May 2021).
To the developers/maintainers of the miRNApath package: Please make sure to use the following settings in order to reproduce any error or warning you see on this page. |
Package 1114/1974 | Hostname | OS / Arch | INSTALL | BUILD | CHECK | BUILD BIN | ||||||||
miRNApath 1.50.0 (landing page) James M. Ward
| malbec1 | Linux (Ubuntu 18.04.5 LTS) / x86_64 | OK | OK | OK | |||||||||
tokay1 | Windows Server 2012 R2 Standard / x64 | OK | OK | OK | OK | |||||||||
merida1 | macOS 10.14.6 Mojave / x86_64 | OK | OK | OK | OK | |||||||||
Package: miRNApath |
Version: 1.50.0 |
Command: rm -rf miRNApath.buildbin-libdir && mkdir miRNApath.buildbin-libdir && C:\Users\biocbuild\bbs-3.12-bioc\R\bin\R.exe CMD INSTALL --merge-multiarch --build --library=miRNApath.buildbin-libdir miRNApath_1.50.0.tar.gz |
StartedAt: 2021-05-06 09:32:44 -0400 (Thu, 06 May 2021) |
EndedAt: 2021-05-06 09:33:14 -0400 (Thu, 06 May 2021) |
EllapsedTime: 30.7 seconds |
RetCode: 0 |
Status: OK |
PackageFile: miRNApath_1.50.0.zip |
PackageFileSize: 782.9 KiB |
############################################################################## ############################################################################## ### ### Running command: ### ### rm -rf miRNApath.buildbin-libdir && mkdir miRNApath.buildbin-libdir && C:\Users\biocbuild\bbs-3.12-bioc\R\bin\R.exe CMD INSTALL --merge-multiarch --build --library=miRNApath.buildbin-libdir miRNApath_1.50.0.tar.gz ### ############################################################################## ############################################################################## install for i386 * installing *source* package 'miRNApath' ... ** using staged installation ** R ** data ** inst ** byte-compile and prepare package for lazy loading ** help *** installing help indices converting help for package 'miRNApath' finding HTML links ... done checkColumns html convertFoldChange html filtermirnapath html loadmirnapath html loadmirnapathways html loadmirnatogene html miRNApath-package html mirnaTable html mirnaobj html mirnapath-class html runEnrichment html ** building package indices ** installing vignettes ** testing if installed package can be loaded from temporary location ** testing if installed package can be loaded from final location ** testing if installed package keeps a record of temporary installation path install for x64 * installing *source* package 'miRNApath' ... ** testing if installed package can be loaded * MD5 sums packaged installation of 'miRNApath' as miRNApath_1.50.0.zip * DONE (miRNApath)