Back to Multiple platform build/check report for BioC 3.12
A[B]CDEFGHIJKLMNOPQRSTUVWXYZ

BUILD report for BitSeq on merida1

This page was generated on 2020-08-11 11:54:14 -0400 (Tue, 11 Aug 2020).

TO THE DEVELOPERS/MAINTAINERS OF THE BitSeq PACKAGE: Please make sure to use the following settings in order to reproduce any error or warning you see on this page.
Package 184/1885HostnameOS / ArchINSTALLBUILDCHECKBUILD BIN
BitSeq 1.33.1
Antti Honkela , Panagiotis Papastamoulis
Snapshot Date: 2020-08-10 14:50:56 -0400 (Mon, 10 Aug 2020)
URL: https://git.bioconductor.org/packages/BitSeq
Branch: master
Last Commit: a27c864
Last Changed Date: 2020-07-14 16:10:37 -0400 (Tue, 14 Jul 2020)
malbec1 Linux (Ubuntu 18.04.4 LTS) / x86_64  OK  OK  WARNINGS UNNEEDED, same version exists in internal repository
nebbiolo1 Linux (Ubuntu 20.04.1 LTS) / x86_64  OK  OK  NA 
tokay1 Windows Server 2012 R2 Standard / x64  OK  OK  WARNINGS  OK UNNEEDED, same version exists in internal repository
merida1 macOS 10.14.6 Mojave / x86_64  OK [ OK ] WARNINGS  OK UNNEEDED, same version exists in internal repository

Summary

Package: BitSeq
Version: 1.33.1
Command: /Library/Frameworks/R.framework/Versions/Current/Resources/bin/R CMD build --keep-empty-dirs --no-resave-data BitSeq
StartedAt: 2020-08-10 18:45:35 -0400 (Mon, 10 Aug 2020)
EndedAt: 2020-08-10 18:47:38 -0400 (Mon, 10 Aug 2020)
EllapsedTime: 122.9 seconds
RetCode: 0
Status:  OK 
PackageFile: BitSeq_1.33.1.tar.gz
PackageFileSize: 1.168 MiB

Command output

##############################################################################
##############################################################################
###
### Running command:
###
###   /Library/Frameworks/R.framework/Versions/Current/Resources/bin/R CMD build --keep-empty-dirs --no-resave-data BitSeq
###
##############################################################################
##############################################################################


* checking for file ‘BitSeq/DESCRIPTION’ ... OK
* preparing ‘BitSeq’:
* checking DESCRIPTION meta-information ... OK
* cleaning src
* running ‘cleanup’
* installing the package to build vignettes
* creating vignettes ... OK
* cleaning src
* running ‘cleanup’
* checking for LF line-endings in source and make files and shell scripts
* checking for empty or unneeded directories
* building ‘BitSeq_1.33.1.tar.gz’