Back to Multiple platform build/check report for BioC 3.12
[A]BCDEFGHIJKLMNOPQRSTUVWXYZ

BUILD BIN report for ADAMgui on merida1

This page was generated on 2021-01-24 11:56:34 -0500 (Sun, 24 Jan 2021).

TO THE DEVELOPERS/MAINTAINERS OF THE ADAMgui PACKAGE: Please make sure to use the following settings in order to reproduce any error or warning you see on this page.
Package 17/1974HostnameOS / ArchINSTALLBUILDCHECKBUILD BIN
ADAMgui 1.6.0
Jose Luiz Rybarczyk Filho
Snapshot Date: 2021-01-23 14:40:16 -0500 (Sat, 23 Jan 2021)
URL: https://git.bioconductor.org/packages/ADAMgui
Branch: RELEASE_3_12
Last Commit: 75782fe
Last Changed Date: 2020-10-27 11:45:19 -0500 (Tue, 27 Oct 2020)
malbec1 Linux (Ubuntu 18.04.5 LTS) / x86_64  OK  OK  OK UNNEEDED, same version exists in internal repository
nebbiolo1 Linux (Ubuntu 20.04.1 LTS) / x86_64  OK  OK  OK 
tokay1 Windows Server 2012 R2 Standard / x64  OK  OK  OK  OK UNNEEDED, same version exists in internal repository
merida1 macOS 10.14.6 Mojave / x86_64  OK  OK  OK [ OK ]UNNEEDED, same version exists in internal repository

Summary

Package: ADAMgui
Version: 1.6.0
Command: rm -rf ADAMgui.buildbin-libdir && mkdir ADAMgui.buildbin-libdir && /Users/biocbuild/BBS/utils/build-universal.sh ADAMgui_1.6.0.tar.gz /Library/Frameworks/R.framework/Versions/Current/Resources/bin/R ADAMgui.buildbin-libdir
StartedAt: 2021-01-24 06:49:49 -0500 (Sun, 24 Jan 2021)
EndedAt: 2021-01-24 06:50:51 -0500 (Sun, 24 Jan 2021)
EllapsedTime: 61.8 seconds
RetCode: 0
Status:  OK 
PackageFile: ADAMgui_1.6.0.tgz
PackageFileSize: 1.1 MiB

Command output

##############################################################################
##############################################################################
###
### Running command:
###
###   rm -rf ADAMgui.buildbin-libdir && mkdir ADAMgui.buildbin-libdir && /Users/biocbuild/BBS/utils/build-universal.sh ADAMgui_1.6.0.tar.gz /Library/Frameworks/R.framework/Versions/Current/Resources/bin/R ADAMgui.buildbin-libdir
###
##############################################################################
##############################################################################


>>>>>>> 
>>>>>>> INSTALLATION WITH 'R CMD INSTALL --preclean --no-multiarch --library=ADAMgui.buildbin-libdir ADAMgui_1.6.0.tar.gz'
>>>>>>> 

* installing *source* package ‘ADAMgui’ ...
** using staged installation
** R
** data
** inst
** byte-compile and prepare package for lazy loading
** help
*** installing help indices
** building package indices
** installing vignettes
** testing if installed package can be loaded from temporary location
** testing if installed package can be loaded from final location
** testing if installed package keeps a record of temporary installation path
* DONE (ADAMgui)