Back to Multiple platform build/check report for BioC 3.12
AB[C]DEFGHIJKLMNOPQRSTUVWXYZ

INSTALL report for cellity on tokay1

This page was generated on 2021-02-22 12:37:20 -0500 (Mon, 22 Feb 2021).

To the developers/maintainers of the cellity package:
Please make sure to use the following settings in order to reproduce any error or warning you see on this page.
Package 253/1974HostnameOS / ArchINSTALLBUILDCHECKBUILD BIN
cellity 1.18.0
Tomislav Ilicic
Snapshot Date: 2021-02-21 14:52:07 -0500 (Sun, 21 Feb 2021)
URL: https://git.bioconductor.org/packages/cellity
Branch: RELEASE_3_12
Last Commit: 65b7ecd
Last Changed Date: 2020-10-27 11:11:33 -0500 (Tue, 27 Oct 2020)
malbec1Linux (Ubuntu 18.04.5 LTS) / x86_64  OK    OK    OK  UNNEEDED, same version exists in internal repository
nebbiolo1Linux (Ubuntu 20.04.2 LTS) / x86_64  OK    OK    OK  
tokay1Windows Server 2012 R2 Standard / x64  OK    OK    OK    OK  UNNEEDED, same version exists in internal repository
merida1macOS 10.14.6 Mojave / x86_64  OK    OK    OK    OK  UNNEEDED, same version exists in internal repository

Summary

Package: cellity
Version: 1.18.0
Command: C:\cygwin\bin\curl.exe -O https://malbec1.bioconductor.org/BBS/3.12/bioc/src/contrib/cellity_1.18.0.tar.gz && rm -rf cellity.buildbin-libdir && mkdir cellity.buildbin-libdir && C:\Users\biocbuild\bbs-3.12-bioc\R\bin\R.exe CMD INSTALL --merge-multiarch --build --library=cellity.buildbin-libdir cellity_1.18.0.tar.gz && C:\Users\biocbuild\bbs-3.12-bioc\R\bin\R.exe CMD INSTALL cellity_1.18.0.zip && rm cellity_1.18.0.tar.gz cellity_1.18.0.zip
StartedAt: 2021-02-21 19:18:31 -0500 (Sun, 21 Feb 2021)
EndedAt: 2021-02-21 19:19:38 -0500 (Sun, 21 Feb 2021)
EllapsedTime: 66.5 seconds
RetCode: 0
Status:   OK   

Command output

##############################################################################
##############################################################################
###
### Running command:
###
###   C:\cygwin\bin\curl.exe -O https://malbec1.bioconductor.org/BBS/3.12/bioc/src/contrib/cellity_1.18.0.tar.gz && rm -rf cellity.buildbin-libdir && mkdir cellity.buildbin-libdir && C:\Users\biocbuild\bbs-3.12-bioc\R\bin\R.exe CMD INSTALL --merge-multiarch --build --library=cellity.buildbin-libdir cellity_1.18.0.tar.gz && C:\Users\biocbuild\bbs-3.12-bioc\R\bin\R.exe CMD INSTALL cellity_1.18.0.zip && rm cellity_1.18.0.tar.gz cellity_1.18.0.zip
###
##############################################################################
##############################################################################


  % Total    % Received % Xferd  Average Speed   Time    Time     Time  Current
                                 Dload  Upload   Total   Spent    Left  Speed

  0     0    0     0    0     0      0      0 --:--:-- --:--:-- --:--:--     0
100  824k  100  824k    0     0  17.8M      0 --:--:-- --:--:-- --:--:-- 19.6M

install for i386

* installing *source* package 'cellity' ...
** using staged installation
** R
** data
*** moving datasets to lazyload DB
** inst
** byte-compile and prepare package for lazy loading
** help
*** installing help indices
  converting help for package 'cellity'
    finding HTML links ... done
    assess_cell_quality_PCA                 html  
    assess_cell_quality_SVM                 html  
    cellity-package                         html  
    extra_human_genes                       html  
    extra_mouse_genes                       html  
    extract_features                        html  
    feature_generation                      html  
    feature_info                            html  
    mES1_features                           html  
    mES1_labels                             html  
    multiplot                               html  
    normalise_by_factor                     html  
    param_mES_all                           html  
    param_mES_common                        html  
    plot_pca                                html  
    sample_counts                           html  
    sample_stats                            html  
    simple_cap                              html  
    sum_prop                                html  
    training_mES_features                   html  
    training_mES_labels                     html  
    uni.plot                                html  
** building package indices
** installing vignettes
** testing if installed package can be loaded from temporary location
** testing if installed package can be loaded from final location
** testing if installed package keeps a record of temporary installation path

install for x64

* installing *source* package 'cellity' ...
** testing if installed package can be loaded
* MD5 sums
packaged installation of 'cellity' as cellity_1.18.0.zip
* DONE (cellity)
* installing to library 'C:/Users/biocbuild/bbs-3.12-bioc/R/library'
package 'cellity' successfully unpacked and MD5 sums checked