Back to Multiple platform build/check report for BioC 3.12
A[B]CDEFGHIJKLMNOPQRSTUVWXYZ

BUILD BIN report for basilisk.utils on merida1

This page was generated on 2020-08-06 12:29:49 -0400 (Thu, 06 Aug 2020).

TO THE DEVELOPERS/MAINTAINERS OF THE basilisk.utils PACKAGE: Please make sure to use the following settings in order to reproduce any error or warning you see on this page.
Package 115/1882HostnameOS / ArchINSTALLBUILDCHECKBUILD BIN
basilisk.utils 1.1.7
Aaron Lun
Snapshot Date: 2020-08-05 14:50:59 -0400 (Wed, 05 Aug 2020)
URL: https://git.bioconductor.org/packages/basilisk.utils
Branch: master
Last Commit: e87edf5
Last Changed Date: 2020-05-25 02:54:20 -0400 (Mon, 25 May 2020)
malbec1 Linux (Ubuntu 18.04.4 LTS) / x86_64  OK  OK  OK UNNEEDED, same version exists in internal repository
tokay1 Windows Server 2012 R2 Standard / x64  OK  OK  OK  OK UNNEEDED, same version exists in internal repository
merida1 macOS 10.14.6 Mojave / x86_64  OK  OK  OK [ OK ]UNNEEDED, same version exists in internal repository

Summary

Package: basilisk.utils
Version: 1.1.7
Command: rm -rf basilisk.utils.buildbin-libdir && mkdir basilisk.utils.buildbin-libdir && /Users/biocbuild/BBS/utils/build-universal.sh basilisk.utils_1.1.7.tar.gz /Library/Frameworks/R.framework/Versions/Current/Resources/bin/R basilisk.utils.buildbin-libdir
StartedAt: 2020-08-06 07:58:12 -0400 (Thu, 06 Aug 2020)
EndedAt: 2020-08-06 07:59:09 -0400 (Thu, 06 Aug 2020)
EllapsedTime: 57.2 seconds
RetCode: 0
Status:  OK 
PackageFile: basilisk.utils_1.1.7.tgz
PackageFileSize: 266.9 KiB

Command output

##############################################################################
##############################################################################
###
### Running command:
###
###   rm -rf basilisk.utils.buildbin-libdir && mkdir basilisk.utils.buildbin-libdir && /Users/biocbuild/BBS/utils/build-universal.sh basilisk.utils_1.1.7.tar.gz /Library/Frameworks/R.framework/Versions/Current/Resources/bin/R basilisk.utils.buildbin-libdir
###
##############################################################################
##############################################################################


>>>>>>> 
>>>>>>> INSTALLATION WITH 'R CMD INSTALL --preclean --no-multiarch --library=basilisk.utils.buildbin-libdir basilisk.utils_1.1.7.tar.gz'
>>>>>>> 

* installing *source* package ‘basilisk.utils’ ...
** using staged installation
** R
** inst
** byte-compile and prepare package for lazy loading
** help
*** installing help indices
** building package indices
** installing vignettes
** testing if installed package can be loaded from temporary location
** testing if installed package can be loaded from final location
** testing if installed package keeps a record of temporary installation path
* DONE (basilisk.utils)