Back to Multiple platform build/check report for BioC 3.12
AB[C]DEFGHIJKLMNOPQRSTUVWXYZ

BUILD report for CHARGE on tokay1

This page was generated on 2020-08-07 12:13:39 -0400 (Fri, 07 Aug 2020).

TO THE DEVELOPERS/MAINTAINERS OF THE CHARGE PACKAGE: Please make sure to use the following settings in order to reproduce any error or warning you see on this page.
Package 262/1882HostnameOS / ArchINSTALLBUILDCHECKBUILD BIN
CHARGE 1.9.1
Benjamin Mayne
Snapshot Date: 2020-08-06 14:50:46 -0400 (Thu, 06 Aug 2020)
URL: https://git.bioconductor.org/packages/CHARGE
Branch: master
Last Commit: eadf39e
Last Changed Date: 2020-06-08 10:06:16 -0400 (Mon, 08 Jun 2020)
malbec1 Linux (Ubuntu 18.04.4 LTS) / x86_64  ERROR  ERROR  skipped 
tokay1 Windows Server 2012 R2 Standard / x64  ERROR [ ERROR ] skipped  skipped 
merida1 macOS 10.14.6 Mojave / x86_64  ERROR  ERROR  skipped  skipped 

Summary

Package: CHARGE
Version: 1.9.1
Command: chmod a+r CHARGE -R && C:\Users\biocbuild\bbs-3.12-bioc\R\bin\R.exe CMD build --keep-empty-dirs --no-resave-data CHARGE
StartedAt: 2020-08-06 21:56:39 -0400 (Thu, 06 Aug 2020)
EndedAt: 2020-08-06 21:56:41 -0400 (Thu, 06 Aug 2020)
EllapsedTime: 2.0 seconds
RetCode: 1
Status:  ERROR  
PackageFile: CHARGE_1.9.1.tar.gz
PackageFileSize: 841 KiB

Command output

##############################################################################
##############################################################################
###
### Running command:
###
###   chmod a+r CHARGE -R && C:\Users\biocbuild\bbs-3.12-bioc\R\bin\R.exe CMD build --keep-empty-dirs --no-resave-data CHARGE
###
##############################################################################
##############################################################################


* checking for file 'CHARGE/DESCRIPTION' ... OK
* preparing 'CHARGE':
* checking DESCRIPTION meta-information ... OK
* installing the package to build vignettes
      -----------------------------------
ERROR: dependency 'modes' is not available for package 'CHARGE'
* removing 'C:/Users/biocbuild/bbs-3.12-bioc/tmpdir/RtmpcjcMmK/Rinst168822bb58e0/CHARGE'
      -----------------------------------
ERROR: package installation failed