Back to Multiple platform build/check report for BioC 3.12
ABCD[E]FGHIJKLMNOPQRSTUVWXYZ

Multiple platform build/check report for BioC 3.12

Results for evaluomeR

This page was generated on 2021-01-19 11:51:09 -0500 (Tue, 19 Jan 2021).

Package 572/1974HostnameOS / ArchINSTALLBUILDCHECKBUILD BIN
evaluomeR 1.6.2
José Antonio Bernabé-Díaz
Snapshot Date: 2021-01-18 14:42:24 -0500 (Mon, 18 Jan 2021)
URL: https://git.bioconductor.org/packages/evaluomeR
Branch: RELEASE_3_12
Last Commit: f1d96ac
Last Changed Date: 2021-01-16 07:40:34 -0500 (Sat, 16 Jan 2021)
malbec1 Linux (Ubuntu 18.04.5 LTS) / x86_64  OK  OK  OK UNNEEDED, same version exists in internal repository
nebbiolo1 Linux (Ubuntu 20.04.1 LTS) / x86_64  OK  OK  OK 
tokay1 Windows Server 2012 R2 Standard / x64  OK  OK  OK  OK UNNEEDED, same version exists in internal repository
merida1 macOS 10.14.6 Mojave / x86_64  OK  OK  OK  OK UNNEEDED, same version exists in internal repository