Back to Multiple platform build/check report for BioC 3.12
[A]BCDEFGHIJKLMNOPQRSTUVWXYZ

BUILD BIN report for AffyCompatible on tokay1

This page was generated on 2021-01-25 11:52:09 -0500 (Mon, 25 Jan 2021).

TO THE DEVELOPERS/MAINTAINERS OF THE AffyCompatible PACKAGE: Please make sure to use the following settings in order to reproduce any error or warning you see on this page.
Package 26/1974HostnameOS / ArchINSTALLBUILDCHECKBUILD BIN
AffyCompatible 1.50.0
Martin Morgan
Snapshot Date: 2021-01-24 14:40:16 -0500 (Sun, 24 Jan 2021)
URL: https://git.bioconductor.org/packages/AffyCompatible
Branch: RELEASE_3_12
Last Commit: 3b12d12
Last Changed Date: 2020-10-27 10:33:21 -0500 (Tue, 27 Oct 2020)
malbec1 Linux (Ubuntu 18.04.5 LTS) / x86_64  OK  OK  OK UNNEEDED, same version exists in internal repository
nebbiolo1 Linux (Ubuntu 20.04.1 LTS) / x86_64  OK  OK  OK 
tokay1 Windows Server 2012 R2 Standard / x64  OK  OK  OK [ OK ]UNNEEDED, same version exists in internal repository
merida1 macOS 10.14.6 Mojave / x86_64  OK  OK  OK  OK UNNEEDED, same version exists in internal repository

Summary

Package: AffyCompatible
Version: 1.50.0
Command: rm -rf AffyCompatible.buildbin-libdir && mkdir AffyCompatible.buildbin-libdir && C:\Users\biocbuild\bbs-3.12-bioc\R\bin\R.exe CMD INSTALL --merge-multiarch --build --library=AffyCompatible.buildbin-libdir AffyCompatible_1.50.0.tar.gz
StartedAt: 2021-01-25 08:35:10 -0500 (Mon, 25 Jan 2021)
EndedAt: 2021-01-25 08:36:11 -0500 (Mon, 25 Jan 2021)
EllapsedTime: 60.6 seconds
RetCode: 0
Status:  OK  
PackageFile: AffyCompatible_1.50.0.zip
PackageFileSize: 2.023 MiB

Command output

##############################################################################
##############################################################################
###
### Running command:
###
###   rm -rf AffyCompatible.buildbin-libdir && mkdir AffyCompatible.buildbin-libdir && C:\Users\biocbuild\bbs-3.12-bioc\R\bin\R.exe CMD INSTALL --merge-multiarch --build --library=AffyCompatible.buildbin-libdir AffyCompatible_1.50.0.tar.gz
###
##############################################################################
##############################################################################



install for i386

* installing *source* package 'AffyCompatible' ...
** using staged installation
** R
** inst
** byte-compile and prepare package for lazy loading
** help
*** installing help indices
  converting help for package 'AffyCompatible'
    finding HTML links ... done
    AffyCompatible-class                    html  
    AffyCompatible-package                  html  
    NetAffxResource-class                   html  
    NetAffxResource                         html  
    accessors-NetAffxResource               html  
    readArr                                 html  
    readMage                                html  
    readNetAffx                             html  
    readXml                                 html  
    xclass                                  html  
    zzz-.TypedAssociation-class             html  
    zzz-ARRCompatibility-class              html  
    zzz-DTTCompatibility-class              html  
    zzz-NetAffxCompatibility-class          html  
    zzz                                     html  
** building package indices
** installing vignettes
** testing if installed package can be loaded from temporary location
** testing if installed package can be loaded from final location
** testing if installed package keeps a record of temporary installation path

install for x64

* installing *source* package 'AffyCompatible' ...
** testing if installed package can be loaded
* MD5 sums
packaged installation of 'AffyCompatible' as AffyCompatible_1.50.0.zip
* DONE (AffyCompatible)