Back to Multiple platform build/check report for BioC 3.12
AB[C]DEFGHIJKLMNOPQRSTUVWXYZ

INSTALL report for CHETAH on tokay1

This page was generated on 2021-04-14 12:10:40 -0400 (Wed, 14 Apr 2021).

To the developers/maintainers of the CHETAH package:
Please make sure to use the following settings in order to reproduce any error or warning you see on this page.
Package 277/1974HostnameOS / ArchINSTALLBUILDCHECKBUILD BIN
CHETAH 1.6.0  (landing page)
Jurrian de Kanter
Snapshot Date: 2021-04-13 14:50:13 -0400 (Tue, 13 Apr 2021)
URL: https://git.bioconductor.org/packages/CHETAH
Branch: RELEASE_3_12
Last Commit: cd3dd78
Last Changed Date: 2020-10-27 11:43:50 -0400 (Tue, 27 Oct 2020)
malbec1Linux (Ubuntu 18.04.5 LTS) / x86_64  OK    OK    OK  UNNEEDED, same version exists in internal repository
tokay1Windows Server 2012 R2 Standard / x64  OK    OK    OK    OK  UNNEEDED, same version exists in internal repository
merida1macOS 10.14.6 Mojave / x86_64  OK    OK    OK    OK  UNNEEDED, same version exists in internal repository

Summary

Package: CHETAH
Version: 1.6.0
Command: C:\cygwin\bin\curl.exe -O http://172.29.0.3/BBS/3.12/bioc/src/contrib/CHETAH_1.6.0.tar.gz && rm -rf CHETAH.buildbin-libdir && mkdir CHETAH.buildbin-libdir && C:\Users\biocbuild\bbs-3.12-bioc\R\bin\R.exe CMD INSTALL --merge-multiarch --build --library=CHETAH.buildbin-libdir CHETAH_1.6.0.tar.gz && C:\Users\biocbuild\bbs-3.12-bioc\R\bin\R.exe CMD INSTALL CHETAH_1.6.0.zip && rm CHETAH_1.6.0.tar.gz CHETAH_1.6.0.zip
StartedAt: 2021-04-13 18:51:37 -0400 (Tue, 13 Apr 2021)
EndedAt: 2021-04-13 18:52:51 -0400 (Tue, 13 Apr 2021)
EllapsedTime: 73.1 seconds
RetCode: 0
Status:   OK   

Command output

##############################################################################
##############################################################################
###
### Running command:
###
###   C:\cygwin\bin\curl.exe -O http://172.29.0.3/BBS/3.12/bioc/src/contrib/CHETAH_1.6.0.tar.gz && rm -rf CHETAH.buildbin-libdir && mkdir CHETAH.buildbin-libdir && C:\Users\biocbuild\bbs-3.12-bioc\R\bin\R.exe CMD INSTALL --merge-multiarch --build --library=CHETAH.buildbin-libdir CHETAH_1.6.0.tar.gz && C:\Users\biocbuild\bbs-3.12-bioc\R\bin\R.exe CMD INSTALL CHETAH_1.6.0.zip && rm CHETAH_1.6.0.tar.gz CHETAH_1.6.0.zip
###
##############################################################################
##############################################################################


  % Total    % Received % Xferd  Average Speed   Time    Time     Time  Current
                                 Dload  Upload   Total   Spent    Left  Speed

  0     0    0     0    0     0      0      0 --:--:-- --:--:-- --:--:--     0
100 3652k  100 3652k    0     0  38.9M      0 --:--:-- --:--:-- --:--:-- 39.6M

install for i386

* installing *source* package 'CHETAH' ...
** using staged installation
** R
** data
*** moving datasets to lazyload DB
** inst
** byte-compile and prepare package for lazy loading
** help
*** installing help indices
  converting help for package 'CHETAH'
    finding HTML links ... done
    CHETAHclassifier                        html  
    CHETAHshiny                             html  
    Classify                                html  
    ClassifyReference                       html  
    CorrelateReference                      html  
    PlotCHETAH                              html  
    PlotTSNE                                html  
    PlotTree                                html  
    RenameBelowNode                         html  
    headneck_ref                            html  
    input_mel                               html  
** building package indices
** installing vignettes
** testing if installed package can be loaded from temporary location
** testing if installed package can be loaded from final location
** testing if installed package keeps a record of temporary installation path

install for x64

* installing *source* package 'CHETAH' ...
** testing if installed package can be loaded
* MD5 sums
packaged installation of 'CHETAH' as CHETAH_1.6.0.zip
* DONE (CHETAH)
* installing to library 'C:/Users/biocbuild/bbs-3.12-bioc/R/library'
package 'CHETAH' successfully unpacked and MD5 sums checked