Back to Multiple platform build/check report for BioC 3.12
[A]BCDEFGHIJKLMNOPQRSTUVWXYZ

BUILD report for abseqR on merida1

This page was generated on 2020-10-24 11:07:40 -0400 (Sat, 24 Oct 2020).

TO THE DEVELOPERS/MAINTAINERS OF THE abseqR PACKAGE: Please make sure to use the following settings in order to reproduce any error or warning you see on this page.
Package 9/1974HostnameOS / ArchINSTALLBUILDCHECKBUILD BIN
abseqR 1.7.0
JiaHong Fong
Snapshot Date: 2020-10-23 14:40:36 -0400 (Fri, 23 Oct 2020)
URL: https://git.bioconductor.org/packages/abseqR
Branch: master
Last Commit: 8a4126d
Last Changed Date: 2020-04-27 15:21:22 -0400 (Mon, 27 Apr 2020)
malbec1 Linux (Ubuntu 18.04.4 LTS) / x86_64  OK  OK  OK UNNEEDED, same version exists in internal repository
nebbiolo1 Linux (Ubuntu 20.04.1 LTS) / x86_64  OK  OK  OK 
tokay1 Windows Server 2012 R2 Standard / x64  OK  OK  OK  OK UNNEEDED, same version exists in internal repository
riesling1 Windows Server 2019 Standard / x64  OK  OK  OK  OK 
merida1 macOS 10.14.6 Mojave / x86_64  OK [ OK ] OK  OK UNNEEDED, same version exists in internal repository

Summary

Package: abseqR
Version: 1.7.0
Command: /Library/Frameworks/R.framework/Versions/Current/Resources/bin/R CMD build --keep-empty-dirs --no-resave-data abseqR
StartedAt: 2020-10-23 18:07:15 -0400 (Fri, 23 Oct 2020)
EndedAt: 2020-10-23 18:12:17 -0400 (Fri, 23 Oct 2020)
EllapsedTime: 302.1 seconds
RetCode: 0
Status:  OK 
PackageFile: abseqR_1.7.0.tar.gz
PackageFileSize: 1.234 MiB

Command output

##############################################################################
##############################################################################
###
### Running command:
###
###   /Library/Frameworks/R.framework/Versions/Current/Resources/bin/R CMD build --keep-empty-dirs --no-resave-data abseqR
###
##############################################################################
##############################################################################


* checking for file ‘abseqR/DESCRIPTION’ ... OK
* preparing ‘abseqR’:
* checking DESCRIPTION meta-information ... OK
* installing the package to build vignettes
* creating vignettes ... OK
* checking for LF line-endings in source and make files and shell scripts
* checking for empty or unneeded directories
* building ‘abseqR_1.7.0.tar.gz’